PDS_VERSION_ID = PDS3
/* FILE DATA ELEMENTS */
RECORD_TYPE = UNDEFINED
/* POINTERS TO DATA OBJECTS */
^IMAGE = ("H3149_0000_S24.TIF")
/* IDENTIFICATION DATA ELEMENTS */
DATA_SET_ID = "MEX-M-HRSC-4-REFDR-MAPPROJECT-EXT1-V4.0"
DATA_SET_NAME = "MARS EXPRESS HRSC MAP PROJECTED REFDR EXTENSION1 V4.0"
DETECTOR_ID = MEX_HRSC_S2
EVENT_TYPE = "MARS-REGIONAL-MAPPING-Im-Fl-Eo"
INSTRUMENT_HOST_ID = MEX
INSTRUMENT_HOST_NAME = "MARS EXPRESS"
INSTRUMENT_ID = HRSC
INSTRUMENT_NAME = "HIGH RESOLUTION STEREO CAMERA"
MISSION_NAME = "MARS EXPRESS"
MISSION_PHASE_NAME = ME_Phase_3
PROCESSING_LEVEL_ID = 4
PRODUCT_CREATION_TIME = 2023-02-09T11:24:25.000Z
PRODUCT_ID = "H3149_0000_S24.TIF"
RELEASE_ID = 0003
REVISION_ID = 0000
/* QUALITY DATA ELEMENTS */
DATA_QUALITY_ID = 1
DATA_QUALITY_DESC = "Data calculated based on original SPICE kernels"
/* TIME DATA ELEMENTS */
SPACECRAFT_CLOCK_START_COUNT = "1/0099138007.08414"
SPACECRAFT_CLOCK_STOP_COUNT = "1/0099138319.12706"
START_TIME = 2006-06-23T10:21:34.583Z
STOP_TIME = 2006-06-23T10:25:22.555Z
/* ORBITAL DATA ELEMENTS */
ASCENDING_NODE_LONGITUDE = 162.14
MAXIMUM_RESOLUTION = 0.0392
FOOTPRINT_POINT_LATITUDE = (-8.91421,-8.9143,-8.91364,-8.91087, -8.90842,-8.90473,-8.90451,-8.91256, -9.54749,-10.09,-10.6388,-11.1939, -11.4168,-11.6389,-11.8636,-12.0897, -12.5326,-12.7618,-12.9907,-13.2226, -13.5695,-13.9212,-14.1558,-14.393, -14.6318,-14.8698,-15.1126,-15.3546, -15.5986,-15.8417,-16.2099,-16.4568, -16.8353,-17.0888,-17.3398,-17.7216, -17.9757,-18.3632,-18.7527,-19.1439, -19.407,-19.6716,-20.072,-20.3396, -20.7467,-20.8823,-20.9284,-20.9356, -20.9424,-20.947,-20.9468,-20.9465, -20.9394,-20.9391,-20.9383,-20.5318, -20.2596,-19.9906,-19.724,-19.458, -19.1946,-18.932,-18.6708,-18.2854, -18.0277,-17.7715,-17.5162,-17.2637, -17.0133,-16.6379,-16.3837,-16.1368, -15.8895,-15.6459,-15.4014,-15.1608, -14.921,-14.6852,-14.3285,-14.0903, -13.8554,-13.6194,-13.3868,-13.1552, -12.9249,-12.6992,-12.4763,-12.2463, -12.0179,-11.6783,-11.4559,-11.2336, -10.7978,-10.5753,-10.1374,-9.81185, -9.38241,-9.06443,-8.9579,-8.91421)
FOOTPRINT_POINT_LONGITUDE = (131.223,130.857,130.603,130.158, 129.903,129.601,129.585,129.582,129.561 ,129.544,129.527,129.51,129.502,129.494 ,129.486,129.478,129.459,129.45,129.442 ,129.433,129.42,129.406,129.397,129.387 ,129.378,129.368,129.359,129.349, 129.339,129.328,129.312,129.301,129.286 ,129.276,129.264,129.247,129.234, 129.216,129.198,129.178,129.165,129.151 ,129.131,129.116,129.095,129.088, 129.085,129.543,130.072,130.529,130.794 ,131.058,131.54,131.564,131.572,131.555 ,131.545,131.534,131.523,131.513, 131.502,131.492,131.483,131.468,131.458 ,131.45,131.441,131.432,131.423,131.411 ,131.405,131.398,131.39,131.383,131.376 ,131.369,131.361,131.353,131.343, 131.338,131.331,131.326,131.32,131.314, 131.308,131.301,131.294,131.289,131.285 ,131.277,131.272,131.267,131.256, 131.252,131.244,131.238,131.23,131.223, 131.221,131.223)
ORBIT_NUMBER = 3149
ORBITAL_ECCENTRICITY = 0.57
ORBITAL_INCLINATION = 86.65
ORBITAL_SEMIMAJOR_AXIS = 8619.79
PERIAPSIS_ALTITUDE = 309.25
PERIAPSIS_ARGUMENT_ANGLE = 164.62
PERIAPSIS_TIME = 2006-06-23T10:14:33.000Z
SPACECRAFT_ORIENTATION = (0.0,-1.0,0.0)
^MEX_ORIENTATION_DESC = "MEX_ORIENTATION_DESC.TXT"
SPACECRAFT_POINTING_MODE = NADIR
^MEX_POINTING_DESC = "MEX_POINTING_DESC.TXT"
RIGHT_ASCENSION = -1e+32
DECLINATION = -1e+32
OFFSET_ANGLE = -1e+32
SPACECRAFT_SOLAR_DISTANCE = 2.49229e+08
TARGET_NAME = MARS
/* CAMERA DATA ELEMENTS */
DETECTOR_TEMPERATURE = 18.5744
FOCAL_PLANE_TEMPERATURE = 7.7677
INST_CMPRS_NAME = "DISCRETE COSINE TRANSFORMATION (DCT)"
INST_CMPRS_RATIO = 8.63698
INST_CMPRS_QUALITY = 0
INST_CMPRS_QUANTZ_TBL_ID = 0
INSTRUMENT_TEMPERATURE = 9.8067
LENS_TEMPERATURE = 8.5833
MACROPIXEL_SIZE = 2
MISSING_FRAMES = 0
PIXEL_SUBSAMPLING_FLAG = N
SIGNAL_CHAIN_ID = 1
/* RADIOMETRIC DATA ELEMENTS */
BANDWIDTH = 178.0
CENTER_FILTER_WAVELENGTH = 679.0
RADIANCE_OFFSET = 0.676504
RADIANCE_SCALING_FACTOR = 0.0194992
REFLECTANCE_SCALING_FACTOR = 0.000641427
MEX:REFLECTANCE_OFFSET = 0.0222536
/* IMAGE OBJECT DEFINITIONS */
OBJECT = IMAGE
  INTERCHANGE_FORMAT = BINARY
  LINES = 28539
  LINE_SAMPLES = 4894
  SAMPLE_TYPE = UNSIGNED_INTEGER
  SAMPLE_BITS = 8
  BANDS = 1
  BAND_STORAGE_TYPE = BAND_SEQUENTIAL
  MAXIMUM = 255
  MEAN = 93.7515
  MINIMUM = 1
  STANDARD_DEVIATION = 26.4322
END_OBJECT = IMAGE
/* MAP OBJECT DEFINITIONS */
OBJECT = IMAGE_MAP_PROJECTION
  ^DATA_SET_MAP_PROJECTION_CATALOG= "DSMAP.CAT"
  A_AXIS_RADIUS = 3396.0
  B_AXIS_RADIUS = 3396.0
  C_AXIS_RADIUS = 3396.0
  CENTER_LATITUDE = 0.0
  CENTER_LONGITUDE = 130.0
  COORDINATE_SYSTEM_NAME = PLANETOGRAPHIC
  COORDINATE_SYSTEM_TYPE = "BODY-FIXED ROTATING"
  EASTERNMOST_LONGITUDE = 131.572
  FIRST_STANDARD_PARALLEL = "N/A"
  LINE_FIRST_PIXEL = 1
  LINE_LAST_PIXEL = 28539
  LINE_PROJECTION_OFFSET = -21133.75
  MAP_PROJECTION_ROTATION = 0.0
  MAP_PROJECTION_TYPE = SINUSOIDAL
  MAP_RESOLUTION = 2370.85521546667
  MAP_SCALE = 0.025
  MAXIMUM_LATITUDE = -8.90451
  MINIMUM_LATITUDE = -20.947
  POSITIVE_LONGITUDE_DIRECTION = EAST
  REFERENCE_LATITUDE = "N/A"
  REFERENCE_LONGITUDE = "N/A"
  SAMPLE_FIRST_PIXEL = 1
  SAMPLE_LAST_PIXEL = 4894
  SAMPLE_PROJECTION_OFFSET = 1701.25
  SECOND_STANDARD_PARALLEL = "N/A"
  WESTERNMOST_LONGITUDE = 129.085
END_OBJECT = IMAGE_MAP_PROJECTION
END
