PDS_VERSION_ID = PDS3
/* FILE DATA ELEMENTS */
RECORD_TYPE = UNDEFINED
/* POINTERS TO DATA OBJECTS */
^IMAGE = ("H3151_0000_BL4.TIF")
/* IDENTIFICATION DATA ELEMENTS */
DATA_SET_ID = "MEX-M-HRSC-4-REFDR-MAPPROJECT-EXT1-V4.0"
DATA_SET_NAME = "MARS EXPRESS HRSC MAP PROJECTED REFDR EXTENSION1 V4.0"
DETECTOR_ID = MEX_HRSC_BLUE
EVENT_TYPE = "MARS-REGIONAL-MAPPING-Te-Fl-Gl"
INSTRUMENT_HOST_ID = MEX
INSTRUMENT_HOST_NAME = "MARS EXPRESS"
INSTRUMENT_ID = HRSC
INSTRUMENT_NAME = "HIGH RESOLUTION STEREO CAMERA"
MISSION_NAME = "MARS EXPRESS"
MISSION_PHASE_NAME = ME_Phase_3
PROCESSING_LEVEL_ID = 4
PRODUCT_CREATION_TIME = 2023-02-09T11:24:25.000Z
PRODUCT_ID = "H3151_0000_BL4.TIF"
RELEASE_ID = 0003
REVISION_ID = 0000
/* QUALITY DATA ELEMENTS */
DATA_QUALITY_ID = 1
DATA_QUALITY_DESC = "Data calculated based on original SPICE kernels"
/* TIME DATA ELEMENTS */
SPACECRAFT_CLOCK_START_COUNT = "1/0099185753.07284"
SPACECRAFT_CLOCK_STOP_COUNT = "1/0099186002.47361"
START_TIME = 2006-06-23T23:36:40.117Z
STOP_TIME = 2006-06-23T23:39:43.210Z
/* ORBITAL DATA ELEMENTS */
ASCENDING_NODE_LONGITUDE = 162.1
MAXIMUM_RESOLUTION = 0.1009
FOOTPRINT_POINT_LATITUDE = (32.6061,32.6016,32.5941,32.5876, 32.5874,32.5927,32.3575,32.1221,31.8862 ,31.5323,31.2967,30.9422,30.5873, 30.2323,29.9954,29.521,29.1652,28.8088, 28.5713,28.3335,28.0955,27.8574,27.6192 ,27.3809,27.1427,26.9048,26.6641, 26.3047,26.0656,25.7069,25.3478,25.1082 ,24.7487,24.5091,24.2693,24.0297, 23.6698,23.4293,23.1889,22.9502,22.7104 ,22.3507,21.9869,21.7463,21.387,20.8061 ,20.6898,20.6679,20.6697,20.6709, 20.6724,20.6724,20.674,21.3717,21.6102, 21.8521,22.0918,22.3344,22.5763,22.8158 ,23.0565,23.2946,23.5349,23.7752, 24.0154,24.2556,24.4957,24.7358,24.9757 ,25.2156,25.4553,25.695,25.9345,26.1742 ,26.4153,26.6552,26.8938,27.2518, 27.4906,27.7292,27.9678,28.2063,28.4446 ,28.6827,29.0399,29.2779,29.5156, 29.7528,30.1087,30.3458,30.701,30.938, 31.1745,31.411,31.6476,31.8839,32.1197, 32.4735,32.5913,32.6061)
FOOTPRINT_POINT_LONGITUDE = (294.555,294.051,293.477,293.084,293.07 ,293.049,293.059,293.068,293.078, 293.092,293.1,293.114,293.127,293.139, 293.147,293.163,293.174,293.185,293.191 ,293.198,293.205,293.211,293.217, 293.224,293.229,293.234,293.243,293.254 ,293.26,293.268,293.276,293.281,293.289 ,293.293,293.298,293.302,293.309, 293.314,293.318,293.32,293.323,293.327, 293.338,293.341,293.346,293.354,293.355 ,293.355,293.659,293.921,294.499,294.51 ,294.517,294.519,294.52,294.523,294.522 ,294.526,294.529,294.528,294.529, 294.526,294.527,294.528,294.529,294.529 ,294.531,294.532,294.533,294.534, 294.535,294.536,294.537,294.538,294.542 ,294.545,294.545,294.546,294.547, 294.547,294.549,294.55,294.551,294.552, 294.554,294.555,294.556,294.556,294.558 ,294.559,294.56,294.561,294.562,294.563 ,294.565,294.566,294.567,294.569,294.57 ,294.555)
ORBIT_NUMBER = 3151
ORBITAL_ECCENTRICITY = 0.57
ORBITAL_INCLINATION = 86.66
ORBITAL_SEMIMAJOR_AXIS = 8619.87
PERIAPSIS_ALTITUDE = 309.34
PERIAPSIS_ARGUMENT_ANGLE = 164.27
PERIAPSIS_TIME = 2006-06-23T23:40:54.000Z
SPACECRAFT_ORIENTATION = (0.0,-1.0,0.0)
^MEX_ORIENTATION_DESC = "MEX_ORIENTATION_DESC.TXT"
SPACECRAFT_POINTING_MODE = NADIR
^MEX_POINTING_DESC = "MEX_POINTING_DESC.TXT"
RIGHT_ASCENSION = -1e+32
DECLINATION = -1e+32
OFFSET_ANGLE = -1e+32
SPACECRAFT_SOLAR_DISTANCE = 2.49231e+08
TARGET_NAME = MARS
/* CAMERA DATA ELEMENTS */
DETECTOR_TEMPERATURE = 18.1666
FOCAL_PLANE_TEMPERATURE = 7.9716
INST_CMPRS_NAME = "DISCRETE COSINE TRANSFORMATION (DCT)"
INST_CMPRS_RATIO = 14.4808
INST_CMPRS_QUALITY = 0
INST_CMPRS_QUANTZ_TBL_ID = 0
INSTRUMENT_TEMPERATURE = 11.0301
LENS_TEMPERATURE = 8.1755
MACROPIXEL_SIZE = 8
MISSING_FRAMES = 0
PIXEL_SUBSAMPLING_FLAG = N
SIGNAL_CHAIN_ID = 2
/* RADIOMETRIC DATA ELEMENTS */
BANDWIDTH = 76.0
CENTER_FILTER_WAVELENGTH = 444.0
RADIANCE_OFFSET = 0.519685
RADIANCE_SCALING_FACTOR = 0.00203798
REFLECTANCE_SCALING_FACTOR = 0.000130066
MEX:REFLECTANCE_OFFSET = 0.0331667
/* IMAGE OBJECT DEFINITIONS */
OBJECT = IMAGE
  INTERCHANGE_FORMAT = BINARY
  LINES = 7078
  LINE_SAMPLES = 779
  SAMPLE_TYPE = UNSIGNED_INTEGER
  SAMPLE_BITS = 8
  BANDS = 1
  BAND_STORAGE_TYPE = BAND_SEQUENTIAL
  MAXIMUM = 255
  MEAN = 133.863
  MINIMUM = 1
  STANDARD_DEVIATION = 23.1066
END_OBJECT = IMAGE
/* MAP OBJECT DEFINITIONS */
OBJECT = IMAGE_MAP_PROJECTION
  ^DATA_SET_MAP_PROJECTION_CATALOG= "DSMAP.CAT"
  A_AXIS_RADIUS = 3396.0
  B_AXIS_RADIUS = 3396.0
  C_AXIS_RADIUS = 3396.0
  CENTER_LATITUDE = 0.0
  CENTER_LONGITUDE = 294.0
  COORDINATE_SYSTEM_NAME = PLANETOGRAPHIC
  COORDINATE_SYSTEM_TYPE = "BODY-FIXED ROTATING"
  EASTERNMOST_LONGITUDE = 294.57
  FIRST_STANDARD_PARALLEL = "N/A"
  LINE_FIRST_PIXEL = 1
  LINE_LAST_PIXEL = 7078
  LINE_PROJECTION_OFFSET = 19335.3125
  MAP_PROJECTION_ROTATION = 0.0
  MAP_PROJECTION_TYPE = SINUSOIDAL
  MAP_RESOLUTION = 592.713803866667
  MAP_SCALE = 0.1
  MAXIMUM_LATITUDE = 32.6061
  MINIMUM_LATITUDE = 20.6679
  POSITIVE_LONGITUDE_DIRECTION = EAST
  REFERENCE_LATITUDE = "N/A"
  REFERENCE_LONGITUDE = "N/A"
  SAMPLE_FIRST_PIXEL = 1
  SAMPLE_LAST_PIXEL = 779
  SAMPLE_PROJECTION_OFFSET = 486.0625
  SECOND_STANDARD_PARALLEL = "N/A"
  WESTERNMOST_LONGITUDE = 293.049
END_OBJECT = IMAGE_MAP_PROJECTION
END
