PDS_VERSION_ID = PDS3
/* FILE DATA ELEMENTS */
RECORD_TYPE = UNDEFINED
/* POINTERS TO DATA OBJECTS */
^IMAGE = ("H3151_0000_GR4.TIF")
/* IDENTIFICATION DATA ELEMENTS */
DATA_SET_ID = "MEX-M-HRSC-4-REFDR-MAPPROJECT-EXT1-V4.0"
DATA_SET_NAME = "MARS EXPRESS HRSC MAP PROJECTED REFDR EXTENSION1 V4.0"
DETECTOR_ID = MEX_HRSC_GREEN
EVENT_TYPE = "MARS-REGIONAL-MAPPING-Te-Fl-Gl"
INSTRUMENT_HOST_ID = MEX
INSTRUMENT_HOST_NAME = "MARS EXPRESS"
INSTRUMENT_ID = HRSC
INSTRUMENT_NAME = "HIGH RESOLUTION STEREO CAMERA"
MISSION_NAME = "MARS EXPRESS"
MISSION_PHASE_NAME = ME_Phase_3
PROCESSING_LEVEL_ID = 4
PRODUCT_CREATION_TIME = 2023-02-09T11:24:25.000Z
PRODUCT_ID = "H3151_0000_GR4.TIF"
RELEASE_ID = 0003
REVISION_ID = 0000
/* QUALITY DATA ELEMENTS */
DATA_QUALITY_ID = 1
DATA_QUALITY_DESC = "Data calculated based on original SPICE kernels"
/* TIME DATA ELEMENTS */
SPACECRAFT_CLOCK_START_COUNT = "1/0099185753.07284"
SPACECRAFT_CLOCK_STOP_COUNT = "1/0099186002.47361"
START_TIME = 2006-06-23T23:36:28.634Z
STOP_TIME = 2006-06-23T23:39:33.652Z
/* ORBITAL DATA ELEMENTS */
ASCENDING_NODE_LONGITUDE = 162.1
MAXIMUM_RESOLUTION = 0.1013
FOOTPRINT_POINT_LATITUDE = (32.6142,32.6088,32.6032,32.5954, 32.5952,32.5868,32.1243,31.6612,31.1963 ,30.7312,30.4983,30.2651,30.0316, 29.7979,29.4473,29.0957,28.7439,28.5089 ,28.274,28.0387,27.8034,27.5678,27.332, 27.0958,26.7413,26.5074,26.271,26.0344, 25.7976,25.5607,25.3236,24.9679,24.7304 ,24.3737,24.136,23.8977,23.5406,23.3027 ,23.0634,22.7047,22.4653,22.1092, 21.8707,21.6316,21.3924,21.1531,20.7944 ,20.6788,20.6725,20.6751,20.6761, 20.6764,20.6764,20.6779,20.9129,21.1525 ,21.3921,21.6316,21.99,22.2295,22.4659, 22.7055,22.9442,23.1842,23.5429,23.7813 ,24.0196,24.2577,24.4957,24.7335, 24.9712,25.2086,25.5647,25.8018,26.0388 ,26.2752,26.6285,26.8653,27.2202, 27.4563,27.6923,27.9279,28.1635,28.3988 ,28.634,28.869,29.1036,29.4554,29.69, 29.9242,30.1582,30.3921,30.6257,30.8589 ,31.0921,31.5575,32.0221,32.4857, 32.6015,32.6142)
FOOTPRINT_POINT_LONGITUDE = (294.566,293.954,293.528,293.072, 293.058,293.037,293.057,293.076,293.093 ,293.111,293.12,293.128,293.136,293.144 ,293.156,293.167,293.178,293.184, 293.191,293.198,293.205,293.211,293.217 ,293.223,293.231,293.242,293.248, 293.254,293.259,293.265,293.27,293.278, 293.283,293.29,293.295,293.299,293.306, 293.311,293.314,293.318,293.321,293.331 ,293.335,293.339,293.342,293.346,293.35 ,293.352,293.352,293.8,294.128,294.501, 294.512,294.52,294.52,294.521,294.522, 294.523,294.525,294.525,294.532,294.531 ,294.533,294.531,294.531,294.532, 294.533,294.534,294.535,294.536,294.537 ,294.538,294.54,294.542,294.543,294.545 ,294.55,294.551,294.552,294.553,294.554 ,294.555,294.556,294.557,294.559,294.56 ,294.562,294.564,294.564,294.565, 294.566,294.567,294.568,294.57,294.571, 294.574,294.577,294.579,294.58,294.566)
ORBIT_NUMBER = 3151
ORBITAL_ECCENTRICITY = 0.57
ORBITAL_INCLINATION = 86.66
ORBITAL_SEMIMAJOR_AXIS = 8619.87
PERIAPSIS_ALTITUDE = 309.34
PERIAPSIS_ARGUMENT_ANGLE = 164.27
PERIAPSIS_TIME = 2006-06-23T23:40:54.000Z
SPACECRAFT_ORIENTATION = (0.0,-1.0,0.0)
^MEX_ORIENTATION_DESC = "MEX_ORIENTATION_DESC.TXT"
SPACECRAFT_POINTING_MODE = NADIR
^MEX_POINTING_DESC = "MEX_POINTING_DESC.TXT"
RIGHT_ASCENSION = -1e+32
DECLINATION = -1e+32
OFFSET_ANGLE = -1e+32
SPACECRAFT_SOLAR_DISTANCE = 2.49231e+08
TARGET_NAME = MARS
/* CAMERA DATA ELEMENTS */
DETECTOR_TEMPERATURE = 18.1666
FOCAL_PLANE_TEMPERATURE = 7.9716
INST_CMPRS_NAME = "DISCRETE COSINE TRANSFORMATION (DCT)"
INST_CMPRS_RATIO = 10.807
INST_CMPRS_QUALITY = 0
INST_CMPRS_QUANTZ_TBL_ID = 0
INSTRUMENT_TEMPERATURE = 11.0301
LENS_TEMPERATURE = 8.1755
MACROPIXEL_SIZE = 8
MISSING_FRAMES = 0
PIXEL_SUBSAMPLING_FLAG = N
SIGNAL_CHAIN_ID = 2
/* RADIOMETRIC DATA ELEMENTS */
BANDWIDTH = 88.0
CENTER_FILTER_WAVELENGTH = 538.0
RADIANCE_OFFSET = 1.18445
RADIANCE_SCALING_FACTOR = 0.00595949
REFLECTANCE_SCALING_FACTOR = 0.000318717
MEX:REFLECTANCE_OFFSET = 0.0633451
/* IMAGE OBJECT DEFINITIONS */
OBJECT = IMAGE
  INTERCHANGE_FORMAT = BINARY
  LINES = 7078
  LINE_SAMPLES = 779
  SAMPLE_TYPE = UNSIGNED_INTEGER
  SAMPLE_BITS = 8
  BANDS = 1
  BAND_STORAGE_TYPE = BAND_SEQUENTIAL
  MAXIMUM = 255
  MEAN = 126.159
  MINIMUM = 1
  STANDARD_DEVIATION = 27.3849
END_OBJECT = IMAGE
/* MAP OBJECT DEFINITIONS */
OBJECT = IMAGE_MAP_PROJECTION
  ^DATA_SET_MAP_PROJECTION_CATALOG= "DSMAP.CAT"
  A_AXIS_RADIUS = 3396.0
  B_AXIS_RADIUS = 3396.0
  C_AXIS_RADIUS = 3396.0
  CENTER_LATITUDE = 0.0
  CENTER_LONGITUDE = 294.0
  COORDINATE_SYSTEM_NAME = PLANETOGRAPHIC
  COORDINATE_SYSTEM_TYPE = "BODY-FIXED ROTATING"
  EASTERNMOST_LONGITUDE = 294.58
  FIRST_STANDARD_PARALLEL = "N/A"
  LINE_FIRST_PIXEL = 1
  LINE_LAST_PIXEL = 7078
  LINE_PROJECTION_OFFSET = 19335.3125
  MAP_PROJECTION_ROTATION = 0.0
  MAP_PROJECTION_TYPE = SINUSOIDAL
  MAP_RESOLUTION = 592.713803866667
  MAP_SCALE = 0.1
  MAXIMUM_LATITUDE = 32.6142
  MINIMUM_LATITUDE = 20.6725
  POSITIVE_LONGITUDE_DIRECTION = EAST
  REFERENCE_LATITUDE = "N/A"
  REFERENCE_LONGITUDE = "N/A"
  SAMPLE_FIRST_PIXEL = 1
  SAMPLE_LAST_PIXEL = 779
  SAMPLE_PROJECTION_OFFSET = 486.0625
  SECOND_STANDARD_PARALLEL = "N/A"
  WESTERNMOST_LONGITUDE = 293.037
END_OBJECT = IMAGE_MAP_PROJECTION
END
