PDS_VERSION_ID = PDS3
/* FILE DATA ELEMENTS */
RECORD_TYPE = UNDEFINED
/* POINTERS TO DATA OBJECTS */
^IMAGE = ("H3151_0000_IR4.TIF")
/* IDENTIFICATION DATA ELEMENTS */
DATA_SET_ID = "MEX-M-HRSC-4-REFDR-MAPPROJECT-EXT1-V4.0"
DATA_SET_NAME = "MARS EXPRESS HRSC MAP PROJECTED REFDR EXTENSION1 V4.0"
DETECTOR_ID = MEX_HRSC_IR
EVENT_TYPE = "MARS-REGIONAL-MAPPING-Te-Fl-Gl"
INSTRUMENT_HOST_ID = MEX
INSTRUMENT_HOST_NAME = "MARS EXPRESS"
INSTRUMENT_ID = HRSC
INSTRUMENT_NAME = "HIGH RESOLUTION STEREO CAMERA"
MISSION_NAME = "MARS EXPRESS"
MISSION_PHASE_NAME = ME_Phase_3
PROCESSING_LEVEL_ID = 4
PRODUCT_CREATION_TIME = 2023-02-09T11:24:25.000Z
PRODUCT_ID = "H3151_0000_IR4.TIF"
RELEASE_ID = 0003
REVISION_ID = 0000
/* QUALITY DATA ELEMENTS */
DATA_QUALITY_ID = 1
DATA_QUALITY_DESC = "Data calculated based on original SPICE kernels"
/* TIME DATA ELEMENTS */
SPACECRAFT_CLOCK_START_COUNT = "1/0099185753.07284"
SPACECRAFT_CLOCK_STOP_COUNT = "1/0099186002.47361"
START_TIME = 2006-06-23T23:36:04.875Z
STOP_TIME = 2006-06-23T23:39:14.918Z
/* ORBITAL DATA ELEMENTS */
ASCENDING_NODE_LONGITUDE = 162.1
MAXIMUM_RESOLUTION = 0.1068
FOOTPRINT_POINT_LATITUDE = (32.6465,32.6437,32.6373,32.6244, 32.6241,32.5885,32.0176,31.6758,31.3304 ,31.0986,30.7537,30.5233,30.2915, 29.9436,29.7108,29.3618,29.1282,28.7779 ,28.4254,28.0731,27.7202,27.4844, 27.2476,27.0101,26.7714,26.3112,26.074, 25.7172,25.4798,25.2415,25.0041,24.7655 ,24.5264,24.2865,24.0471,23.8065, 23.4484,23.2072,22.9615,22.7194,22.4752 ,22.0047,21.7631,21.5212,21.2791, 21.0366,20.7939,20.6725,20.6693,20.6722 ,20.6738,20.6741,20.674,20.6756,20.9186 ,21.1612,21.404,21.6465,22.0065,22.2488 ,22.478,22.7224,22.9641,23.2096,23.456, 23.6964,23.9364,24.1762,24.4155,24.6546 ,24.8933,25.1317,25.4895,25.7268, 25.9649,26.4266,26.7842,27.023,27.2598, 27.4961,27.7316,27.9668,28.2019,28.4366 ,28.6712,28.9051,29.1385,29.4883, 29.7223,29.956,30.1893,30.4224,30.6543, 30.8857,31.233,31.4631,31.9223,32.4952, 32.6096,32.6465)
FOOTPRINT_POINT_LONGITUDE = (294.594,294.225,293.709,293.046, 293.031,293.011,293.036,293.051,293.065 ,293.074,293.088,293.097,293.105, 293.118,293.126,293.138,293.146,293.158 ,293.168,293.179,293.19,293.196,293.203 ,293.209,293.214,293.232,293.238, 293.247,293.253,293.258,293.264,293.27, 293.275,293.28,293.285,293.289,293.297, 293.301,293.304,293.308,293.311,293.324 ,293.327,293.331,293.335,293.339, 293.342,293.344,293.344,293.676,293.931 ,294.51,294.521,294.528,294.529,294.53, 294.531,294.533,294.536,294.537,294.543 ,294.543,294.544,294.543,294.542, 294.544,294.545,294.546,294.548,294.549 ,294.551,294.552,294.555,294.556, 294.558,294.566,294.568,294.568,294.57, 294.571,294.573,294.574,294.576,294.578 ,294.579,294.581,294.583,294.586, 294.587,294.589,294.59,294.591,294.593, 294.595,294.597,294.599,294.603,294.608 ,294.609,294.594)
ORBIT_NUMBER = 3151
ORBITAL_ECCENTRICITY = 0.57
ORBITAL_INCLINATION = 86.66
ORBITAL_SEMIMAJOR_AXIS = 8619.87
PERIAPSIS_ALTITUDE = 309.34
PERIAPSIS_ARGUMENT_ANGLE = 164.27
PERIAPSIS_TIME = 2006-06-23T23:40:54.000Z
SPACECRAFT_ORIENTATION = (0.0,-1.0,0.0)
^MEX_ORIENTATION_DESC = "MEX_ORIENTATION_DESC.TXT"
SPACECRAFT_POINTING_MODE = NADIR
^MEX_POINTING_DESC = "MEX_POINTING_DESC.TXT"
RIGHT_ASCENSION = -1e+32
DECLINATION = -1e+32
OFFSET_ANGLE = -1e+32
SPACECRAFT_SOLAR_DISTANCE = 2.49231e+08
TARGET_NAME = MARS
/* CAMERA DATA ELEMENTS */
DETECTOR_TEMPERATURE = 17.351
FOCAL_PLANE_TEMPERATURE = 7.9716
INST_CMPRS_NAME = "DISCRETE COSINE TRANSFORMATION (DCT)"
INST_CMPRS_RATIO = 9.79721
INST_CMPRS_QUALITY = 0
INST_CMPRS_QUANTZ_TBL_ID = 0
INSTRUMENT_TEMPERATURE = 11.0301
LENS_TEMPERATURE = 8.1755
MACROPIXEL_SIZE = 8
MISSING_FRAMES = 0
PIXEL_SUBSAMPLING_FLAG = N
SIGNAL_CHAIN_ID = 2
/* RADIOMETRIC DATA ELEMENTS */
BANDWIDTH = 81.0
CENTER_FILTER_WAVELENGTH = 955.5
RADIANCE_OFFSET = 0.576606
RADIANCE_SCALING_FACTOR = 0.00836644
REFLECTANCE_SCALING_FACTOR = 0.00112118
MEX:REFLECTANCE_OFFSET = 0.0772704
/* IMAGE OBJECT DEFINITIONS */
OBJECT = IMAGE
  INTERCHANGE_FORMAT = BINARY
  LINES = 7078
  LINE_SAMPLES = 779
  SAMPLE_TYPE = UNSIGNED_INTEGER
  SAMPLE_BITS = 8
  BANDS = 1
  BAND_STORAGE_TYPE = BAND_SEQUENTIAL
  MAXIMUM = 255
  MEAN = 128.184
  MINIMUM = 1
  STANDARD_DEVIATION = 31.416
END_OBJECT = IMAGE
/* MAP OBJECT DEFINITIONS */
OBJECT = IMAGE_MAP_PROJECTION
  ^DATA_SET_MAP_PROJECTION_CATALOG= "DSMAP.CAT"
  A_AXIS_RADIUS = 3396.0
  B_AXIS_RADIUS = 3396.0
  C_AXIS_RADIUS = 3396.0
  CENTER_LATITUDE = 0.0
  CENTER_LONGITUDE = 294.0
  COORDINATE_SYSTEM_NAME = PLANETOGRAPHIC
  COORDINATE_SYSTEM_TYPE = "BODY-FIXED ROTATING"
  EASTERNMOST_LONGITUDE = 294.609
  FIRST_STANDARD_PARALLEL = "N/A"
  LINE_FIRST_PIXEL = 1
  LINE_LAST_PIXEL = 7078
  LINE_PROJECTION_OFFSET = 19335.3125
  MAP_PROJECTION_ROTATION = 0.0
  MAP_PROJECTION_TYPE = SINUSOIDAL
  MAP_RESOLUTION = 592.713803866667
  MAP_SCALE = 0.1
  MAXIMUM_LATITUDE = 32.6465
  MINIMUM_LATITUDE = 20.6693
  POSITIVE_LONGITUDE_DIRECTION = EAST
  REFERENCE_LATITUDE = "N/A"
  REFERENCE_LONGITUDE = "N/A"
  SAMPLE_FIRST_PIXEL = 1
  SAMPLE_LAST_PIXEL = 779
  SAMPLE_PROJECTION_OFFSET = 486.0625
  SECOND_STANDARD_PARALLEL = "N/A"
  WESTERNMOST_LONGITUDE = 293.011
END_OBJECT = IMAGE_MAP_PROJECTION
END
