PDS_VERSION_ID = PDS3
/* FILE DATA ELEMENTS */
RECORD_TYPE = UNDEFINED
/* POINTERS TO DATA OBJECTS */
^IMAGE = ("H3153_0000_RE4.TIF")
/* IDENTIFICATION DATA ELEMENTS */
DATA_SET_ID = "MEX-M-HRSC-4-REFDR-MAPPROJECT-EXT1-V4.0"
DATA_SET_NAME = "MARS EXPRESS HRSC MAP PROJECTED REFDR EXTENSION1 V4.0"
DETECTOR_ID = MEX_HRSC_RED
EVENT_TYPE = "MARS-REGIONAL-MAPPING-Te-Fl-Mw"
INSTRUMENT_HOST_ID = MEX
INSTRUMENT_HOST_NAME = "MARS EXPRESS"
INSTRUMENT_ID = HRSC
INSTRUMENT_NAME = "HIGH RESOLUTION STEREO CAMERA"
MISSION_NAME = "MARS EXPRESS"
MISSION_PHASE_NAME = ME_Phase_3
PROCESSING_LEVEL_ID = 4
PRODUCT_CREATION_TIME = 2023-02-09T11:24:25.000Z
PRODUCT_ID = "H3153_0000_RE4.TIF"
RELEASE_ID = 0003
REVISION_ID = 0000
/* QUALITY DATA ELEMENTS */
DATA_QUALITY_ID = 1
DATA_QUALITY_DESC = "Data calculated based on original SPICE kernels"
/* TIME DATA ELEMENTS */
SPACECRAFT_CLOCK_START_COUNT = "1/0099234427.08420"
SPACECRAFT_CLOCK_STOP_COUNT = "1/0099234683.40015"
START_TIME = 2006-06-24T13:08:02.700Z
STOP_TIME = 2006-06-24T13:11:21.021Z
/* ORBITAL DATA ELEMENTS */
ASCENDING_NODE_LONGITUDE = 162.06
MAXIMUM_RESOLUTION = 0.1053
FOOTPRINT_POINT_LATITUDE = (14.0325,14.0308,14.0291,14.0271,14.027 ,14.0482,13.8048,13.4406,13.1979, 12.9554,12.5917,12.3492,12.1071,11.624, 11.262,10.7727,10.5233,10.2746,10.0255, 9.77691,9.52797,9.15633,8.90824,8.66101 ,8.29047,8.04368,7.66758,7.41274, 7.15541,6.89914,6.64298,6.3918,6.13783, 5.75862,5.50637,5.2455,4.9872,4.59653, 4.20827,3.94935,3.68675,3.4272,3.16977, 2.78242,2.52423,2.27077,1.88855,1.63322 ,1.50524,1.40399,1.40323,1.40148, 1.40152,1.40252,1.40255,1.4044,1.66068, 1.91651,2.29808,2.68659,2.94326,3.20108 ,3.45864,3.84476,4.0945,4.35618,4.62164 ,5.01421,5.2764,5.53442,5.78842,6.0419, 6.29432,6.67338,7.05733,7.31333,7.56831 ,7.82201,8.19387,8.4413,8.68899,8.93621 ,9.18441,9.55713,9.80574,10.0546, 10.4284,10.6774,10.9269,11.1701,11.5325 ,12.0162,12.3792,12.6213,12.864,13.2277 ,13.4711,13.8361,13.9579,14.0325)
FOOTPRINT_POINT_LONGITUDE = (98.0865,97.762,97.428,96.9908,96.9804, 96.9684,96.9683,96.9679,96.9675,96.9671 ,96.9663,96.9658,96.9651,96.9634,96.962 ,96.9599,96.9587,96.9573,96.9559, 96.9544,96.953,96.9503,96.9487,96.9467, 96.9437,96.9417,96.9391,96.9368,96.9353 ,96.9334,96.9315,96.9282,96.9257, 96.9215,96.9186,96.9157,96.912,96.9074, 96.9022,96.8987,96.8964,96.8932,96.8894 ,96.8841,96.8806,96.8758,96.8692,96.865 ,96.863,96.8613,97.1675,97.5229,97.8316 ,98.1054,98.1173,98.1253,98.1241, 98.1225,98.1191,98.1183,98.1166,98.1154 ,98.1139,98.1113,98.1062,98.1061, 98.1075,98.107,98.1067,98.1052,98.1048, 98.1042,98.103,98.1012,98.1013,98.1013, 98.1007,98.1,98.0999,98.0995,98.0991, 98.0985,98.0982,98.0977,98.0974,98.0971 ,98.0968,98.0964,98.0962,98.0962, 98.0961,98.096,98.0958,98.0957,98.0958, 98.0956,98.0958,98.0961,98.0962, 98.0865)
ORBIT_NUMBER = 3153
ORBITAL_ECCENTRICITY = 0.57
ORBITAL_INCLINATION = 86.66
ORBITAL_SEMIMAJOR_AXIS = 8622.17
PERIAPSIS_ALTITUDE = 309.15
PERIAPSIS_ARGUMENT_ANGLE = 163.88
PERIAPSIS_TIME = 2006-06-24T13:07:08.000Z
SPACECRAFT_ORIENTATION = (0.0,-1.0,0.0)
^MEX_ORIENTATION_DESC = "MEX_ORIENTATION_DESC.TXT"
SPACECRAFT_POINTING_MODE = ACROSSTRACK
^MEX_POINTING_DESC = "MEX_POINTING_DESC.TXT"
RIGHT_ASCENSION = -1e+32
DECLINATION = -1e+32
OFFSET_ANGLE = 0.1
SPACECRAFT_SOLAR_DISTANCE = 2.49233e+08
TARGET_NAME = MARS
/* CAMERA DATA ELEMENTS */
DETECTOR_TEMPERATURE = 18.5744
FOCAL_PLANE_TEMPERATURE = 7.9716
INST_CMPRS_NAME = "DISCRETE COSINE TRANSFORMATION (DCT)"
INST_CMPRS_RATIO = 11.8203
INST_CMPRS_QUALITY = 0
INST_CMPRS_QUANTZ_TBL_ID = 0
INSTRUMENT_TEMPERATURE = 11.234
LENS_TEMPERATURE = 8.5833
MACROPIXEL_SIZE = 8
MISSING_FRAMES = 0
PIXEL_SUBSAMPLING_FLAG = N
SIGNAL_CHAIN_ID = 2
/* RADIOMETRIC DATA ELEMENTS */
BANDWIDTH = 48.0
CENTER_FILTER_WAVELENGTH = 748.0
RADIANCE_OFFSET = 0.85532
RADIANCE_SCALING_FACTOR = 0.00541246
REFLECTANCE_SCALING_FACTOR = 0.000767237
MEX:REFLECTANCE_OFFSET = 0.121245
/* IMAGE OBJECT DEFINITIONS */
OBJECT = IMAGE
  INTERCHANGE_FORMAT = BINARY
  LINES = 7499
  LINE_SAMPLES = 730
  SAMPLE_TYPE = UNSIGNED_INTEGER
  SAMPLE_BITS = 8
  BANDS = 1
  BAND_STORAGE_TYPE = BAND_SEQUENTIAL
  MAXIMUM = 255
  MEAN = 147.523
  MINIMUM = 1
  STANDARD_DEVIATION = 18.8722
END_OBJECT = IMAGE
/* MAP OBJECT DEFINITIONS */
OBJECT = IMAGE_MAP_PROJECTION
  ^DATA_SET_MAP_PROJECTION_CATALOG= "DSMAP.CAT"
  A_AXIS_RADIUS = 3396.0
  B_AXIS_RADIUS = 3396.0
  C_AXIS_RADIUS = 3396.0
  CENTER_LATITUDE = 0.0
  CENTER_LONGITUDE = 98.0
  COORDINATE_SYSTEM_NAME = PLANETOGRAPHIC
  COORDINATE_SYSTEM_TYPE = "BODY-FIXED ROTATING"
  EASTERNMOST_LONGITUDE = 98.1253
  FIRST_STANDARD_PARALLEL = "N/A"
  LINE_FIRST_PIXEL = 1
  LINE_LAST_PIXEL = 7499
  LINE_PROJECTION_OFFSET = 8326.5625
  MAP_PROJECTION_ROTATION = 0.0
  MAP_PROJECTION_TYPE = SINUSOIDAL
  MAP_RESOLUTION = 592.713803866667
  MAP_SCALE = 0.1
  MAXIMUM_LATITUDE = 14.0482
  MINIMUM_LATITUDE = 1.40148
  POSITIVE_LONGITUDE_DIRECTION = EAST
  REFERENCE_LATITUDE = "N/A"
  REFERENCE_LONGITUDE = "N/A"
  SAMPLE_FIRST_PIXEL = 1
  SAMPLE_LAST_PIXEL = 730
  SAMPLE_PROJECTION_OFFSET = 666.9375
  SECOND_STANDARD_PARALLEL = "N/A"
  WESTERNMOST_LONGITUDE = 96.8613
END_OBJECT = IMAGE_MAP_PROJECTION
END
