PDS_VERSION_ID = PDS3
/* FILE DATA ELEMENTS */
RECORD_TYPE = UNDEFINED
/* POINTERS TO DATA OBJECTS */
^IMAGE = ("H3156_0001_S14.TIF")
/* IDENTIFICATION DATA ELEMENTS */
DATA_SET_ID = "MEX-M-HRSC-4-REFDR-MAPPROJECT-EXT1-V4.0"
DATA_SET_NAME = "MARS EXPRESS HRSC MAP PROJECTED REFDR EXTENSION1 V4.0"
DETECTOR_ID = MEX_HRSC_S1
EVENT_TYPE = "MARS-REGIONAL-MAPPING-Im-Fl-Lc"
INSTRUMENT_HOST_ID = MEX
INSTRUMENT_HOST_NAME = "MARS EXPRESS"
INSTRUMENT_ID = HRSC
INSTRUMENT_NAME = "HIGH RESOLUTION STEREO CAMERA"
MISSION_NAME = "MARS EXPRESS"
MISSION_PHASE_NAME = ME_Phase_3
PROCESSING_LEVEL_ID = 4
PRODUCT_CREATION_TIME = 2023-02-09T11:24:25.000Z
PRODUCT_ID = "H3156_0001_S14.TIF"
RELEASE_ID = 0003
REVISION_ID = 0000
/* QUALITY DATA ELEMENTS */
DATA_QUALITY_ID = 1
DATA_QUALITY_DESC = "Data calculated based on original SPICE kernels"
/* TIME DATA ELEMENTS */
SPACECRAFT_CLOCK_START_COUNT = "1/0099307428.08237"
SPACECRAFT_CLOCK_STOP_COUNT = "1/0099307757.42757"
START_TIME = 2006-06-25T09:23:53.464Z
STOP_TIME = 2006-06-25T09:26:48.338Z
/* ORBITAL DATA ELEMENTS */
ASCENDING_NODE_LONGITUDE = 161.99
MAXIMUM_RESOLUTION = 0.0406
FOOTPRINT_POINT_LATITUDE = (-14.0988,-14.1002,-14.1016,-14.1032, -14.1048,-14.1067,-14.1094,-14.1096, -14.1252,-14.4167,-14.8095,-15.3123, -15.9116,-16.3169,-16.5233,-16.9349, -17.1441,-17.3527,-17.5632,-17.7744, -17.9889,-18.202,-18.522,-18.7374, -18.9536,-19.1698,-19.5022,-19.7281, -19.9457,-20.1724,-20.5081,-20.7338, -20.9627,-21.3053,-21.5359,-21.7678, -21.9989,-22.2339,-22.5867,-22.8239, -23.0621,-23.3072,-23.5538,-23.9203, -24.1656,-24.4053,-24.6566,-25.0366, -25.1648,-25.1667,-25.1605,-25.1597, -25.1566,-25.1545,-25.1515,-25.1486, -25.1484,-25.1476,-24.647,-24.397, -24.1509,-23.9034,-23.6596,-23.4216, -23.1852,-22.9474,-22.7048,-22.3438, -22.1073,-21.7576,-21.4056,-21.0637, -20.8372,-20.5007,-20.2765,-20.0504, -19.826,-19.6053,-19.2752,-19.0582, -18.8401,-18.6212,-18.4087,-18.0916, -17.8752,-17.6654,-17.4531,-17.2419, -17.0307,-16.8246,-16.6184,-16.4122, -16.1054,-15.6979,-15.4063,-15.0124, -14.5159,-14.2219,-14.1199,-14.0988)
FOOTPRINT_POINT_LONGITUDE = (163.011,162.747,162.483,162.217, 161.951,161.684,161.315,161.298,161.286 ,161.277,161.263,161.244,161.225, 161.211,161.204,161.189,161.181,161.174 ,161.166,161.158,161.149,161.141, 161.129,161.122,161.114,161.106,161.092 ,161.081,161.074,161.064,161.051, 161.041,161.032,161.017,161.008,160.998 ,160.989,160.979,160.964,160.954, 160.944,160.931,160.918,160.901,160.89, 160.882,160.869,160.849,160.842,160.842 ,161.412,161.696,162.096,162.378,162.8, 163.245,163.268,163.276,163.26,163.252, 163.244,163.236,163.229,163.222,163.217 ,163.21,163.202,163.191,163.184,163.175 ,163.165,163.156,163.151,163.143, 163.138,163.132,163.127,163.121,163.114 ,163.109,163.104,163.099,163.095, 163.089,163.084,163.08,163.075,163.071, 163.066,163.062,163.059,163.055,163.049 ,163.041,163.038,163.032,163.023, 163.018,163.015,163.011)
ORBIT_NUMBER = 3156
ORBITAL_ECCENTRICITY = 0.57
ORBITAL_INCLINATION = 86.67
ORBITAL_SEMIMAJOR_AXIS = 8613.0
PERIAPSIS_ALTITUDE = 310.48
PERIAPSIS_ARGUMENT_ANGLE = 163.38
PERIAPSIS_TIME = 2006-06-25T09:16:36.000Z
SPACECRAFT_ORIENTATION = (0.0,-1.0,0.0)
^MEX_ORIENTATION_DESC = "MEX_ORIENTATION_DESC.TXT"
SPACECRAFT_POINTING_MODE = ACROSSTRACK
^MEX_POINTING_DESC = "MEX_POINTING_DESC.TXT"
RIGHT_ASCENSION = -1e+32
DECLINATION = -1e+32
OFFSET_ANGLE = -0.3
SPACECRAFT_SOLAR_DISTANCE = 2.49234e+08
TARGET_NAME = MARS
/* CAMERA DATA ELEMENTS */
DETECTOR_TEMPERATURE = 18.1666
FOCAL_PLANE_TEMPERATURE = 8.3794
INST_CMPRS_NAME = "DISCRETE COSINE TRANSFORMATION (DCT)"
INST_CMPRS_RATIO = 5.67036
INST_CMPRS_QUALITY = 0
INST_CMPRS_QUANTZ_TBL_ID = 0
INSTRUMENT_TEMPERATURE = 12.0496
LENS_TEMPERATURE = 8.5833
MACROPIXEL_SIZE = 2
MISSING_FRAMES = 0
PIXEL_SUBSAMPLING_FLAG = N
SIGNAL_CHAIN_ID = 1
/* RADIOMETRIC DATA ELEMENTS */
BANDWIDTH = 180.0
CENTER_FILTER_WAVELENGTH = 677.0
RADIANCE_OFFSET = 0.909625
RADIANCE_SCALING_FACTOR = 0.0223758
REFLECTANCE_SCALING_FACTOR = 0.000725162
MEX:REFLECTANCE_OFFSET = 0.0294794
/* IMAGE OBJECT DEFINITIONS */
OBJECT = IMAGE
  INTERCHANGE_FORMAT = BINARY
  LINES = 13118
  LINE_SAMPLES = 2861
  SAMPLE_TYPE = UNSIGNED_INTEGER
  SAMPLE_BITS = 8
  BANDS = 1
  BAND_STORAGE_TYPE = BAND_SEQUENTIAL
  MAXIMUM = 255
  MEAN = 131.055
  MINIMUM = 1
  STANDARD_DEVIATION = 30.7944
END_OBJECT = IMAGE
/* MAP OBJECT DEFINITIONS */
OBJECT = IMAGE_MAP_PROJECTION
  ^DATA_SET_MAP_PROJECTION_CATALOG= "DSMAP.CAT"
  A_AXIS_RADIUS = 3396.0
  B_AXIS_RADIUS = 3396.0
  C_AXIS_RADIUS = 3396.0
  CENTER_LATITUDE = 0.0
  CENTER_LONGITUDE = 162.0
  COORDINATE_SYSTEM_NAME = PLANETOGRAPHIC
  COORDINATE_SYSTEM_TYPE = "BODY-FIXED ROTATING"
  EASTERNMOST_LONGITUDE = 163.276
  FIRST_STANDARD_PARALLEL = "N/A"
  LINE_FIRST_PIXEL = 1
  LINE_LAST_PIXEL = 13118
  LINE_PROJECTION_OFFSET = -16675.25
  MAP_PROJECTION_ROTATION = 0.0
  MAP_PROJECTION_TYPE = SINUSOIDAL
  MAP_RESOLUTION = 1185.42760773333
  MAP_SCALE = 0.05
  MAXIMUM_LATITUDE = -14.0988
  MINIMUM_LATITUDE = -25.1667
  POSITIVE_LONGITUDE_DIRECTION = EAST
  REFERENCE_LATITUDE = "N/A"
  REFERENCE_LONGITUDE = "N/A"
  SAMPLE_FIRST_PIXEL = 1
  SAMPLE_LAST_PIXEL = 2861
  SAMPLE_PROJECTION_OFFSET = 1358.25
  SECOND_STANDARD_PARALLEL = "N/A"
  WESTERNMOST_LONGITUDE = 160.842
END_OBJECT = IMAGE_MAP_PROJECTION
END
