PDS_VERSION_ID = PDS3
/* FILE DATA ELEMENTS */
RECORD_TYPE = UNDEFINED
/* POINTERS TO DATA OBJECTS */
^IMAGE = ("H3185_0000_RE4.TIF")
/* IDENTIFICATION DATA ELEMENTS */
DATA_SET_ID = "MEX-M-HRSC-4-REFDR-MAPPROJECT-EXT1-V4.0"
DATA_SET_NAME = "MARS EXPRESS HRSC MAP PROJECTED REFDR EXTENSION1 V4.0"
DETECTOR_ID = MEX_HRSC_RED
EVENT_TYPE = "MARS-REGIONAL-MAPPING-Vo-La"
INSTRUMENT_HOST_ID = MEX
INSTRUMENT_HOST_NAME = "MARS EXPRESS"
INSTRUMENT_ID = HRSC
INSTRUMENT_NAME = "HIGH RESOLUTION STEREO CAMERA"
MISSION_NAME = "MARS EXPRESS"
MISSION_PHASE_NAME = ME_Phase_3
PROCESSING_LEVEL_ID = 4
PRODUCT_CREATION_TIME = 2023-02-09T11:24:25.000Z
PRODUCT_ID = "H3185_0000_RE4.TIF"
RELEASE_ID = 0003
REVISION_ID = 0000
/* QUALITY DATA ELEMENTS */
DATA_QUALITY_ID = 1
DATA_QUALITY_DESC = "Data calculated based on original SPICE kernels"
/* TIME DATA ELEMENTS */
SPACECRAFT_CLOCK_START_COUNT = "1/0100008658.09061"
SPACECRAFT_CLOCK_STOP_COUNT = "1/0100009013.21607"
START_TIME = 2006-07-03T12:12:06.542Z
STOP_TIME = 2006-07-03T12:16:44.713Z
/* ORBITAL DATA ELEMENTS */
ASCENDING_NODE_LONGITUDE = 161.38
MAXIMUM_RESOLUTION = 0.1328
FOOTPRINT_POINT_LATITUDE = (4.10363,4.09881,4.09381,4.0898,4.0897, 4.10974,3.55411,3.00077,2.4495,2.03342, 1.75186,1.47159,1.19152,0.905571, 0.619641,0.334231,-0.0998903,-0.391271, -0.681477,-0.977268,-1.2738,-1.569, -1.87002,-2.32063,-2.6256,-3.08449, -3.39467,-3.70635,-4.0168,-4.33253, -4.64907,-5.13116,-5.45255,-5.7767, -6.26752,-6.59812,-6.93215,-7.43595, -7.776,-8.28886,-8.63435,-8.984, -9.32543,-9.6837,-10.2185,-10.578, -10.9394,-11.3054,-11.4898,-11.5964, -11.5953,-11.5955,-11.5944,-11.5883, -11.5849,-11.5846,-11.5817,-11.0317, -10.4839,-10.1255,-9.76915,-9.24495, -8.89625,-8.5517,-8.03218,-7.69425, -7.35381,-7.01836,-6.68431,-6.3536, -6.02402,-5.69696,-5.21001,-4.89037, -4.41137,-4.09602,-3.62722,-3.316, -2.85508,-2.54831,-2.2445,-1.94398, -1.64181,-1.34516,-0.901553,-0.606531, -0.316628,-0.0247603,0.26602,0.551452, 0.836992,1.26492,1.6859,1.96699,2.52283 ,2.93642,3.35138,3.90637,4.04548, 4.10363)
FOOTPRINT_POINT_LONGITUDE = (194.012,193.622,193.145,192.659, 192.646,192.636,192.624,192.612,192.6, 192.591,192.584,192.578,192.571,192.564 ,192.557,192.55,192.539,192.531,192.523 ,192.515,192.507,192.499,192.491, 192.477,192.469,192.455,192.446,192.436 ,192.426,192.416,192.406,192.391, 192.381,192.369,192.353,192.341,192.33, 192.312,192.299,192.28,192.268,192.255, 192.239,192.226,192.205,192.19,192.175, 192.159,192.152,192.147,192.441,192.759 ,193.316,193.777,194.239,194.26,194.273 ,194.258,194.246,194.237,194.228, 194.214,194.206,194.197,194.187,194.18, 194.174,194.167,194.161,194.155,194.149 ,194.144,194.136,194.13,194.124,194.118 ,194.111,194.106,194.1,194.095,194.091, 194.087,194.083,194.079,194.073,194.07, 194.066,194.063,194.06,194.057,194.053, 194.049,194.045,194.042,194.037,194.033 ,194.03,194.025,194.024,194.012)
ORBIT_NUMBER = 3185
ORBITAL_ECCENTRICITY = 0.569
ORBITAL_INCLINATION = 86.68
ORBITAL_SEMIMAJOR_AXIS = 8607.23
PERIAPSIS_ALTITUDE = 315.08
PERIAPSIS_ARGUMENT_ANGLE = 158.21
PERIAPSIS_TIME = 2006-07-03T12:07:04.000Z
SPACECRAFT_ORIENTATION = (0.0,-1.0,0.0)
^MEX_ORIENTATION_DESC = "MEX_ORIENTATION_DESC.TXT"
SPACECRAFT_POINTING_MODE = ACROSSTRACK
^MEX_POINTING_DESC = "MEX_POINTING_DESC.TXT"
RIGHT_ASCENSION = -1e+32
DECLINATION = -1e+32
OFFSET_ANGLE = 0.34
SPACECRAFT_SOLAR_DISTANCE = 2.49193e+08
TARGET_NAME = MARS
/* CAMERA DATA ELEMENTS */
DETECTOR_TEMPERATURE = 18.5744
FOCAL_PLANE_TEMPERATURE = 7.9716
INST_CMPRS_NAME = "DISCRETE COSINE TRANSFORMATION (DCT)"
INST_CMPRS_RATIO = 10.6492
INST_CMPRS_QUALITY = 0
INST_CMPRS_QUANTZ_TBL_ID = 0
INSTRUMENT_TEMPERATURE = 11.0301
LENS_TEMPERATURE = 8.3794
MACROPIXEL_SIZE = 8
MISSING_FRAMES = 0
PIXEL_SUBSAMPLING_FLAG = N
SIGNAL_CHAIN_ID = 2
/* RADIOMETRIC DATA ELEMENTS */
BANDWIDTH = 48.0
CENTER_FILTER_WAVELENGTH = 748.0
RADIANCE_OFFSET = 0.798068
RADIANCE_SCALING_FACTOR = 0.00670645
REFLECTANCE_SCALING_FACTOR = 0.000950365
MEX:REFLECTANCE_OFFSET = 0.113093
/* IMAGE OBJECT DEFINITIONS */
OBJECT = IMAGE
  INTERCHANGE_FORMAT = BINARY
  LINES = 9314
  LINE_SAMPLES = 1146
  SAMPLE_TYPE = UNSIGNED_INTEGER
  SAMPLE_BITS = 8
  BANDS = 1
  BAND_STORAGE_TYPE = BAND_SEQUENTIAL
  MAXIMUM = 255
  MEAN = 152.299
  MINIMUM = 1
  STANDARD_DEVIATION = 24.2552
END_OBJECT = IMAGE
/* MAP OBJECT DEFINITIONS */
OBJECT = IMAGE_MAP_PROJECTION
  ^DATA_SET_MAP_PROJECTION_CATALOG= "DSMAP.CAT"
  A_AXIS_RADIUS = 3396.0
  B_AXIS_RADIUS = 3396.0
  C_AXIS_RADIUS = 3396.0
  CENTER_LATITUDE = 0.0
  CENTER_LONGITUDE = 193.0
  COORDINATE_SYSTEM_NAME = PLANETOGRAPHIC
  COORDINATE_SYSTEM_TYPE = "BODY-FIXED ROTATING"
  EASTERNMOST_LONGITUDE = 194.273
  FIRST_STANDARD_PARALLEL = "N/A"
  LINE_FIRST_PIXEL = 1
  LINE_LAST_PIXEL = 9314
  LINE_PROJECTION_OFFSET = 2428.9375
  MAP_PROJECTION_ROTATION = 0.0
  MAP_PROJECTION_TYPE = SINUSOIDAL
  MAP_RESOLUTION = 592.713803866667
  MAP_SCALE = 0.1
  MAXIMUM_LATITUDE = 4.10974
  MINIMUM_LATITUDE = -11.5964
  POSITIVE_LONGITUDE_DIRECTION = EAST
  REFERENCE_LATITUDE = "N/A"
  REFERENCE_LONGITUDE = "N/A"
  SAMPLE_FIRST_PIXEL = 1
  SAMPLE_LAST_PIXEL = 1146
  SAMPLE_PROJECTION_OFFSET = 455.4375
  SECOND_STANDARD_PARALLEL = "N/A"
  WESTERNMOST_LONGITUDE = 192.147
END_OBJECT = IMAGE_MAP_PROJECTION
END
