PDS_VERSION_ID = PDS3
/* FILE DATA ELEMENTS */
RECORD_TYPE = UNDEFINED
/* POINTERS TO DATA OBJECTS */
^IMAGE = ("H3194_0000_IR4.TIF")
/* IDENTIFICATION DATA ELEMENTS */
DATA_SET_ID = "MEX-M-HRSC-4-REFDR-MAPPROJECT-EXT1-V4.0"
DATA_SET_NAME = "MARS EXPRESS HRSC MAP PROJECTED REFDR EXTENSION1 V4.0"
DETECTOR_ID = MEX_HRSC_IR
EVENT_TYPE = "MARS-REGIONAL-MAPPING-Im-Fl"
INSTRUMENT_HOST_ID = MEX
INSTRUMENT_HOST_NAME = "MARS EXPRESS"
INSTRUMENT_ID = HRSC
INSTRUMENT_NAME = "HIGH RESOLUTION STEREO CAMERA"
MISSION_NAME = "MARS EXPRESS"
MISSION_PHASE_NAME = ME_Phase_3
PROCESSING_LEVEL_ID = 4
PRODUCT_CREATION_TIME = 2023-02-09T11:24:25.000Z
PRODUCT_ID = "H3194_0000_IR4.TIF"
RELEASE_ID = 0003
REVISION_ID = 0000
/* QUALITY DATA ELEMENTS */
DATA_QUALITY_ID = 1
DATA_QUALITY_DESC = "Data calculated based on original SPICE kernels"
/* TIME DATA ELEMENTS */
SPACECRAFT_CLOCK_START_COUNT = "1/0100226394.09061"
SPACECRAFT_CLOCK_STOP_COUNT = "1/0100226584.18230"
START_TIME = 2006-07-06T00:40:04.996Z
STOP_TIME = 2006-07-06T00:41:45.921Z
/* ORBITAL DATA ELEMENTS */
ASCENDING_NODE_LONGITUDE = 161.2
MAXIMUM_RESOLUTION = 0.1267
FOOTPRINT_POINT_LATITUDE = (3.70329,3.70284,3.70231,3.70152, 3.70046,3.69918,3.69763,3.69752,3.69743 ,3.56539,3.4335,3.23576,3.03929,2.90765 ,2.70994,2.51107,2.31322,2.18203, 1.92287,1.79167,1.66076,1.53019,1.39915 ,1.26762,1.0062,0.874466,0.743254, 0.611901,0.480687,0.349259,0.218506, 0.0878109,-0.0432919,-0.174461,-0.30491 ,-0.435497,-0.565697,-0.761082, -0.956895,-1.21769,-1.41307,-1.54344, -1.6737,-1.86907,-1.99925,-2.25871, -2.38875,-2.51885,-2.77832,-2.84334, -2.86725,-2.86623,-2.8661,-2.86599, -2.86614,-2.86916,-2.86612,-2.86616, -2.86447,-2.54026,-2.28095,-2.08547, -1.95495,-1.82458,-1.6291,-1.43335, -1.3027,-1.17208,-1.04153,-0.781341, -0.651007,-0.455611,-0.260953,-0.130136 ,0.0662305,0.19749,0.330556,0.461751, 0.592728,0.72345,0.920276,1.05157, 1.18334,1.31505,1.44645,1.57767,1.7745, 1.90719,2.16801,2.36444,2.49547,2.6278, 2.82554,3.02207,3.15365,3.35043,3.48214 ,3.61447,3.68055,3.70329)
FOOTPRINT_POINT_LONGITUDE = (28.9839,28.6762,28.4786,28.2806, 28.0823,27.8834,27.6838,27.6713,27.6658 ,27.6634,27.6611,27.6575,27.6544,27.652 ,27.6482,27.6438,27.6397,27.6373, 27.6339,27.6314,27.629,27.6266,27.6241, 27.6212,27.6162,27.6131,27.6102,27.6073 ,27.6043,27.6012,27.5984,27.5956, 27.5925,27.5894,27.5866,27.5836,27.5808 ,27.5765,27.5719,27.5657,27.5611, 27.5578,27.5546,27.5498,27.5465,27.5403 ,27.5369,27.5335,27.5269,27.5251, 27.5245,27.8779,28.0905,28.2461,28.5005 ,28.7547,29.0074,29.0215,29.0308,29.028 ,29.0259,29.0242,29.0229,29.0218, 29.0201,29.0184,29.0173,29.0162,29.0151 ,29.0133,29.0123,29.011,29.0099,29.0089 ,29.0074,29.0063,29.0048,29.0038, 29.0029,29.0021,29.0006,28.9997,28.9987 ,28.9976,28.9967,28.9959,28.9946, 28.9935,28.9923,28.9913,28.9906,28.9896 ,28.9883,28.9874,28.9867,28.9857,28.985 ,28.9841,28.9837,28.9839)
ORBIT_NUMBER = 3194
ORBITAL_ECCENTRICITY = 0.569
ORBITAL_INCLINATION = 86.67
ORBITAL_SEMIMAJOR_AXIS = 8613.09
PERIAPSIS_ALTITUDE = 316.05
PERIAPSIS_ARGUMENT_ANGLE = 156.64
PERIAPSIS_TIME = 2006-07-06T00:35:30.000Z
SPACECRAFT_ORIENTATION = (0.0,-1.0,0.0)
^MEX_ORIENTATION_DESC = "MEX_ORIENTATION_DESC.TXT"
SPACECRAFT_POINTING_MODE = ACROSSTRACK
^MEX_POINTING_DESC = "MEX_POINTING_DESC.TXT"
RIGHT_ASCENSION = -1e+32
DECLINATION = -1e+32
OFFSET_ANGLE = -0.2
SPACECRAFT_SOLAR_DISTANCE = 2.4916e+08
TARGET_NAME = MARS
/* CAMERA DATA ELEMENTS */
DETECTOR_TEMPERATURE = 17.351
FOCAL_PLANE_TEMPERATURE = 8.1755
INST_CMPRS_NAME = "DISCRETE COSINE TRANSFORMATION (DCT)"
INST_CMPRS_RATIO = 15.3151
INST_CMPRS_QUALITY = 0
INST_CMPRS_QUANTZ_TBL_ID = 0
INSTRUMENT_TEMPERATURE = 11.0301
LENS_TEMPERATURE = 8.7872
MACROPIXEL_SIZE = 8
MISSING_FRAMES = 0
PIXEL_SUBSAMPLING_FLAG = N
SIGNAL_CHAIN_ID = 2
/* RADIOMETRIC DATA ELEMENTS */
BANDWIDTH = 81.0
CENTER_FILTER_WAVELENGTH = 955.5
RADIANCE_OFFSET = 1.06084
RADIANCE_SCALING_FACTOR = 0.00627551
REFLECTANCE_SCALING_FACTOR = 0.000840491
MEX:REFLECTANCE_OFFSET = 0.142081
/* IMAGE OBJECT DEFINITIONS */
OBJECT = IMAGE
  INTERCHANGE_FORMAT = BINARY
  LINES = 3894
  LINE_SAMPLES = 944
  SAMPLE_TYPE = UNSIGNED_INTEGER
  SAMPLE_BITS = 8
  BANDS = 1
  BAND_STORAGE_TYPE = BAND_SEQUENTIAL
  MAXIMUM = 255
  MEAN = 109.077
  MINIMUM = 1
  STANDARD_DEVIATION = 29.48
END_OBJECT = IMAGE
/* MAP OBJECT DEFINITIONS */
OBJECT = IMAGE_MAP_PROJECTION
  ^DATA_SET_MAP_PROJECTION_CATALOG= "DSMAP.CAT"
  A_AXIS_RADIUS = 3396.0
  B_AXIS_RADIUS = 3396.0
  C_AXIS_RADIUS = 3396.0
  CENTER_LATITUDE = 0.0
  CENTER_LONGITUDE = 28.0
  COORDINATE_SYSTEM_NAME = PLANETOGRAPHIC
  COORDINATE_SYSTEM_TYPE = "BODY-FIXED ROTATING"
  EASTERNMOST_LONGITUDE = 29.0308
  FIRST_STANDARD_PARALLEL = "N/A"
  LINE_FIRST_PIXEL = 1
  LINE_LAST_PIXEL = 3894
  LINE_PROJECTION_OFFSET = 2195.8125
  MAP_PROJECTION_ROTATION = 0.0
  MAP_PROJECTION_TYPE = SINUSOIDAL
  MAP_RESOLUTION = 592.713803866667
  MAP_SCALE = 0.1
  MAXIMUM_LATITUDE = 3.70329
  MINIMUM_LATITUDE = -2.86916
  POSITIVE_LONGITUDE_DIRECTION = EAST
  REFERENCE_LATITUDE = "N/A"
  REFERENCE_LONGITUDE = "N/A"
  SAMPLE_FIRST_PIXEL = 1
  SAMPLE_LAST_PIXEL = 944
  SAMPLE_PROJECTION_OFFSET = 309.3125
  SECOND_STANDARD_PARALLEL = "N/A"
  WESTERNMOST_LONGITUDE = 27.5245
END_OBJECT = IMAGE_MAP_PROJECTION
END
