PDS_VERSION_ID = PDS3
/* FILE DATA ELEMENTS */
RECORD_TYPE = UNDEFINED
/* POINTERS TO DATA OBJECTS */
^IMAGE = ("H3194_0000_P14.TIF")
/* IDENTIFICATION DATA ELEMENTS */
DATA_SET_ID = "MEX-M-HRSC-4-REFDR-MAPPROJECT-EXT1-V4.0"
DATA_SET_NAME = "MARS EXPRESS HRSC MAP PROJECTED REFDR EXTENSION1 V4.0"
DETECTOR_ID = MEX_HRSC_P1
EVENT_TYPE = "MARS-REGIONAL-MAPPING-Im-Fl"
INSTRUMENT_HOST_ID = MEX
INSTRUMENT_HOST_NAME = "MARS EXPRESS"
INSTRUMENT_ID = HRSC
INSTRUMENT_NAME = "HIGH RESOLUTION STEREO CAMERA"
MISSION_NAME = "MARS EXPRESS"
MISSION_PHASE_NAME = ME_Phase_3
PROCESSING_LEVEL_ID = 4
PRODUCT_CREATION_TIME = 2023-02-09T11:24:25.000Z
PRODUCT_ID = "H3194_0000_P14.TIF"
RELEASE_ID = 0003
REVISION_ID = 0000
/* QUALITY DATA ELEMENTS */
DATA_QUALITY_ID = 1
DATA_QUALITY_DESC = "Data calculated based on original SPICE kernels"
/* TIME DATA ELEMENTS */
SPACECRAFT_CLOCK_START_COUNT = "1/0100226394.09061"
SPACECRAFT_CLOCK_STOP_COUNT = "1/0100226584.18230"
START_TIME = 2006-07-06T00:40:10.929Z
STOP_TIME = 2006-07-06T00:41:52.608Z
/* ORBITAL DATA ELEMENTS */
ASCENDING_NODE_LONGITUDE = 161.2
MAXIMUM_RESOLUTION = 0.0628
FOOTPRINT_POINT_LATITUDE = (3.69546,3.69552,3.69537,3.69504, 3.69448,3.69371,3.69247,3.6924,3.69294, 3.56195,3.36561,3.23511,3.10462,2.90928 ,2.77887,2.64736,2.45129,2.3207,2.1905, 1.93289,1.80313,1.60881,1.47924,1.34916 ,1.21875,1.08855,0.893863,0.763847, 0.633763,0.503933,0.309076,0.179641, 0.0501329,-0.0797116,-0.273961, -0.403169,-0.661062,-0.790272,-0.984017 ,-1.11329,-1.4353,-1.62865,-1.88625, -2.14335,-2.40038,-2.59316,-2.78557, -2.84975,-2.85819,-2.85811,-2.85807, -2.85845,-2.85894,-2.86141,-2.86143, -2.8599,-2.85995,-2.85912,-2.60268, -2.28191,-2.08864,-1.7662,-1.50837, -1.37922,-1.2499,-1.12076,-0.991433, -0.733851,-0.604755,-0.475577,-0.28284, -0.153458,-0.0239037,0.105769,0.235661, 0.367046,0.496818,0.626607,0.7561, 0.886195,1.08134,1.21187,1.34226, 1.47234,1.66731,1.86273,1.99359,2.18799 ,2.31802,2.44822,2.57793,2.70934, 2.83972,3.03483,3.23054,3.36072,3.49139 ,3.62256,3.68803,3.69546)
FOOTPRINT_POINT_LONGITUDE = (28.9887,28.7164,28.5179,28.319,28.1196 ,27.9199,27.6691,27.6566,27.6543, 27.6518,27.6481,27.6458,27.6435,27.6401 ,27.6377,27.6346,27.6305,27.6278, 27.6253,27.6218,27.6194,27.616,27.6136, 27.6108,27.6078,27.6049,27.6007,27.5978 ,27.5948,27.5918,27.5873,27.5844, 27.5815,27.5783,27.5738,27.5709,27.5652 ,27.5621,27.5574,27.5541,27.5465, 27.5416,27.5351,27.5286,27.522,27.5168, 27.5118,27.5101,27.5098,27.7238,27.9385 ,28.2665,28.4515,28.6224,28.878,29.0192 ,29.0334,29.0381,29.0358,29.033,29.0311 ,29.0281,29.0258,29.0246,29.0234, 29.0223,29.0211,29.0193,29.0183,29.0173 ,29.0162,29.0152,29.0142,29.0131,29.012 ,29.0105,29.0095,29.0085,29.0076, 29.0066,29.0051,29.004,29.003,29.002, 29.0008,28.9994,28.9983,28.9973,28.9966 ,28.9958,28.9952,28.994,28.9933,28.9923 ,28.9911,28.9905,28.9897,28.9888, 28.9884,28.9887)
ORBIT_NUMBER = 3194
ORBITAL_ECCENTRICITY = 0.569
ORBITAL_INCLINATION = 86.67
ORBITAL_SEMIMAJOR_AXIS = 8613.09
PERIAPSIS_ALTITUDE = 316.05
PERIAPSIS_ARGUMENT_ANGLE = 156.64
PERIAPSIS_TIME = 2006-07-06T00:35:30.000Z
SPACECRAFT_ORIENTATION = (0.0,-1.0,0.0)
^MEX_ORIENTATION_DESC = "MEX_ORIENTATION_DESC.TXT"
SPACECRAFT_POINTING_MODE = ACROSSTRACK
^MEX_POINTING_DESC = "MEX_POINTING_DESC.TXT"
RIGHT_ASCENSION = -1e+32
DECLINATION = -1e+32
OFFSET_ANGLE = -0.2
SPACECRAFT_SOLAR_DISTANCE = 2.4916e+08
TARGET_NAME = MARS
/* CAMERA DATA ELEMENTS */
DETECTOR_TEMPERATURE = 17.351
FOCAL_PLANE_TEMPERATURE = 8.1755
INST_CMPRS_NAME = "DISCRETE COSINE TRANSFORMATION (DCT)"
INST_CMPRS_RATIO = 15.7492
INST_CMPRS_QUALITY = 0
INST_CMPRS_QUANTZ_TBL_ID = 0
INSTRUMENT_TEMPERATURE = 11.0301
LENS_TEMPERATURE = 8.7872
MACROPIXEL_SIZE = 4
MISSING_FRAMES = 0
PIXEL_SUBSAMPLING_FLAG = N
SIGNAL_CHAIN_ID = 3
/* RADIOMETRIC DATA ELEMENTS */
BANDWIDTH = 174.0
CENTER_FILTER_WAVELENGTH = 675.0
RADIANCE_OFFSET = 3.90971
RADIANCE_SCALING_FACTOR = 0.0235704
REFLECTANCE_SCALING_FACTOR = 0.000787061
MEX:REFLECTANCE_OFFSET = 0.130553
/* IMAGE OBJECT DEFINITIONS */
OBJECT = IMAGE
  INTERCHANGE_FORMAT = BINARY
  LINES = 7788
  LINE_SAMPLES = 1888
  SAMPLE_TYPE = UNSIGNED_INTEGER
  SAMPLE_BITS = 8
  BANDS = 1
  BAND_STORAGE_TYPE = BAND_SEQUENTIAL
  MAXIMUM = 255
  MEAN = 110.2
  MINIMUM = 1
  STANDARD_DEVIATION = 27.991
END_OBJECT = IMAGE
/* MAP OBJECT DEFINITIONS */
OBJECT = IMAGE_MAP_PROJECTION
  ^DATA_SET_MAP_PROJECTION_CATALOG= "DSMAP.CAT"
  A_AXIS_RADIUS = 3396.0
  B_AXIS_RADIUS = 3396.0
  C_AXIS_RADIUS = 3396.0
  CENTER_LATITUDE = 0.0
  CENTER_LONGITUDE = 28.0
  COORDINATE_SYSTEM_NAME = PLANETOGRAPHIC
  COORDINATE_SYSTEM_TYPE = "BODY-FIXED ROTATING"
  EASTERNMOST_LONGITUDE = 29.0381
  FIRST_STANDARD_PARALLEL = "N/A"
  LINE_FIRST_PIXEL = 1
  LINE_LAST_PIXEL = 7788
  LINE_PROJECTION_OFFSET = 4392.125
  MAP_PROJECTION_ROTATION = 0.0
  MAP_PROJECTION_TYPE = SINUSOIDAL
  MAP_RESOLUTION = 1185.42760773333
  MAP_SCALE = 0.05
  MAXIMUM_LATITUDE = 3.69552
  MINIMUM_LATITUDE = -2.86143
  POSITIVE_LONGITUDE_DIRECTION = EAST
  REFERENCE_LATITUDE = "N/A"
  REFERENCE_LONGITUDE = "N/A"
  SAMPLE_FIRST_PIXEL = 1
  SAMPLE_LAST_PIXEL = 1888
  SAMPLE_PROJECTION_OFFSET = 619.125
  SECOND_STANDARD_PARALLEL = "N/A"
  WESTERNMOST_LONGITUDE = 27.5098
END_OBJECT = IMAGE_MAP_PROJECTION
END
