PDS_VERSION_ID = PDS3
/* FILE DATA ELEMENTS */
RECORD_TYPE = UNDEFINED
/* POINTERS TO DATA OBJECTS */
^IMAGE = ("H3194_0000_S24.TIF")
/* IDENTIFICATION DATA ELEMENTS */
DATA_SET_ID = "MEX-M-HRSC-4-REFDR-MAPPROJECT-EXT1-V4.0"
DATA_SET_NAME = "MARS EXPRESS HRSC MAP PROJECTED REFDR EXTENSION1 V4.0"
DETECTOR_ID = MEX_HRSC_S2
EVENT_TYPE = "MARS-REGIONAL-MAPPING-Im-Fl"
INSTRUMENT_HOST_ID = MEX
INSTRUMENT_HOST_NAME = "MARS EXPRESS"
INSTRUMENT_ID = HRSC
INSTRUMENT_NAME = "HIGH RESOLUTION STEREO CAMERA"
MISSION_NAME = "MARS EXPRESS"
MISSION_PHASE_NAME = ME_Phase_3
PROCESSING_LEVEL_ID = 4
PRODUCT_CREATION_TIME = 2023-02-09T11:24:25.000Z
PRODUCT_ID = "H3194_0000_S24.TIF"
RELEASE_ID = 0003
REVISION_ID = 0000
/* QUALITY DATA ELEMENTS */
DATA_QUALITY_ID = 1
DATA_QUALITY_DESC = "Data calculated based on original SPICE kernels"
/* TIME DATA ELEMENTS */
SPACECRAFT_CLOCK_START_COUNT = "1/0100226394.09061"
SPACECRAFT_CLOCK_STOP_COUNT = "1/0100226584.18230"
START_TIME = 2006-07-06T00:41:12.625Z
STOP_TIME = 2006-07-06T00:43:07.485Z
/* ORBITAL DATA ELEMENTS */
ASCENDING_NODE_LONGITUDE = 161.2
MAXIMUM_RESOLUTION = 0.0354
FOOTPRINT_POINT_LATITUDE = (3.69512,3.69849,3.70213,3.70687, 3.71126,3.71596,3.72193,3.72225,3.71959 ,3.51872,3.38474,3.18361,2.98128,2.8488 ,2.71412,2.51485,2.3825,2.24869,2.11369 ,1.98003,1.84814,1.64693,1.44884, 1.31697,1.18599,1.05504,0.923775, 0.793398,0.597531,0.467451,0.336913, 0.141372,0.0112669,-0.118183,-0.248631, -0.443664,-0.573395,-0.702949,-0.832662 ,-0.961446,-1.09053,-1.34783,-1.53994, -1.85996,-2.11532,-2.43361,-2.75023, -2.8135,-2.83752,-2.84191,-2.84826, -2.85159,-2.85609,-2.85923,-2.86119, -2.86403,-2.87182,-2.87206,-2.87177, -2.68104,-2.4269,-2.17116,-1.98045, -1.72476,-1.40441,-1.14738,-0.888423, -0.759402,-0.629852,-0.501151,-0.367154 ,-0.17194,-0.0417631,0.0884486,0.21761, 0.346875,0.477591,0.608558,0.740062, 0.936521,1.06754,1.26426,1.46255, 1.59513,1.72759,1.8602,1.99022,2.19106, 2.32527,2.45825,2.59241,2.7932,2.92789, 3.0622,3.19726,3.33151,3.46623,3.60088, 3.6681,3.69512)
FOOTPRINT_POINT_LONGITUDE = (29.0485,28.8232,28.5974,28.3286,28.102 ,27.8747,27.6036,27.5893,27.5857, 27.5808,27.5777,27.5731,27.569,27.5654, 27.5627,27.5576,27.5541,27.5512,27.5487 ,27.5457,27.5422,27.5381,27.533,27.5296 ,27.5258,27.5221,27.5185,27.5147, 27.5091,27.5052,27.5015,27.496,27.4922, 27.4882,27.4847,27.4792,27.4754,27.4717 ,27.468,27.464,27.4602,27.4523,27.4462, 27.4361,27.428,27.4177,27.407,27.4049, 27.404,27.5553,27.8243,27.9751,28.1926, 28.3597,28.5937,28.8442,29.1099,29.1266 ,29.1326,29.1297,29.1257,29.122,29.1189 ,29.115,29.1101,29.1063,29.1029,29.101, 29.0992,29.0972,29.0964,29.0938,29.0921 ,29.0904,29.0883,29.0863,29.0846, 29.0829,29.0813,29.0787,29.077,29.0743, 29.072,29.0705,29.069,29.0675,29.0653, 29.0634,29.0621,29.0606,29.0593,29.0571 ,29.0559,29.0545,29.0533,29.0519, 29.0506,29.0492,29.0485,29.0485)
ORBIT_NUMBER = 3194
ORBITAL_ECCENTRICITY = 0.569
ORBITAL_INCLINATION = 86.67
ORBITAL_SEMIMAJOR_AXIS = 8613.09
PERIAPSIS_ALTITUDE = 316.05
PERIAPSIS_ARGUMENT_ANGLE = 156.64
PERIAPSIS_TIME = 2006-07-06T00:35:30.000Z
SPACECRAFT_ORIENTATION = (0.0,-1.0,0.0)
^MEX_ORIENTATION_DESC = "MEX_ORIENTATION_DESC.TXT"
SPACECRAFT_POINTING_MODE = ACROSSTRACK
^MEX_POINTING_DESC = "MEX_POINTING_DESC.TXT"
RIGHT_ASCENSION = -1e+32
DECLINATION = -1e+32
OFFSET_ANGLE = -0.2
SPACECRAFT_SOLAR_DISTANCE = 2.4916e+08
TARGET_NAME = MARS
/* CAMERA DATA ELEMENTS */
DETECTOR_TEMPERATURE = 18.3705
FOCAL_PLANE_TEMPERATURE = 8.1755
INST_CMPRS_NAME = "DISCRETE COSINE TRANSFORMATION (DCT)"
INST_CMPRS_RATIO = 11.7786
INST_CMPRS_QUALITY = 0
INST_CMPRS_QUANTZ_TBL_ID = 0
INSTRUMENT_TEMPERATURE = 11.0301
LENS_TEMPERATURE = 8.7872
MACROPIXEL_SIZE = 2
MISSING_FRAMES = 0
PIXEL_SUBSAMPLING_FLAG = N
SIGNAL_CHAIN_ID = 1
/* RADIOMETRIC DATA ELEMENTS */
BANDWIDTH = 178.0
CENTER_FILTER_WAVELENGTH = 679.0
RADIANCE_OFFSET = 3.23065
RADIANCE_SCALING_FACTOR = 0.0274949
REFLECTANCE_SCALING_FACTOR = 0.00090394
MEX:REFLECTANCE_OFFSET = 0.106213
/* IMAGE OBJECT DEFINITIONS */
OBJECT = IMAGE
  INTERCHANGE_FORMAT = BINARY
  LINES = 15576
  LINE_SAMPLES = 3775
  SAMPLE_TYPE = UNSIGNED_INTEGER
  SAMPLE_BITS = 8
  BANDS = 1
  BAND_STORAGE_TYPE = BAND_SEQUENTIAL
  MAXIMUM = 255
  MEAN = 116.09
  MINIMUM = 1
  STANDARD_DEVIATION = 26.0207
END_OBJECT = IMAGE
/* MAP OBJECT DEFINITIONS */
OBJECT = IMAGE_MAP_PROJECTION
  ^DATA_SET_MAP_PROJECTION_CATALOG= "DSMAP.CAT"
  A_AXIS_RADIUS = 3396.0
  B_AXIS_RADIUS = 3396.0
  C_AXIS_RADIUS = 3396.0
  CENTER_LATITUDE = 0.0
  CENTER_LONGITUDE = 28.0
  COORDINATE_SYSTEM_NAME = PLANETOGRAPHIC
  COORDINATE_SYSTEM_TYPE = "BODY-FIXED ROTATING"
  EASTERNMOST_LONGITUDE = 29.1326
  FIRST_STANDARD_PARALLEL = "N/A"
  LINE_FIRST_PIXEL = 1
  LINE_LAST_PIXEL = 15576
  LINE_PROJECTION_OFFSET = 8784.75
  MAP_PROJECTION_ROTATION = 0.0
  MAP_PROJECTION_TYPE = SINUSOIDAL
  MAP_RESOLUTION = 2370.85521546667
  MAP_SCALE = 0.025
  MAXIMUM_LATITUDE = 3.72225
  MINIMUM_LATITUDE = -2.87206
  POSITIVE_LONGITUDE_DIRECTION = EAST
  REFERENCE_LATITUDE = "N/A"
  REFERENCE_LONGITUDE = "N/A"
  SAMPLE_FIRST_PIXEL = 1
  SAMPLE_LAST_PIXEL = 3775
  SAMPLE_PROJECTION_OFFSET = 1238.75
  SECOND_STANDARD_PARALLEL = "N/A"
  WESTERNMOST_LONGITUDE = 27.404
END_OBJECT = IMAGE_MAP_PROJECTION
END
