PDS_VERSION_ID = PDS3
/* FILE DATA ELEMENTS */
RECORD_TYPE = UNDEFINED
/* POINTERS TO DATA OBJECTS */
^IMAGE = ("H3198_0001_P14.TIF")
/* IDENTIFICATION DATA ELEMENTS */
DATA_SET_ID = "MEX-M-HRSC-4-REFDR-MAPPROJECT-EXT1-V4.0"
DATA_SET_NAME = "MARS EXPRESS HRSC MAP PROJECTED REFDR EXTENSION1 V4.0"
DETECTOR_ID = MEX_HRSC_P1
EVENT_TYPE = "MARS-LOCAL-STEREO-Lc-La-Ot"
INSTRUMENT_HOST_ID = MEX
INSTRUMENT_HOST_NAME = "MARS EXPRESS"
INSTRUMENT_ID = HRSC
INSTRUMENT_NAME = "HIGH RESOLUTION STEREO CAMERA"
MISSION_NAME = "MARS EXPRESS"
MISSION_PHASE_NAME = ME_Phase_3
PROCESSING_LEVEL_ID = 4
PRODUCT_CREATION_TIME = 2023-02-09T11:24:25.000Z
PRODUCT_ID = "H3198_0001_P14.TIF"
RELEASE_ID = 0003
REVISION_ID = 0000
/* QUALITY DATA ELEMENTS */
DATA_QUALITY_ID = 1
DATA_QUALITY_DESC = "Data calculated based on original SPICE kernels"
/* TIME DATA ELEMENTS */
SPACECRAFT_CLOCK_START_COUNT = "1/0100323243.08820"
SPACECRAFT_CLOCK_STOP_COUNT = "1/0100323389.58900"
START_TIME = 2006-07-07T03:34:21.657Z
STOP_TIME = 2006-07-07T03:35:11.163Z
/* ORBITAL DATA ELEMENTS */
ASCENDING_NODE_LONGITUDE = 161.12
MAXIMUM_RESOLUTION = 0.0357
FOOTPRINT_POINT_LATITUDE = (-1.41065,-1.41262,-1.41465,-1.41673, -1.41884,-1.42101,-1.42323,-1.42553, -1.42789,-1.4303,-1.43279,-1.43534, -1.43796,-1.43996,-1.44029,-1.44926, -1.53912,-1.68872,-1.77858,-1.89843, -2.02109,-2.14383,-2.23588,-2.32792, -2.41994,-2.573,-2.69541,-2.84831, -2.94464,-3.00984,-3.10433,-3.22404, -3.34903,-3.50606,-3.63065,-3.72386, -3.8491,-3.91309,-3.97663,-4.07126, -4.1666,-4.23016,-4.29396,-4.35764, -4.42249,-4.54982,-4.58167,-4.59268, -4.59027,-4.58848,-4.58698,-4.58581, -4.58471,-4.58326,-4.58211,-4.5809, -4.57961,-4.57858,-4.57759,-4.57594, -4.57501,-4.57402,-4.57205,-4.57016, -4.56842,-4.56661,-4.56639,-4.56573, -4.50195,-4.4063,-4.31074,-4.2151, -4.1512,-4.05527,-3.99136,-3.92735, -3.83133,-3.70546,-3.61194,-3.48687, -3.39318,-3.23681,-3.14255,-3.04843, -2.9543,-2.79881,-2.70689,-2.61488, -2.52288,-2.40022,-2.27759,-2.18568, -2.09369,-2.0016,-1.84872,-1.69888, -1.60901,-1.45895,-1.42889,-1.41065)
FOOTPRINT_POINT_LONGITUDE = (355.342,355.225,355.109,354.992, 354.875,354.757,354.638,354.519,354.4, 354.28,354.159,354.038,353.916,353.825, 353.81,353.797,353.794,353.791,353.788, 353.785,353.782,353.778,353.776,353.773 ,353.77,353.766,353.763,353.758,353.753 ,353.748,353.745,353.747,353.743, 353.738,353.735,353.732,353.729,353.727 ,353.725,353.724,353.721,353.719, 353.717,353.716,353.713,353.709,353.708 ,353.708,353.806,353.921,354.004, 354.069,354.134,354.232,354.313,354.393 ,354.474,354.538,354.603,354.715, 354.779,354.843,354.97,355.097,355.223, 355.349,355.365,355.37,355.37,355.369, 355.368,355.367,355.366,355.365,355.365 ,355.364,355.363,355.362,355.361,355.36 ,355.359,355.357,355.357,355.356, 355.355,355.353,355.353,355.352,355.351 ,355.35,355.349,355.348,355.347,355.346 ,355.345,355.344,355.343,355.342, 355.341,355.342)
ORBIT_NUMBER = 3198
ORBITAL_ECCENTRICITY = 0.569
ORBITAL_INCLINATION = 86.68
ORBITAL_SEMIMAJOR_AXIS = 8607.11
PERIAPSIS_ALTITUDE = 316.75
PERIAPSIS_ARGUMENT_ANGLE = 155.9
PERIAPSIS_TIME = 2006-07-07T03:28:10.000Z
SPACECRAFT_ORIENTATION = (0.0,-1.0,0.0)
^MEX_ORIENTATION_DESC = "MEX_ORIENTATION_DESC.TXT"
SPACECRAFT_POINTING_MODE = ACROSSTRACK
^MEX_POINTING_DESC = "MEX_POINTING_DESC.TXT"
RIGHT_ASCENSION = -1e+32
DECLINATION = -1e+32
OFFSET_ANGLE = -0.8
SPACECRAFT_SOLAR_DISTANCE = 2.49143e+08
TARGET_NAME = MARS
/* CAMERA DATA ELEMENTS */
DETECTOR_TEMPERATURE = 18.3705
FOCAL_PLANE_TEMPERATURE = 8.1755
INST_CMPRS_NAME = "DISCRETE COSINE TRANSFORMATION (DCT)"
INST_CMPRS_RATIO = 12.8808
INST_CMPRS_QUALITY = 0
INST_CMPRS_QUANTZ_TBL_ID = 0
INSTRUMENT_TEMPERATURE = 12.6613
LENS_TEMPERATURE = 8.7872
MACROPIXEL_SIZE = 2
MISSING_FRAMES = 0
PIXEL_SUBSAMPLING_FLAG = N
SIGNAL_CHAIN_ID = 3
/* RADIOMETRIC DATA ELEMENTS */
BANDWIDTH = 174.0
CENTER_FILTER_WAVELENGTH = 675.0
RADIANCE_OFFSET = 2.25365
RADIANCE_SCALING_FACTOR = 0.0148934
REFLECTANCE_SCALING_FACTOR = 0.000497249
MEX:REFLECTANCE_OFFSET = 0.0752431
/* IMAGE OBJECT DEFINITIONS */
OBJECT = IMAGE
  INTERCHANGE_FORMAT = BINARY
  LINES = 7486
  LINE_SAMPLES = 4095
  SAMPLE_TYPE = UNSIGNED_INTEGER
  SAMPLE_BITS = 8
  BANDS = 1
  BAND_STORAGE_TYPE = BAND_SEQUENTIAL
  MAXIMUM = 255
  MEAN = 97.1545
  MINIMUM = 1
  STANDARD_DEVIATION = 34.4742
END_OBJECT = IMAGE
/* MAP OBJECT DEFINITIONS */
OBJECT = IMAGE_MAP_PROJECTION
  ^DATA_SET_MAP_PROJECTION_CATALOG= "DSMAP.CAT"
  A_AXIS_RADIUS = 3396.0
  B_AXIS_RADIUS = 3396.0
  C_AXIS_RADIUS = 3396.0
  CENTER_LATITUDE = 0.0
  CENTER_LONGITUDE = 355.0
  COORDINATE_SYSTEM_NAME = PLANETOGRAPHIC
  COORDINATE_SYSTEM_TYPE = "BODY-FIXED ROTATING"
  EASTERNMOST_LONGITUDE = 355.37
  FIRST_STANDARD_PARALLEL = "N/A"
  LINE_FIRST_PIXEL = 1
  LINE_LAST_PIXEL = 7486
  LINE_PROJECTION_OFFSET = -3359.25
  MAP_PROJECTION_ROTATION = 0.0
  MAP_PROJECTION_TYPE = SINUSOIDAL
  MAP_RESOLUTION = 2370.85521546667
  MAP_SCALE = 0.025
  MAXIMUM_LATITUDE = -1.41065
  MINIMUM_LATITUDE = -4.59268
  POSITIVE_LONGITUDE_DIRECTION = EAST
  REFERENCE_LATITUDE = "N/A"
  REFERENCE_LONGITUDE = "N/A"
  SAMPLE_FIRST_PIXEL = 1
  SAMPLE_LAST_PIXEL = 4095
  SAMPLE_PROJECTION_OFFSET = 3131.25
  SECOND_STANDARD_PARALLEL = "N/A"
  WESTERNMOST_LONGITUDE = 353.708
END_OBJECT = IMAGE_MAP_PROJECTION
END
