PDS_VERSION_ID = PDS3
/* FILE DATA ELEMENTS */
RECORD_TYPE = UNDEFINED
/* POINTERS TO DATA OBJECTS */
^IMAGE = ("H3202_0000_P24.TIF")
/* IDENTIFICATION DATA ELEMENTS */
DATA_SET_ID = "MEX-M-HRSC-4-REFDR-MAPPROJECT-EXT1-V4.0"
DATA_SET_NAME = "MARS EXPRESS HRSC MAP PROJECTED REFDR EXTENSION1 V4.0"
DETECTOR_ID = MEX_HRSC_P2
EVENT_TYPE = "MARS-REGIONAL-MAPPING-Fl-Eo"
INSTRUMENT_HOST_ID = MEX
INSTRUMENT_HOST_NAME = "MARS EXPRESS"
INSTRUMENT_ID = HRSC
INSTRUMENT_NAME = "HIGH RESOLUTION STEREO CAMERA"
MISSION_NAME = "MARS EXPRESS"
MISSION_PHASE_NAME = ME_Phase_3
PROCESSING_LEVEL_ID = 4
PRODUCT_CREATION_TIME = 2023-02-09T11:24:25.000Z
PRODUCT_ID = "H3202_0000_P24.TIF"
RELEASE_ID = 0003
REVISION_ID = 0000
/* QUALITY DATA ELEMENTS */
DATA_QUALITY_ID = 1
DATA_QUALITY_DESC = "Data calculated based on original SPICE kernels"
/* TIME DATA ELEMENTS */
SPACECRAFT_CLOCK_START_COUNT = "1/0100419567.08424"
SPACECRAFT_CLOCK_STOP_COUNT = "1/0100419816.56648"
START_TIME = 2006-07-08T06:20:20.016Z
STOP_TIME = 2006-07-08T06:23:29.527Z
/* ORBITAL DATA ELEMENTS */
ASCENDING_NODE_LONGITUDE = 161.03
MAXIMUM_RESOLUTION = 0.053
FOOTPRINT_POINT_LATITUDE = (27.7745,27.7609,27.7501,27.739,27.7387 ,27.7734,27.5275,27.2817,26.913,26.667, 26.4214,26.176,25.9308,25.6854,25.4402, 25.1951,24.8275,24.5828,24.3379,24.0933 ,23.8489,23.4823,23.1161,22.7503, 22.3847,22.0189,21.7753,21.532,21.2891, 21.0468,20.6843,20.4402,20.0771,19.8351 ,19.3515,18.8685,18.4949,18.2458, 17.9967,17.7479,17.4995,17.2512,17.0031 ,16.7544,16.5061,16.2583,16.011,15.6386 ,15.5114,15.4625,15.4688,15.4783,15.489 ,15.4893,15.4902,15.8716,16.1186, 16.3659,16.6134,16.8611,17.1092,17.3575 ,17.6058,17.8546,18.103,18.477,18.7265, 18.9732,19.4566,19.6984,19.9404,20.183, 20.5468,21.0314,21.2745,21.5178,21.8829 ,22.1268,22.3701,22.6145,22.8583, 23.1025,23.347,23.5916,23.8364,24.0811, 24.4484,24.6932,24.9385,25.3063,25.5515 ,25.7965,26.0417,26.2877,26.6568, 26.9027,27.2719,27.6411,27.7642, 27.7745)
FOOTPRINT_POINT_LONGITUDE = (323.626,323.125,322.75,322.381,322.37, 322.368,322.371,322.374,322.378,322.38, 322.383,322.385,322.388,322.39,322.392, 322.394,322.396,322.398,322.4,322.401, 322.402,322.404,322.405,322.407,322.408 ,322.408,322.409,322.409,322.409, 322.409,322.409,322.409,322.409,322.408 ,322.407,322.406,322.404,322.403, 322.402,322.401,322.4,322.398,322.397, 322.395,322.394,322.392,322.39,322.387, 322.386,322.385,322.685,323.117,323.629 ,323.642,323.646,323.645,323.645, 323.645,323.645,323.645,323.645,323.645 ,323.645,323.645,323.644,323.645, 323.645,323.645,323.646,323.646,323.646 ,323.647,323.647,323.647,323.647, 323.648,323.649,323.649,323.649,323.65, 323.651,323.651,323.652,323.653,323.653 ,323.654,323.655,323.655,323.656, 323.657,323.657,323.658,323.658,323.659 ,323.66,323.661,323.662,323.664,323.664 ,323.626)
ORBIT_NUMBER = 3202
ORBITAL_ECCENTRICITY = 0.569
ORBITAL_INCLINATION = 86.69
ORBITAL_SEMIMAJOR_AXIS = 8604.12
PERIAPSIS_ALTITUDE = 317.17
PERIAPSIS_ARGUMENT_ANGLE = 155.22
PERIAPSIS_TIME = 2006-07-08T06:20:47.000Z
SPACECRAFT_ORIENTATION = (0.0,-1.0,0.0)
^MEX_ORIENTATION_DESC = "MEX_ORIENTATION_DESC.TXT"
SPACECRAFT_POINTING_MODE = ACROSSTRACK
^MEX_POINTING_DESC = "MEX_POINTING_DESC.TXT"
RIGHT_ASCENSION = -1e+32
DECLINATION = -1e+32
OFFSET_ANGLE = 0.58
SPACECRAFT_SOLAR_DISTANCE = 2.49123e+08
TARGET_NAME = MARS
/* CAMERA DATA ELEMENTS */
DETECTOR_TEMPERATURE = 18.5744
FOCAL_PLANE_TEMPERATURE = 7.9716
INST_CMPRS_NAME = "DISCRETE COSINE TRANSFORMATION (DCT)"
INST_CMPRS_RATIO = 8.35713
INST_CMPRS_QUALITY = 0
INST_CMPRS_QUANTZ_TBL_ID = 0
INSTRUMENT_TEMPERATURE = 11.0301
LENS_TEMPERATURE = 8.9911
MACROPIXEL_SIZE = 4
MISSING_FRAMES = 0
PIXEL_SUBSAMPLING_FLAG = N
SIGNAL_CHAIN_ID = 3
/* RADIOMETRIC DATA ELEMENTS */
BANDWIDTH = 177.0
CENTER_FILTER_WAVELENGTH = 676.5
RADIANCE_OFFSET = 3.26316
RADIANCE_SCALING_FACTOR = 0.0186338
REFLECTANCE_SCALING_FACTOR = 0.000613178
MEX:REFLECTANCE_OFFSET = 0.10738
/* IMAGE OBJECT DEFINITIONS */
OBJECT = IMAGE
  INTERCHANGE_FORMAT = BINARY
  LINES = 14594
  LINE_SAMPLES = 1418
  SAMPLE_TYPE = UNSIGNED_INTEGER
  SAMPLE_BITS = 8
  BANDS = 1
  BAND_STORAGE_TYPE = BAND_SEQUENTIAL
  MAXIMUM = 255
  MEAN = 98.2093
  MINIMUM = 1
  STANDARD_DEVIATION = 42.0775
END_OBJECT = IMAGE
/* MAP OBJECT DEFINITIONS */
OBJECT = IMAGE_MAP_PROJECTION
  ^DATA_SET_MAP_PROJECTION_CATALOG= "DSMAP.CAT"
  A_AXIS_RADIUS = 3396.0
  B_AXIS_RADIUS = 3396.0
  C_AXIS_RADIUS = 3396.0
  CENTER_LATITUDE = 0.0
  CENTER_LONGITUDE = 323.0
  COORDINATE_SYSTEM_NAME = PLANETOGRAPHIC
  COORDINATE_SYSTEM_TYPE = "BODY-FIXED ROTATING"
  EASTERNMOST_LONGITUDE = 323.664
  FIRST_STANDARD_PARALLEL = "N/A"
  LINE_FIRST_PIXEL = 1
  LINE_LAST_PIXEL = 14594
  LINE_PROJECTION_OFFSET = 32921.375
  MAP_PROJECTION_ROTATION = 0.0
  MAP_PROJECTION_TYPE = SINUSOIDAL
  MAP_RESOLUTION = 1185.42760773333
  MAP_SCALE = 0.05
  MAXIMUM_LATITUDE = 27.7745
  MINIMUM_LATITUDE = 15.4625
  POSITIVE_LONGITUDE_DIRECTION = EAST
  REFERENCE_LATITUDE = "N/A"
  REFERENCE_LONGITUDE = "N/A"
  SAMPLE_FIRST_PIXEL = 1
  SAMPLE_LAST_PIXEL = 1418
  SAMPLE_PROJECTION_OFFSET = 693.125
  SECOND_STANDARD_PARALLEL = "N/A"
  WESTERNMOST_LONGITUDE = 322.368
END_OBJECT = IMAGE_MAP_PROJECTION
END
