PDS_VERSION_ID = PDS3
/* FILE DATA ELEMENTS */
RECORD_TYPE = UNDEFINED
/* POINTERS TO DATA OBJECTS */
^IMAGE = ("H3210_0000_BL4.TIF")
/* IDENTIFICATION DATA ELEMENTS */
DATA_SET_ID = "MEX-M-HRSC-4-REFDR-MAPPROJECT-EXT1-V4.0"
DATA_SET_NAME = "MARS EXPRESS HRSC MAP PROJECTED REFDR EXTENSION1 V4.0"
DETECTOR_ID = MEX_HRSC_BLUE
EVENT_TYPE = "MARS-REGIONAL-MAPPING-Vo-Te"
INSTRUMENT_HOST_ID = MEX
INSTRUMENT_HOST_NAME = "MARS EXPRESS"
INSTRUMENT_ID = HRSC
INSTRUMENT_NAME = "HIGH RESOLUTION STEREO CAMERA"
MISSION_NAME = "MARS EXPRESS"
MISSION_PHASE_NAME = ME_Phase_3
PROCESSING_LEVEL_ID = 4
PRODUCT_CREATION_TIME = 2023-02-09T11:24:25.000Z
PRODUCT_ID = "H3210_0000_BL4.TIF"
RELEASE_ID = 0003
REVISION_ID = 0000
/* QUALITY DATA ELEMENTS */
DATA_QUALITY_ID = 1
DATA_QUALITY_DESC = "Data calculated based on original SPICE kernels"
/* TIME DATA ELEMENTS */
SPACECRAFT_CLOCK_START_COUNT = "1/0100613545.07309"
SPACECRAFT_CLOCK_STOP_COUNT = "1/0100613915.37459"
START_TIME = 2006-07-10T12:13:19.966Z
STOP_TIME = 2006-07-10T12:17:26.795Z
/* ORBITAL DATA ELEMENTS */
ASCENDING_NODE_LONGITUDE = 160.86
MAXIMUM_RESOLUTION = 0.0746
FOOTPRINT_POINT_LATITUDE = (-0.81019,-0.808195,-0.805526,-0.802844 ,-0.801018,-0.800916,-0.81014,-1.53176, -2.0184,-2.51299,-3.0108,-3.26245, -3.51381,-3.76921,-4.02497,-4.28026, -4.54017,-4.92948,-5.32436,-5.58832, -5.85568,-6.12228,-6.5276,-6.79757, -7.20906,-7.48422,-7.76229,-8.04137, -8.32294,-8.60518,-8.89042,-9.17647, -9.46529,-9.75492,-10.0477,-10.4896, -10.7866,-11.0861,-11.5386,-11.8427, -12.1495,-12.6131,-13.0813,-13.5549, -14.0337,-14.5176,-14.6799,-14.7314, -14.7362,-14.7419,-14.7457,-14.7484, -14.7497,-14.7509,-14.7509,-14.7494, -14.4246,-14.1023,-13.7816,-13.4633, -13.1482,-12.8346,-12.5232,-12.2147, -11.9073,-11.6031,-11.1498,-10.8491, -10.5519,-10.1091,-9.8154,-9.52561, -9.23581,-8.94976,-8.66362,-8.38119, -8.0988,-7.82029,-7.53921,-7.26668, -6.9907,-6.71576,-6.31099,-6.04106, -5.64195,-5.24579,-4.98196,-4.72147, -4.46193,-4.2027,-3.94794,-3.69193, -3.31257,-3.06073,-2.80918,-2.31391, -1.57913,-0.975824,-0.856045,-0.81019)
FOOTPRINT_POINT_LONGITUDE = (257.337,256.934,256.442,255.999,255.71 ,255.695,255.698,255.676,255.661, 255.646,255.63,255.621,255.613,255.605, 255.596,255.588,255.579,255.566,255.551 ,255.543,255.533,255.523,255.508, 255.497,255.481,255.471,255.46,255.449, 255.438,255.426,255.414,255.403,255.39, 255.378,255.366,255.346,255.333,255.32, 255.299,255.285,255.271,255.249,255.227 ,255.204,255.18,255.156,255.147,255.145 ,255.484,255.984,256.416,256.828, 257.126,257.563,257.586,257.593,257.583 ,257.574,257.565,257.556,257.547, 257.538,257.529,257.521,257.512,257.505 ,257.493,257.487,257.48,257.469,257.463 ,257.457,257.451,257.444,257.438, 257.433,257.426,257.421,257.42,257.408, 257.405,257.406,257.393,257.393,257.38, 257.376,257.372,257.37,257.365,257.363, 257.357,257.354,257.348,257.345,257.342 ,257.335,257.326,257.319,257.318, 257.337)
ORBIT_NUMBER = 3210
ORBITAL_ECCENTRICITY = 0.57
ORBITAL_INCLINATION = 86.68
ORBITAL_SEMIMAJOR_AXIS = 8617.25
PERIAPSIS_ALTITUDE = 317.41
PERIAPSIS_ARGUMENT_ANGLE = 153.78
PERIAPSIS_TIME = 2006-07-10T12:06:09.000Z
SPACECRAFT_ORIENTATION = (0.0,-1.0,0.0)
^MEX_ORIENTATION_DESC = "MEX_ORIENTATION_DESC.TXT"
SPACECRAFT_POINTING_MODE = ACROSSTRACK
^MEX_POINTING_DESC = "MEX_POINTING_DESC.TXT"
RIGHT_ASCENSION = -1e+32
DECLINATION = -1e+32
OFFSET_ANGLE = 0.4
SPACECRAFT_SOLAR_DISTANCE = 2.49079e+08
TARGET_NAME = MARS
/* CAMERA DATA ELEMENTS */
DETECTOR_TEMPERATURE = 18.1666
FOCAL_PLANE_TEMPERATURE = 7.3599
INST_CMPRS_NAME = "DISCRETE COSINE TRANSFORMATION (DCT)"
INST_CMPRS_RATIO = 18.4721
INST_CMPRS_QUALITY = 0
INST_CMPRS_QUANTZ_TBL_ID = 0
INSTRUMENT_TEMPERATURE = 11.0301
LENS_TEMPERATURE = 7.9716
MACROPIXEL_SIZE = 4
MISSING_FRAMES = 0
PIXEL_SUBSAMPLING_FLAG = N
SIGNAL_CHAIN_ID = 2
/* RADIOMETRIC DATA ELEMENTS */
BANDWIDTH = 76.0
CENTER_FILTER_WAVELENGTH = 444.0
RADIANCE_OFFSET = 0.242168
RADIANCE_SCALING_FACTOR = 0.00339171
REFLECTANCE_SCALING_FACTOR = 0.000216196
MEX:REFLECTANCE_OFFSET = 0.0154364
/* IMAGE OBJECT DEFINITIONS */
OBJECT = IMAGE
  INTERCHANGE_FORMAT = BINARY
  LINES = 16531
  LINE_SAMPLES = 2771
  SAMPLE_TYPE = UNSIGNED_INTEGER
  SAMPLE_BITS = 8
  BANDS = 1
  BAND_STORAGE_TYPE = BAND_SEQUENTIAL
  MAXIMUM = 255
  MEAN = 126.178
  MINIMUM = 1
  STANDARD_DEVIATION = 30.5436
END_OBJECT = IMAGE
/* MAP OBJECT DEFINITIONS */
OBJECT = IMAGE_MAP_PROJECTION
  ^DATA_SET_MAP_PROJECTION_CATALOG= "DSMAP.CAT"
  A_AXIS_RADIUS = 3396.0
  B_AXIS_RADIUS = 3396.0
  C_AXIS_RADIUS = 3396.0
  CENTER_LATITUDE = 0.0
  CENTER_LONGITUDE = 256.0
  COORDINATE_SYSTEM_NAME = PLANETOGRAPHIC
  COORDINATE_SYSTEM_TYPE = "BODY-FIXED ROTATING"
  EASTERNMOST_LONGITUDE = 257.593
  FIRST_STANDARD_PARALLEL = "N/A"
  LINE_FIRST_PIXEL = 1
  LINE_LAST_PIXEL = 16531
  LINE_PROJECTION_OFFSET = -944.625
  MAP_PROJECTION_ROTATION = 0.0
  MAP_PROJECTION_TYPE = SINUSOIDAL
  MAP_RESOLUTION = 1185.42760773333
  MAP_SCALE = 0.05
  MAXIMUM_LATITUDE = -0.800916
  MINIMUM_LATITUDE = -14.7509
  POSITIVE_LONGITUDE_DIRECTION = EAST
  REFERENCE_LATITUDE = "N/A"
  REFERENCE_LONGITUDE = "N/A"
  SAMPLE_FIRST_PIXEL = 1
  SAMPLE_LAST_PIXEL = 2771
  SAMPLE_PROJECTION_OFFSET = 967.625
  SECOND_STANDARD_PARALLEL = "N/A"
  WESTERNMOST_LONGITUDE = 255.145
END_OBJECT = IMAGE_MAP_PROJECTION
END
