PDS_VERSION_ID = PDS3
/* FILE DATA ELEMENTS */
RECORD_TYPE = UNDEFINED
/* POINTERS TO DATA OBJECTS */
^IMAGE = ("H3217_0000_BL4.TIF")
/* IDENTIFICATION DATA ELEMENTS */
DATA_SET_ID = "MEX-M-HRSC-4-REFDR-MAPPROJECT-EXT1-V4.0"
DATA_SET_NAME = "MARS EXPRESS HRSC MAP PROJECTED REFDR EXTENSION1 V4.0"
DETECTOR_ID = MEX_HRSC_BLUE
EVENT_TYPE = "MARS-REGIONAL-MAPPING-Vo-Te-La"
INSTRUMENT_HOST_ID = MEX
INSTRUMENT_HOST_NAME = "MARS EXPRESS"
INSTRUMENT_ID = HRSC
INSTRUMENT_NAME = "HIGH RESOLUTION STEREO CAMERA"
MISSION_NAME = "MARS EXPRESS"
MISSION_PHASE_NAME = ME_Phase_3
PROCESSING_LEVEL_ID = 4
PRODUCT_CREATION_TIME = 2023-02-09T11:24:25.000Z
PRODUCT_ID = "H3217_0000_BL4.TIF"
RELEASE_ID = 0003
REVISION_ID = 0000
/* QUALITY DATA ELEMENTS */
DATA_QUALITY_ID = 1
DATA_QUALITY_DESC = "Data calculated based on original SPICE kernels"
/* TIME DATA ELEMENTS */
SPACECRAFT_CLOCK_START_COUNT = "1/0100782441.07295"
SPACECRAFT_CLOCK_STOP_COUNT = "1/0100782768.24503"
START_TIME = 2006-07-12T11:08:02.257Z
STOP_TIME = 2006-07-12T11:12:20.832Z
/* ORBITAL DATA ELEMENTS */
ASCENDING_NODE_LONGITUDE = 160.71
MAXIMUM_RESOLUTION = 0.1058
FOOTPRINT_POINT_LATITUDE = (28.9383,28.9375,28.9354,28.9305, 28.9303,28.932,28.6037,28.2756,27.7842, 27.456,27.1277,26.7995,26.4714,26.1433, 25.6512,25.3223,24.8316,24.5039,24.1764 ,23.849,23.5219,23.1947,22.8677,22.5409 ,22.0512,21.7246,21.3982,20.9087, 20.5827,20.2569,19.9314,19.6061,19.2811 ,18.9563,18.6318,18.3072,17.9819, 17.4981,16.8517,16.2063,15.562,14.919, 14.5456,14.163,13.7806,13.3987,12.8283, 12.4479,12.2581,12.2221,12.2136,12.2074 ,12.1967,12.1965,12.1983,12.5788, 12.9602,13.3421,13.7243,14.107,14.4902, 14.8697,15.5129,16.1581,16.4819,16.9667 ,17.29,17.7771,18.1019,18.427,18.7521, 19.0776,19.404,19.7297,20.0562,20.3824, 21.0336,21.5247,21.8521,22.3421,22.6698 ,22.9979,23.4892,23.817,24.1452,24.4734 ,24.8017,25.2943,25.6228,25.9514, 26.2802,26.609,26.938,27.267,27.7605, 28.0896,28.4187,28.7477,28.9123, 28.9383)
FOOTPRINT_POINT_LONGITUDE = (286.639,286.233,285.805,285.223, 285.209,285.164,285.18,285.192,285.203, 285.217,285.231,285.244,285.257,285.269 ,285.288,285.309,285.316,285.327, 285.337,285.345,285.353,285.362,285.371 ,285.377,285.386,285.394,285.402, 285.415,285.423,285.43,285.436,285.442, 285.447,285.452,285.456,285.463,285.477 ,285.468,285.475,285.481,285.487, 285.492,285.493,285.495,285.499,285.502 ,285.496,285.497,285.497,285.497, 285.987,286.343,286.928,286.941,286.949 ,286.944,286.938,286.932,286.927, 286.921,286.915,286.91,286.903,286.894, 286.886,286.88,286.876,286.865,286.858, 286.851,286.845,286.839,286.829,286.823 ,286.815,286.809,286.804,286.79,286.782 ,286.776,286.768,286.759,286.75,286.744 ,286.736,286.729,286.722,286.71,286.703 ,286.695,286.687,286.678,286.669,286.66 ,286.647,286.637,286.628,286.619, 286.614,286.639)
ORBIT_NUMBER = 3217
ORBITAL_ECCENTRICITY = 0.569
ORBITAL_INCLINATION = 86.68
ORBITAL_SEMIMAJOR_AXIS = 8608.37
PERIAPSIS_ALTITUDE = 318.88
PERIAPSIS_ARGUMENT_ANGLE = 152.57
PERIAPSIS_TIME = 2006-07-12T11:08:21.000Z
SPACECRAFT_ORIENTATION = (0.0,-1.0,0.0)
^MEX_ORIENTATION_DESC = "MEX_ORIENTATION_DESC.TXT"
SPACECRAFT_POINTING_MODE = ACROSSTRACK
^MEX_POINTING_DESC = "MEX_POINTING_DESC.TXT"
RIGHT_ASCENSION = -1e+32
DECLINATION = -1e+32
OFFSET_ANGLE = -1.95
SPACECRAFT_SOLAR_DISTANCE = 2.49034e+08
TARGET_NAME = MARS
/* CAMERA DATA ELEMENTS */
DETECTOR_TEMPERATURE = 18.3705
FOCAL_PLANE_TEMPERATURE = 7.5638
INST_CMPRS_NAME = "DISCRETE COSINE TRANSFORMATION (DCT)"
INST_CMPRS_RATIO = 13.3422
INST_CMPRS_QUALITY = 0
INST_CMPRS_QUANTZ_TBL_ID = 0
INSTRUMENT_TEMPERATURE = 11.0301
LENS_TEMPERATURE = 8.1755
MACROPIXEL_SIZE = 8
MISSING_FRAMES = 0
PIXEL_SUBSAMPLING_FLAG = N
SIGNAL_CHAIN_ID = 2
/* RADIOMETRIC DATA ELEMENTS */
BANDWIDTH = 76.0
CENTER_FILTER_WAVELENGTH = 444.0
RADIANCE_OFFSET = 0.630967
RADIANCE_SCALING_FACTOR = 0.00275627
REFLECTANCE_SCALING_FACTOR = 0.000175628
MEX:REFLECTANCE_OFFSET = 0.0402049
/* IMAGE OBJECT DEFINITIONS */
OBJECT = IMAGE
  INTERCHANGE_FORMAT = BINARY
  LINES = 9937
  LINE_SAMPLES = 992
  SAMPLE_TYPE = UNSIGNED_INTEGER
  SAMPLE_BITS = 8
  BANDS = 1
  BAND_STORAGE_TYPE = BAND_SEQUENTIAL
  MAXIMUM = 255
  MEAN = 117.879
  MINIMUM = 1
  STANDARD_DEVIATION = 33.8076
END_OBJECT = IMAGE
/* MAP OBJECT DEFINITIONS */
OBJECT = IMAGE_MAP_PROJECTION
  ^DATA_SET_MAP_PROJECTION_CATALOG= "DSMAP.CAT"
  A_AXIS_RADIUS = 3396.0
  B_AXIS_RADIUS = 3396.0
  C_AXIS_RADIUS = 3396.0
  CENTER_LATITUDE = 0.0
  CENTER_LONGITUDE = 286.0
  COORDINATE_SYSTEM_NAME = PLANETOGRAPHIC
  COORDINATE_SYSTEM_TYPE = "BODY-FIXED ROTATING"
  EASTERNMOST_LONGITUDE = 286.949
  FIRST_STANDARD_PARALLEL = "N/A"
  LINE_FIRST_PIXEL = 1
  LINE_LAST_PIXEL = 9937
  LINE_PROJECTION_OFFSET = 17169.0625
  MAP_PROJECTION_ROTATION = 0.0
  MAP_PROJECTION_TYPE = SINUSOIDAL
  MAP_RESOLUTION = 592.713803866667
  MAP_SCALE = 0.1
  MAXIMUM_LATITUDE = 28.9383
  MINIMUM_LATITUDE = 12.1965
  POSITIVE_LONGITUDE_DIRECTION = EAST
  REFERENCE_LATITUDE = "N/A"
  REFERENCE_LONGITUDE = "N/A"
  SAMPLE_FIRST_PIXEL = 1
  SAMPLE_LAST_PIXEL = 992
  SAMPLE_PROJECTION_OFFSET = 442.4375
  SECOND_STANDARD_PARALLEL = "N/A"
  WESTERNMOST_LONGITUDE = 285.164
END_OBJECT = IMAGE_MAP_PROJECTION
END
