PDS_VERSION_ID = PDS3
/* FILE DATA ELEMENTS */
RECORD_TYPE = UNDEFINED
/* POINTERS TO DATA OBJECTS */
^IMAGE = ("H3220_0000_IR4.TIF")
/* IDENTIFICATION DATA ELEMENTS */
DATA_SET_ID = "MEX-M-HRSC-4-REFDR-MAPPROJECT-EXT1-V4.0"
DATA_SET_NAME = "MARS EXPRESS HRSC MAP PROJECTED REFDR EXTENSION1 V4.0"
DETECTOR_ID = MEX_HRSC_IR
EVENT_TYPE = "MARS-REGIONAL-MAPPING-Im-Lc"
INSTRUMENT_HOST_ID = MEX
INSTRUMENT_HOST_NAME = "MARS EXPRESS"
INSTRUMENT_ID = HRSC
INSTRUMENT_NAME = "HIGH RESOLUTION STEREO CAMERA"
MISSION_NAME = "MARS EXPRESS"
MISSION_PHASE_NAME = ME_Phase_3
PROCESSING_LEVEL_ID = 4
PRODUCT_CREATION_TIME = 2023-02-09T11:24:25.000Z
PRODUCT_ID = "H3220_0000_IR4.TIF"
RELEASE_ID = 0003
REVISION_ID = 0000
/* QUALITY DATA ELEMENTS */
DATA_QUALITY_ID = 1
DATA_QUALITY_DESC = "Data calculated based on original SPICE kernels"
/* TIME DATA ELEMENTS */
SPACECRAFT_CLOCK_START_COUNT = "1/0100854997.07276"
SPACECRAFT_CLOCK_STOP_COUNT = "1/0100855194.15080"
START_TIME = 2006-07-13T07:16:47.356Z
STOP_TIME = 2006-07-13T07:19:02.637Z
/* ORBITAL DATA ELEMENTS */
ASCENDING_NODE_LONGITUDE = 160.66
MAXIMUM_RESOLUTION = 0.1082
FOOTPRINT_POINT_LATITUDE = (30.4232,30.4428,30.4545,30.4655, 30.4759,30.495,30.4955,30.4568,30.1932, 29.9288,29.7532,29.4883,29.3117,29.047, 28.8725,28.6969,28.4302,28.2524,28.0756 ,27.8978,27.7202,27.5431,27.3681, 27.0248,26.8525,26.5951,26.1653,25.9074 ,25.6488,25.4764,25.2178,24.8734, 24.6146,24.3564,24.1839,24.0116,23.8392 ,23.6627,23.4842,23.2165,23.0387, 22.7707,22.5918,22.4124,22.2336,22.0554 ,21.8769,21.6993,21.61,21.6017,21.5784, 21.5589,21.5357,21.5197,21.519,21.5201, 21.6994,21.8785,22.0573,22.3258,22.5047 ,22.6836,22.8623,23.1304,23.3089, 23.4873,23.6658,23.8397,24.0124,24.2696 ,24.4439,24.6162,24.8748,25.0472, 25.3913,25.7359,25.9083,26.1649,26.3383 ,26.6821,26.8552,27.1979,27.3703, 27.5476,27.727,28.073,28.3316,28.5085, 28.6895,28.8625,29.039,29.2157,29.4, 29.5833,29.7626,29.9368,30.1125,30.2894 ,30.377,30.4232)
FOOTPRINT_POINT_LONGITUDE = (355.402,355.072,354.865,354.661,354.46 ,354.067,354.055,354.066,354.069, 354.072,354.073,354.076,354.078,354.08, 354.081,354.081,354.084,354.086,354.087 ,354.088,354.09,354.091,354.092,354.093 ,354.095,354.096,354.097,354.098, 354.099,354.1,354.1,354.101,354.101, 354.101,354.101,354.101,354.101,354.101 ,354.101,354.1,354.1,354.099,354.099, 354.099,354.098,354.097,354.097,354.095 ,354.095,354.095,354.476,354.775, 355.118,355.355,355.367,355.376,355.377 ,355.378,355.379,355.381,355.382, 355.384,355.385,355.387,355.389,355.39, 355.392,355.393,355.395,355.399,355.398 ,355.399,355.401,355.403,355.406, 355.409,355.41,355.414,355.414,355.417, 355.417,355.421,355.422,355.423,355.423 ,355.437,355.448,355.45,355.447,355.453 ,355.455,355.457,355.449,355.443, 355.441,355.446,355.448,355.449,355.451 ,355.402)
ORBIT_NUMBER = 3220
ORBITAL_ECCENTRICITY = 0.569
ORBITAL_INCLINATION = 86.68
ORBITAL_SEMIMAJOR_AXIS = 8601.87
PERIAPSIS_ALTITUDE = 319.66
PERIAPSIS_ARGUMENT_ANGLE = 152.0
PERIAPSIS_TIME = 2006-07-13T07:17:49.000Z
SPACECRAFT_ORIENTATION = (0.0,-1.0,0.0)
^MEX_ORIENTATION_DESC = "MEX_ORIENTATION_DESC.TXT"
SPACECRAFT_POINTING_MODE = ACROSSTRACK
^MEX_POINTING_DESC = "MEX_POINTING_DESC.TXT"
RIGHT_ASCENSION = -1e+32
DECLINATION = -1e+32
OFFSET_ANGLE = 1.15
SPACECRAFT_SOLAR_DISTANCE = 2.49013e+08
TARGET_NAME = MARS
/* CAMERA DATA ELEMENTS */
DETECTOR_TEMPERATURE = 17.5549
FOCAL_PLANE_TEMPERATURE = 8.3794
INST_CMPRS_NAME = "DISCRETE COSINE TRANSFORMATION (DCT)"
INST_CMPRS_RATIO = 14.6158
INST_CMPRS_QUALITY = 0
INST_CMPRS_QUANTZ_TBL_ID = 0
INSTRUMENT_TEMPERATURE = 11.234
LENS_TEMPERATURE = 8.5833
MACROPIXEL_SIZE = 8
MISSING_FRAMES = 0
PIXEL_SUBSAMPLING_FLAG = N
SIGNAL_CHAIN_ID = 2
/* RADIOMETRIC DATA ELEMENTS */
BANDWIDTH = 81.0
CENTER_FILTER_WAVELENGTH = 955.5
RADIANCE_OFFSET = 0.761764
RADIANCE_SCALING_FACTOR = 0.00779614
REFLECTANCE_SCALING_FACTOR = 0.00104292
MEX:REFLECTANCE_OFFSET = 0.101904
/* IMAGE OBJECT DEFINITIONS */
OBJECT = IMAGE
  INTERCHANGE_FORMAT = BINARY
  LINES = 5246
  LINE_SAMPLES = 743
  SAMPLE_TYPE = UNSIGNED_INTEGER
  SAMPLE_BITS = 8
  BANDS = 1
  BAND_STORAGE_TYPE = BAND_SEQUENTIAL
  MAXIMUM = 255
  MEAN = 173.698
  MINIMUM = 1
  STANDARD_DEVIATION = 23.1247
END_OBJECT = IMAGE
/* MAP OBJECT DEFINITIONS */
OBJECT = IMAGE_MAP_PROJECTION
  ^DATA_SET_MAP_PROJECTION_CATALOG= "DSMAP.CAT"
  A_AXIS_RADIUS = 3396.0
  B_AXIS_RADIUS = 3396.0
  C_AXIS_RADIUS = 3396.0
  CENTER_LATITUDE = 0.0
  CENTER_LONGITUDE = 355.0
  COORDINATE_SYSTEM_NAME = PLANETOGRAPHIC
  COORDINATE_SYSTEM_TYPE = "BODY-FIXED ROTATING"
  EASTERNMOST_LONGITUDE = 355.457
  FIRST_STANDARD_PARALLEL = "N/A"
  LINE_FIRST_PIXEL = 1
  LINE_LAST_PIXEL = 5246
  LINE_PROJECTION_OFFSET = 18036.5625
  MAP_PROJECTION_ROTATION = 0.0
  MAP_PROJECTION_TYPE = SINUSOIDAL
  MAP_RESOLUTION = 592.713803866667
  MAP_SCALE = 0.1
  MAXIMUM_LATITUDE = 30.4955
  MINIMUM_LATITUDE = 21.519
  POSITIVE_LONGITUDE_DIRECTION = EAST
  REFERENCE_LATITUDE = "N/A"
  REFERENCE_LONGITUDE = "N/A"
  SAMPLE_FIRST_PIXEL = 1
  SAMPLE_LAST_PIXEL = 743
  SAMPLE_PROJECTION_OFFSET = 510.0625
  SECOND_STANDARD_PARALLEL = "N/A"
  WESTERNMOST_LONGITUDE = 354.055
END_OBJECT = IMAGE_MAP_PROJECTION
END
