PDS_VERSION_ID = PDS3
/* FILE DATA ELEMENTS */
RECORD_TYPE = UNDEFINED
/* POINTERS TO DATA OBJECTS */
^IMAGE = ("H3220_0001_GR4.TIF")
/* IDENTIFICATION DATA ELEMENTS */
DATA_SET_ID = "MEX-M-HRSC-4-REFDR-MAPPROJECT-EXT1-V4.0"
DATA_SET_NAME = "MARS EXPRESS HRSC MAP PROJECTED REFDR EXTENSION1 V4.0"
DETECTOR_ID = MEX_HRSC_GREEN
EVENT_TYPE = "MARS-REGIONAL-MAPPING-Lc-La-Ot"
INSTRUMENT_HOST_ID = MEX
INSTRUMENT_HOST_NAME = "MARS EXPRESS"
INSTRUMENT_ID = HRSC
INSTRUMENT_NAME = "HIGH RESOLUTION STEREO CAMERA"
MISSION_NAME = "MARS EXPRESS"
MISSION_PHASE_NAME = ME_Phase_3
PROCESSING_LEVEL_ID = 4
PRODUCT_CREATION_TIME = 2023-02-09T11:24:25.000Z
PRODUCT_ID = "H3220_0001_GR4.TIF"
RELEASE_ID = 0003
REVISION_ID = 0000
/* QUALITY DATA ELEMENTS */
DATA_QUALITY_ID = 1
DATA_QUALITY_DESC = "Data calculated based on original SPICE kernels"
/* TIME DATA ELEMENTS */
SPACECRAFT_CLOCK_START_COUNT = "1/0100855482.09074"
SPACECRAFT_CLOCK_STOP_COUNT = "1/0100855810.52521"
START_TIME = 2006-07-13T07:25:24.832Z
STOP_TIME = 2006-07-13T07:28:38.087Z
/* ORBITAL DATA ELEMENTS */
ASCENDING_NODE_LONGITUDE = 160.66
MAXIMUM_RESOLUTION = 0.0791
FOOTPRINT_POINT_LATITUDE = (-1.48335,-1.47499,-1.46997,-1.46501, -1.46014,-1.45535,-1.45067,-1.45038, -1.45352,-1.95145,-2.3522,-2.75928, -3.16718,-3.37481,-3.78893,-3.99793, -4.20765,-4.41895,-4.63101,-4.95021, -5.16364,-5.37959,-5.5964,-5.81307, -6.14176,-6.3616,-6.69387,-6.91716, -7.13939,-7.36557,-7.70492,-8.04817, -8.27756,-8.62528,-8.85764,-9.2097, -9.44517,-9.80201,-10.0402,-10.2805, -10.5221,-10.8878,-11.1321,-11.3785, -11.6258,-11.8755,-12.1256,-12.5044, -12.6307,-12.6947,-12.7009,-12.7068, -12.7108,-12.7163,-12.7207,-12.7259, -12.732,-12.7322,-12.7309,-12.4778, -12.2249,-11.9747,-11.6006,-11.354, -11.1072,-10.8627,-10.6186,-10.3771, -10.1353,-9.77765,-9.53904,-9.30358, -8.95053,-8.60179,-8.36937,-8.14005, -7.79615,-7.57031,-7.34385,-7.11858, -6.78423,-6.56134,-6.34156,-6.12135, -5.90162,-5.68521,-5.46834,-5.25156, -5.03816,-4.82444,-4.505,-4.29476, -4.08425,-3.6672,-3.14908,-2.53723, -2.0344,-1.63377,-1.53532,-1.48335)
FOOTPRINT_POINT_LONGITUDE = (355.407,354.97,354.706,354.444,354.185 ,353.929,353.674,353.659,353.656,353.64 ,353.628,353.614,353.601,353.594,353.58 ,353.573,353.566,353.559,353.552,353.54 ,353.533,353.525,353.517,353.509, 353.497,353.489,353.477,353.469,353.46, 353.452,353.439,353.426,353.417,353.403 ,353.394,353.38,353.371,353.356,353.346 ,353.336,353.326,353.311,353.3,353.29, 353.279,353.268,353.257,353.24,353.235, 353.232,353.558,353.91,354.154,354.51, 354.802,355.164,355.601,355.624,355.632 ,355.625,355.618,355.611,355.601, 355.598,355.589,355.582,355.576,355.57, 355.564,355.556,355.55,355.545,355.537, 355.529,355.523,355.518,355.511,355.507 ,355.503,355.499,355.494,355.49,355.486 ,355.482,355.477,355.475,355.471, 355.468,355.465,355.461,355.456,355.453 ,355.45,355.444,355.437,355.428,355.422 ,355.417,355.416,355.407)
ORBIT_NUMBER = 3220
ORBITAL_ECCENTRICITY = 0.569
ORBITAL_INCLINATION = 86.68
ORBITAL_SEMIMAJOR_AXIS = 8601.87
PERIAPSIS_ALTITUDE = 319.66
PERIAPSIS_ARGUMENT_ANGLE = 152.0
PERIAPSIS_TIME = 2006-07-13T07:17:49.000Z
SPACECRAFT_ORIENTATION = (0.0,-1.0,0.0)
^MEX_ORIENTATION_DESC = "MEX_ORIENTATION_DESC.TXT"
SPACECRAFT_POINTING_MODE = ACROSSTRACK
^MEX_POINTING_DESC = "MEX_POINTING_DESC.TXT"
RIGHT_ASCENSION = -1e+32
DECLINATION = -1e+32
OFFSET_ANGLE = 1.15
SPACECRAFT_SOLAR_DISTANCE = 2.49013e+08
TARGET_NAME = MARS
/* CAMERA DATA ELEMENTS */
DETECTOR_TEMPERATURE = 19.1861
FOCAL_PLANE_TEMPERATURE = 8.3794
INST_CMPRS_NAME = "DISCRETE COSINE TRANSFORMATION (DCT)"
INST_CMPRS_RATIO = 10.8927
INST_CMPRS_QUALITY = 0
INST_CMPRS_QUANTZ_TBL_ID = 0
INSTRUMENT_TEMPERATURE = 12.8652
LENS_TEMPERATURE = 8.9911
MACROPIXEL_SIZE = 4
MISSING_FRAMES = 0
PIXEL_SUBSAMPLING_FLAG = N
SIGNAL_CHAIN_ID = 2
/* RADIOMETRIC DATA ELEMENTS */
BANDWIDTH = 88.0
CENTER_FILTER_WAVELENGTH = 538.0
RADIANCE_OFFSET = 0.803392
RADIANCE_SCALING_FACTOR = 0.00486904
REFLECTANCE_SCALING_FACTOR = 0.00025994
MEX:REFLECTANCE_OFFSET = 0.0428902
/* IMAGE OBJECT DEFINITIONS */
OBJECT = IMAGE
  INTERCHANGE_FORMAT = BINARY
  LINES = 6673
  LINE_SAMPLES = 1419
  SAMPLE_TYPE = UNSIGNED_INTEGER
  SAMPLE_BITS = 8
  BANDS = 1
  BAND_STORAGE_TYPE = BAND_SEQUENTIAL
  MAXIMUM = 255
  MEAN = 124.68
  MINIMUM = 1
  STANDARD_DEVIATION = 26.4972
END_OBJECT = IMAGE
/* MAP OBJECT DEFINITIONS */
OBJECT = IMAGE_MAP_PROJECTION
  ^DATA_SET_MAP_PROJECTION_CATALOG= "DSMAP.CAT"
  A_AXIS_RADIUS = 3396.0
  B_AXIS_RADIUS = 3396.0
  C_AXIS_RADIUS = 3396.0
  CENTER_LATITUDE = 0.0
  CENTER_LONGITUDE = 354.0
  COORDINATE_SYSTEM_NAME = PLANETOGRAPHIC
  COORDINATE_SYSTEM_TYPE = "BODY-FIXED ROTATING"
  EASTERNMOST_LONGITUDE = 355.632
  FIRST_STANDARD_PARALLEL = "N/A"
  LINE_FIRST_PIXEL = 1
  LINE_LAST_PIXEL = 6673
  LINE_PROJECTION_OFFSET = -857.875
  MAP_PROJECTION_ROTATION = 0.0
  MAP_PROJECTION_TYPE = SINUSOIDAL
  MAP_RESOLUTION = 592.713803866667
  MAP_SCALE = 0.1
  MAXIMUM_LATITUDE = -1.45038
  MINIMUM_LATITUDE = -12.7322
  POSITIVE_LONGITUDE_DIRECTION = EAST
  REFERENCE_LATITUDE = "N/A"
  REFERENCE_LONGITUDE = "N/A"
  SAMPLE_FIRST_PIXEL = 1
  SAMPLE_LAST_PIXEL = 1419
  SAMPLE_PROJECTION_OFFSET = 462.125
  SECOND_STANDARD_PARALLEL = "N/A"
  WESTERNMOST_LONGITUDE = 353.232
END_OBJECT = IMAGE_MAP_PROJECTION
END
