PDS_VERSION_ID = PDS3
/* FILE DATA ELEMENTS */
RECORD_TYPE = UNDEFINED
/* POINTERS TO DATA OBJECTS */
^IMAGE = ("H3221_0000_BL4.TIF")
/* IDENTIFICATION DATA ELEMENTS */
DATA_SET_ID = "MEX-M-HRSC-4-REFDR-MAPPROJECT-EXT1-V4.0"
DATA_SET_NAME = "MARS EXPRESS HRSC MAP PROJECTED REFDR EXTENSION1 V4.0"
DETECTOR_ID = MEX_HRSC_BLUE
EVENT_TYPE = "MARS-REGIONAL-MAPPING-Vo-Te"
INSTRUMENT_HOST_ID = MEX
INSTRUMENT_HOST_NAME = "MARS EXPRESS"
INSTRUMENT_ID = HRSC
INSTRUMENT_NAME = "HIGH RESOLUTION STEREO CAMERA"
MISSION_NAME = "MARS EXPRESS"
MISSION_PHASE_NAME = ME_Phase_3
PROCESSING_LEVEL_ID = 4
PRODUCT_CREATION_TIME = 2023-02-09T11:24:25.000Z
PRODUCT_ID = "H3221_0000_BL4.TIF"
RELEASE_ID = 0003
REVISION_ID = 0000
/* QUALITY DATA ELEMENTS */
DATA_QUALITY_ID = 1
DATA_QUALITY_DESC = "Data calculated based on original SPICE kernels"
/* TIME DATA ELEMENTS */
SPACECRAFT_CLOCK_START_COUNT = "1/0100879679.08397"
SPACECRAFT_CLOCK_STOP_COUNT = "1/0100879985.47146"
START_TIME = 2006-07-13T14:08:57.950Z
STOP_TIME = 2006-07-13T14:12:00.548Z
/* ORBITAL DATA ELEMENTS */
ASCENDING_NODE_LONGITUDE = 160.63
MAXIMUM_RESOLUTION = 0.08
FOOTPRINT_POINT_LATITUDE = (-1.51302,-1.51081,-1.50806,-1.50451, -1.50167,-1.49744,-1.4946,-1.4944, -1.50396,-1.96081,-2.32792,-2.70074, -3.07341,-3.26313,-3.64195,-3.92939, -4.12179,-4.31389,-4.50806,-4.70319, -4.89772,-5.19336,-5.39124,-5.5882, -5.88893,-6.08896,-6.39126,-6.59404, -6.90104,-7.10693,-7.31251,-7.52003, -7.72823,-7.93589,-8.25201,-8.57073, -8.78415,-8.99763,-9.21394,-9.42992, -9.75701,-9.9755,-10.3067,-10.5277, -10.7514,-10.9749,-11.2005,-11.54, -11.6544,-11.7406,-11.7467,-11.7527, -11.7572,-11.7624,-11.7654,-11.7692, -11.7716,-11.7718,-11.7704,-11.5411, -11.3149,-10.9761,-10.7521,-10.5286, -10.3073,-9.97605,-9.75718,-9.53801, -9.21364,-8.99736,-8.67684,-8.46321, -8.25221,-8.04084,-7.83041,-7.51836, -7.30939,-7.10354,-6.79649,-6.49126, -6.28737,-6.085,-5.78597,-5.58473, -5.38794,-5.19011,-4.99249,-4.79762, -4.60216,-4.40655,-4.21442,-4.0218, -3.73293,-3.3539,-3.06938,-2.69603, -2.13949,-1.67928,-1.58894,-1.51302)
FOOTPRINT_POINT_LONGITUDE = (255.948,255.719,255.44,255.095,254.833 ,254.456,254.21,254.193,254.202,254.187 ,254.174,254.162,254.148,254.141, 254.128,254.118,254.111,254.104,254.096 ,254.089,254.081,254.071,254.063, 254.054,254.043,254.035,254.021,254.012 ,254.002,253.993,253.984,253.975, 253.966,253.955,253.94,253.928,253.918, 253.908,253.898,253.888,253.872,253.862 ,253.846,253.835,253.824,253.813, 253.802,253.785,253.779,253.774,254.123 ,254.495,254.801,255.194,255.456, 255.828,256.09,256.112,256.12,256.114, 256.108,256.1,256.095,256.09,256.085, 256.078,256.073,256.068,256.061,256.057 ,256.05,256.046,256.041,256.037,256.034 ,256.027,256.025,256.022,256.013, 256.008,256.005,256.004,255.996,255.995 ,255.99,255.986,255.983,255.98,255.978, 255.975,255.972,255.969,255.965,255.96, 255.956,255.951,255.943,255.937,255.936 ,255.948)
ORBIT_NUMBER = 3221
ORBITAL_ECCENTRICITY = 0.569
ORBITAL_INCLINATION = 86.68
ORBITAL_SEMIMAJOR_AXIS = 8614.55
PERIAPSIS_ALTITUDE = 319.07
PERIAPSIS_ARGUMENT_ANGLE = 151.83
PERIAPSIS_TIME = 2006-07-13T14:01:02.000Z
SPACECRAFT_ORIENTATION = (0.0,-1.0,0.0)
^MEX_ORIENTATION_DESC = "MEX_ORIENTATION_DESC.TXT"
SPACECRAFT_POINTING_MODE = NADIR
^MEX_POINTING_DESC = "MEX_POINTING_DESC.TXT"
RIGHT_ASCENSION = -1e+32
DECLINATION = -1e+32
OFFSET_ANGLE = -1e+32
SPACECRAFT_SOLAR_DISTANCE = 2.49005e+08
TARGET_NAME = MARS
/* CAMERA DATA ELEMENTS */
DETECTOR_TEMPERATURE = 18.1666
FOCAL_PLANE_TEMPERATURE = 7.7677
INST_CMPRS_NAME = "DISCRETE COSINE TRANSFORMATION (DCT)"
INST_CMPRS_RATIO = 17.1199
INST_CMPRS_QUALITY = 0
INST_CMPRS_QUANTZ_TBL_ID = 0
INSTRUMENT_TEMPERATURE = 11.234
LENS_TEMPERATURE = 8.3794
MACROPIXEL_SIZE = 4
MISSING_FRAMES = 0
PIXEL_SUBSAMPLING_FLAG = N
SIGNAL_CHAIN_ID = 2
/* RADIOMETRIC DATA ELEMENTS */
BANDWIDTH = 76.0
CENTER_FILTER_WAVELENGTH = 444.0
RADIANCE_OFFSET = 0.268625
RADIANCE_SCALING_FACTOR = 0.00328798
REFLECTANCE_SCALING_FACTOR = 0.000209461
MEX:REFLECTANCE_OFFSET = 0.0171127
/* IMAGE OBJECT DEFINITIONS */
OBJECT = IMAGE
  INTERCHANGE_FORMAT = BINARY
  LINES = 6088
  LINE_SAMPLES = 1345
  SAMPLE_TYPE = UNSIGNED_INTEGER
  SAMPLE_BITS = 8
  BANDS = 1
  BAND_STORAGE_TYPE = BAND_SEQUENTIAL
  MAXIMUM = 255
  MEAN = 128.146
  MINIMUM = 1
  STANDARD_DEVIATION = 26.4684
END_OBJECT = IMAGE
/* MAP OBJECT DEFINITIONS */
OBJECT = IMAGE_MAP_PROJECTION
  ^DATA_SET_MAP_PROJECTION_CATALOG= "DSMAP.CAT"
  A_AXIS_RADIUS = 3396.0
  B_AXIS_RADIUS = 3396.0
  C_AXIS_RADIUS = 3396.0
  CENTER_LATITUDE = 0.0
  CENTER_LONGITUDE = 255.0
  COORDINATE_SYSTEM_NAME = PLANETOGRAPHIC
  COORDINATE_SYSTEM_TYPE = "BODY-FIXED ROTATING"
  EASTERNMOST_LONGITUDE = 256.12
  FIRST_STANDARD_PARALLEL = "N/A"
  LINE_FIRST_PIXEL = 1
  LINE_LAST_PIXEL = 6088
  LINE_PROJECTION_OFFSET = -879.375
  MAP_PROJECTION_ROTATION = 0.0
  MAP_PROJECTION_TYPE = SINUSOIDAL
  MAP_RESOLUTION = 592.713803866667
  MAP_SCALE = 0.1
  MAXIMUM_LATITUDE = -1.4944
  MINIMUM_LATITUDE = -11.7718
  POSITIVE_LONGITUDE_DIRECTION = EAST
  REFERENCE_LATITUDE = "N/A"
  REFERENCE_LONGITUDE = "N/A"
  SAMPLE_FIRST_PIXEL = 1
  SAMPLE_LAST_PIXEL = 1345
  SAMPLE_PROJECTION_OFFSET = 706.625
  SECOND_STANDARD_PARALLEL = "N/A"
  WESTERNMOST_LONGITUDE = 253.774
END_OBJECT = IMAGE_MAP_PROJECTION
END
