PDS_VERSION_ID = PDS3
/* FILE DATA ELEMENTS */
RECORD_TYPE = UNDEFINED
/* POINTERS TO DATA OBJECTS */
^IMAGE = ("H3231_0000_RE4.TIF")
/* IDENTIFICATION DATA ELEMENTS */
DATA_SET_ID = "MEX-M-HRSC-4-REFDR-MAPPROJECT-EXT1-V4.0"
DATA_SET_NAME = "MARS EXPRESS HRSC MAP PROJECTED REFDR EXTENSION1 V4.0"
DETECTOR_ID = MEX_HRSC_RED
EVENT_TYPE = "MARS-REGIONAL-MAPPING-Vo-Im-Eo"
INSTRUMENT_HOST_ID = MEX
INSTRUMENT_HOST_NAME = "MARS EXPRESS"
INSTRUMENT_ID = HRSC
INSTRUMENT_NAME = "HIGH RESOLUTION STEREO CAMERA"
MISSION_NAME = "MARS EXPRESS"
MISSION_PHASE_NAME = ME_Phase_3
PROCESSING_LEVEL_ID = 4
PRODUCT_CREATION_TIME = 2023-02-09T11:24:25.000Z
PRODUCT_ID = "H3231_0000_RE4.TIF"
RELEASE_ID = 0003
REVISION_ID = 0000
/* QUALITY DATA ELEMENTS */
DATA_QUALITY_ID = 1
DATA_QUALITY_DESC = "Data calculated based on original SPICE kernels"
/* TIME DATA ELEMENTS */
SPACECRAFT_CLOCK_START_COUNT = "1/0101120672.08253"
SPACECRAFT_CLOCK_STOP_COUNT = "1/0101120910.57944"
START_TIME = 2006-07-16T09:06:09.527Z
STOP_TIME = 2006-07-16T09:08:28.212Z
/* ORBITAL DATA ELEMENTS */
ASCENDING_NODE_LONGITUDE = 160.43
MAXIMUM_RESOLUTION = 0.1313
FOOTPRINT_POINT_LATITUDE = (57.8203,57.8099,57.7981,57.785,57.7706 ,57.7549,57.7275,57.7263,57.8183, 57.6228,57.4269,57.2329,57.0413,56.8501 ,56.6581,56.3706,56.1829,55.995,55.7128 ,55.5245,55.3379,55.0633,54.7866, 54.6019,54.4187,54.2387,54.0575,53.7874 ,53.6072,53.3368,53.1604,52.9842, 52.8077,52.6312,52.4546,52.2782,52.1059 ,51.9337,51.7609,51.5882,51.4154,51.071 ,50.8186,50.4818,50.2289,49.8066,49.469 ,49.2153,48.9617,48.8771,48.873,48.8825 ,48.892,48.8977,48.9017,48.9059,48.906, 48.9083,49.2483,49.5033,49.847,50.0975, 50.4369,50.7761,51.115,51.2878,51.5487, 51.7227,51.8964,52.0694,52.2431,52.5076 ,52.6855,52.8633,53.041,53.3075,53.4862 ,53.6674,53.8496,54.122,54.3041,54.485, 54.6692,54.8566,55.0429,55.2277,55.4133 ,55.6005,55.79,55.9796,56.1678,56.3549, 56.5487,56.8437,57.1291,57.3232,57.6185 ,57.8162,57.9156,57.8203)
FOOTPRINT_POINT_LONGITUDE = (351.088,350.645,350.201,349.754, 349.305,348.854,348.143,348.114,347.961 ,348.009,348.057,348.104,348.15,348.194 ,348.238,348.303,348.345,348.386, 348.446,348.486,348.526,348.581,348.636 ,348.673,348.708,348.742,348.777, 348.827,348.86,348.909,348.941,348.971, 349.002,349.032,349.061,349.09,349.118, 349.146,349.174,349.201,349.229,349.281 ,349.319,349.368,349.404,349.464,349.51 ,349.544,349.577,349.588,349.589, 350.049,350.585,350.94,351.253,351.661, 351.68,351.693,351.676,351.664,351.646, 351.633,351.615,351.597,351.578,351.569 ,351.554,351.544,351.534,351.523, 351.513,351.497,351.486,351.475,351.464 ,351.447,351.435,351.423,351.411, 351.392,351.38,351.367,351.354,351.341, 351.327,351.313,351.3,351.285,351.271, 351.256,351.241,351.226,351.21,351.186, 351.162,351.145,351.119,351.102,351.093 ,351.088)
ORBIT_NUMBER = 3231
ORBITAL_ECCENTRICITY = 0.568
ORBITAL_INCLINATION = 86.68
ORBITAL_SEMIMAJOR_AXIS = 8599.06
PERIAPSIS_ALTITUDE = 320.92
PERIAPSIS_ARGUMENT_ANGLE = 150.05
PERIAPSIS_TIME = 2006-07-16T09:12:52.000Z
SPACECRAFT_ORIENTATION = (0.0,-1.0,0.0)
^MEX_ORIENTATION_DESC = "MEX_ORIENTATION_DESC.TXT"
SPACECRAFT_POINTING_MODE = ACROSSTRACK
^MEX_POINTING_DESC = "MEX_POINTING_DESC.TXT"
RIGHT_ASCENSION = -1e+32
DECLINATION = -1e+32
OFFSET_ANGLE = -0.6
SPACECRAFT_SOLAR_DISTANCE = 2.48927e+08
TARGET_NAME = MARS
/* CAMERA DATA ELEMENTS */
DETECTOR_TEMPERATURE = 18.3705
FOCAL_PLANE_TEMPERATURE = 7.5638
INST_CMPRS_NAME = "DISCRETE COSINE TRANSFORMATION (DCT)"
INST_CMPRS_RATIO = 20.601
INST_CMPRS_QUALITY = 0
INST_CMPRS_QUANTZ_TBL_ID = 0
INSTRUMENT_TEMPERATURE = 11.0301
LENS_TEMPERATURE = 8.3794
MACROPIXEL_SIZE = 8
MISSING_FRAMES = 0
PIXEL_SUBSAMPLING_FLAG = N
SIGNAL_CHAIN_ID = 2
/* RADIOMETRIC DATA ELEMENTS */
BANDWIDTH = 48.0
CENTER_FILTER_WAVELENGTH = 748.0
RADIANCE_OFFSET = 0.71475
RADIANCE_SCALING_FACTOR = 0.00577076
REFLECTANCE_SCALING_FACTOR = 0.000816023
MEX:REFLECTANCE_OFFSET = 0.10107
/* IMAGE OBJECT DEFINITIONS */
OBJECT = IMAGE
  INTERCHANGE_FORMAT = BINARY
  LINES = 5407
  LINE_SAMPLES = 1351
  SAMPLE_TYPE = UNSIGNED_INTEGER
  SAMPLE_BITS = 8
  BANDS = 1
  BAND_STORAGE_TYPE = BAND_SEQUENTIAL
  MAXIMUM = 253
  MEAN = 105.183
  MINIMUM = 1
  STANDARD_DEVIATION = 38.1463
END_OBJECT = IMAGE
/* MAP OBJECT DEFINITIONS */
OBJECT = IMAGE_MAP_PROJECTION
  ^DATA_SET_MAP_PROJECTION_CATALOG= "DSMAP.CAT"
  A_AXIS_RADIUS = 3396.0
  B_AXIS_RADIUS = 3396.0
  C_AXIS_RADIUS = 3396.0
  CENTER_LATITUDE = 0.0
  CENTER_LONGITUDE = 350.0
  COORDINATE_SYSTEM_NAME = PLANETOGRAPHIC
  COORDINATE_SYSTEM_TYPE = "BODY-FIXED ROTATING"
  EASTERNMOST_LONGITUDE = 351.693
  FIRST_STANDARD_PARALLEL = "N/A"
  LINE_FIRST_PIXEL = 1
  LINE_LAST_PIXEL = 5407
  LINE_PROJECTION_OFFSET = 34356.6875
  MAP_PROJECTION_ROTATION = 0.0
  MAP_PROJECTION_TYPE = SINUSOIDAL
  MAP_RESOLUTION = 592.713803866667
  MAP_SCALE = 0.1
  MAXIMUM_LATITUDE = 57.9156
  MINIMUM_LATITUDE = 48.873
  POSITIVE_LONGITUDE_DIRECTION = EAST
  REFERENCE_LATITUDE = "N/A"
  REFERENCE_LONGITUDE = "N/A"
  SAMPLE_FIRST_PIXEL = 1
  SAMPLE_LAST_PIXEL = 1351
  SAMPLE_PROJECTION_OFFSET = 674.8125
  SECOND_STANDARD_PARALLEL = "N/A"
  WESTERNMOST_LONGITUDE = 347.961
END_OBJECT = IMAGE_MAP_PROJECTION
END
