PDS_VERSION_ID = PDS3
/* FILE DATA ELEMENTS */
RECORD_TYPE = UNDEFINED
/* POINTERS TO DATA OBJECTS */
^IMAGE = ("H3231_0000_S24.TIF")
/* IDENTIFICATION DATA ELEMENTS */
DATA_SET_ID = "MEX-M-HRSC-4-REFDR-MAPPROJECT-EXT1-V4.0"
DATA_SET_NAME = "MARS EXPRESS HRSC MAP PROJECTED REFDR EXTENSION1 V4.0"
DETECTOR_ID = MEX_HRSC_S2
EVENT_TYPE = "MARS-REGIONAL-MAPPING-Vo-Im-Eo"
INSTRUMENT_HOST_ID = MEX
INSTRUMENT_HOST_NAME = "MARS EXPRESS"
INSTRUMENT_ID = HRSC
INSTRUMENT_NAME = "HIGH RESOLUTION STEREO CAMERA"
MISSION_NAME = "MARS EXPRESS"
MISSION_PHASE_NAME = ME_Phase_3
PROCESSING_LEVEL_ID = 4
PRODUCT_CREATION_TIME = 2023-02-09T11:24:25.000Z
PRODUCT_ID = "H3231_0000_S24.TIF"
RELEASE_ID = 0003
REVISION_ID = 0000
/* QUALITY DATA ELEMENTS */
DATA_QUALITY_ID = 1
DATA_QUALITY_DESC = "Data calculated based on original SPICE kernels"
/* TIME DATA ELEMENTS */
SPACECRAFT_CLOCK_START_COUNT = "1/0101120672.08253"
SPACECRAFT_CLOCK_STOP_COUNT = "1/0101120910.57944"
START_TIME = 2006-07-16T09:06:16.825Z
STOP_TIME = 2006-07-16T09:08:34.058Z
/* ORBITAL DATA ELEMENTS */
ASCENDING_NODE_LONGITUDE = 160.43
MAXIMUM_RESOLUTION = 0.0332
FOOTPRINT_POINT_LATITUDE = (57.8038,57.7944,57.7836,57.7715, 57.7582,57.7435,57.7209,57.7198,57.8351 ,57.6419,57.4493,57.2565,57.0636, 56.8714,56.5884,56.3995,56.1163,55.9273 ,55.7422,55.5574,55.3714,55.1884,55.003 ,54.8195,54.6381,54.4583,54.2776,54.096 ,53.8243,53.6478,53.4707,53.2934, 53.0278,52.8507,52.5882,52.4155,52.2427 ,52.0699,51.8971,51.7237,51.4655, 51.1279,50.8749,50.5372,50.1992,49.8603 ,49.5219,49.2677,49.0136,48.9288, 48.8903,48.8981,48.9025,48.9062,48.911, 48.9134,48.9135,48.9142,49.0845,49.34, 49.5103,49.6837,49.8556,50.1058,50.446, 50.7863,51.1261,51.3806,51.725,51.8992, 52.1599,52.3342,52.508,52.682,52.9475, 53.1259,53.3938,53.6603,53.8387,54.0197 ,54.2029,54.3848,54.5663,54.7499, 54.9328,55.118,55.304,55.4907,55.6767, 55.9558,56.144,56.4307,56.6268,56.818, 57.0049,57.2948,57.4899,57.7819,57.8798 ,57.8038)
FOOTPRINT_POINT_LONGITUDE = (351.082,350.625,350.165,349.703, 349.239,348.772,348.125,348.095,347.94, 347.988,348.035,348.082,348.128,348.172 ,348.237,348.28,348.343,348.384,348.423 ,348.463,348.503,348.538,348.576, 348.613,348.65,348.684,348.718,348.753, 348.804,348.836,348.868,348.9,348.947, 348.978,349.023,349.051,349.08,349.108, 349.136,349.164,349.205,349.257,349.295 ,349.344,349.393,349.441,349.487, 349.521,349.555,349.566,349.571,350.072 ,350.403,350.731,351.239,351.662, 351.682,351.69,351.681,351.669,351.66, 351.651,351.642,351.629,351.611,351.593 ,351.574,351.559,351.539,351.529, 351.513,351.503,351.492,351.481,351.465 ,351.453,351.436,351.418,351.406, 351.394,351.381,351.368,351.355,351.342 ,351.329,351.315,351.301,351.287, 351.273,351.251,351.236,351.213,351.197 ,351.181,351.165,351.14,351.122,351.096 ,351.087,351.082)
ORBIT_NUMBER = 3231
ORBITAL_ECCENTRICITY = 0.568
ORBITAL_INCLINATION = 86.68
ORBITAL_SEMIMAJOR_AXIS = 8599.06
PERIAPSIS_ALTITUDE = 320.92
PERIAPSIS_ARGUMENT_ANGLE = 150.05
PERIAPSIS_TIME = 2006-07-16T09:12:52.000Z
SPACECRAFT_ORIENTATION = (0.0,-1.0,0.0)
^MEX_ORIENTATION_DESC = "MEX_ORIENTATION_DESC.TXT"
SPACECRAFT_POINTING_MODE = ACROSSTRACK
^MEX_POINTING_DESC = "MEX_POINTING_DESC.TXT"
RIGHT_ASCENSION = -1e+32
DECLINATION = -1e+32
OFFSET_ANGLE = -0.6
SPACECRAFT_SOLAR_DISTANCE = 2.48927e+08
TARGET_NAME = MARS
/* CAMERA DATA ELEMENTS */
DETECTOR_TEMPERATURE = 18.3705
FOCAL_PLANE_TEMPERATURE = 7.5638
INST_CMPRS_NAME = "DISCRETE COSINE TRANSFORMATION (DCT)"
INST_CMPRS_RATIO = 12.6612
INST_CMPRS_QUALITY = 0
INST_CMPRS_QUANTZ_TBL_ID = 0
INSTRUMENT_TEMPERATURE = 11.0301
LENS_TEMPERATURE = 8.3794
MACROPIXEL_SIZE = 2
MISSING_FRAMES = 0
PIXEL_SUBSAMPLING_FLAG = N
SIGNAL_CHAIN_ID = 1
/* RADIOMETRIC DATA ELEMENTS */
BANDWIDTH = 178.0
CENTER_FILTER_WAVELENGTH = 679.0
RADIANCE_OFFSET = 2.97339
RADIANCE_SCALING_FACTOR = 0.021766
REFLECTANCE_SCALING_FACTOR = 0.000714252
MEX:REFLECTANCE_OFFSET = 0.097572
/* IMAGE OBJECT DEFINITIONS */
OBJECT = IMAGE
  INTERCHANGE_FORMAT = BINARY
  LINES = 21627
  LINE_SAMPLES = 5402
  SAMPLE_TYPE = UNSIGNED_INTEGER
  SAMPLE_BITS = 8
  BANDS = 1
  BAND_STORAGE_TYPE = BAND_SEQUENTIAL
  MAXIMUM = 255
  MEAN = 93.2916
  MINIMUM = 1
  STANDARD_DEVIATION = 34.2322
END_OBJECT = IMAGE
/* MAP OBJECT DEFINITIONS */
OBJECT = IMAGE_MAP_PROJECTION
  ^DATA_SET_MAP_PROJECTION_CATALOG= "DSMAP.CAT"
  A_AXIS_RADIUS = 3396.0
  B_AXIS_RADIUS = 3396.0
  C_AXIS_RADIUS = 3396.0
  CENTER_LATITUDE = 0.0
  CENTER_LONGITUDE = 350.0
  COORDINATE_SYSTEM_NAME = PLANETOGRAPHIC
  COORDINATE_SYSTEM_TYPE = "BODY-FIXED ROTATING"
  EASTERNMOST_LONGITUDE = 351.69
  FIRST_STANDARD_PARALLEL = "N/A"
  LINE_FIRST_PIXEL = 1
  LINE_LAST_PIXEL = 21627
  LINE_PROJECTION_OFFSET = 137428.25
  MAP_PROJECTION_ROTATION = 0.0
  MAP_PROJECTION_TYPE = SINUSOIDAL
  MAP_RESOLUTION = 2370.85521546667
  MAP_SCALE = 0.025
  MAXIMUM_LATITUDE = 57.8798
  MINIMUM_LATITUDE = 48.8903
  POSITIVE_LONGITUDE_DIRECTION = EAST
  REFERENCE_LATITUDE = "N/A"
  REFERENCE_LONGITUDE = "N/A"
  SAMPLE_FIRST_PIXEL = 1
  SAMPLE_LAST_PIXEL = 5402
  SAMPLE_PROJECTION_OFFSET = 2700.75
  SECOND_STANDARD_PARALLEL = "N/A"
  WESTERNMOST_LONGITUDE = 347.94
END_OBJECT = IMAGE_MAP_PROJECTION
END
