PDS_VERSION_ID = PDS3
/* FILE DATA ELEMENTS */
RECORD_TYPE = UNDEFINED
/* POINTERS TO DATA OBJECTS */
^IMAGE = ("H3231_0001_GR4.TIF")
/* IDENTIFICATION DATA ELEMENTS */
DATA_SET_ID = "MEX-M-HRSC-4-REFDR-MAPPROJECT-EXT1-V4.0"
DATA_SET_NAME = "MARS EXPRESS HRSC MAP PROJECTED REFDR EXTENSION1 V4.0"
DETECTOR_ID = MEX_HRSC_GREEN
EVENT_TYPE = "MARS-LOCAL-MAPPING-Im-Lc-La"
INSTRUMENT_HOST_ID = MEX
INSTRUMENT_HOST_NAME = "MARS EXPRESS"
INSTRUMENT_ID = HRSC
INSTRUMENT_NAME = "HIGH RESOLUTION STEREO CAMERA"
MISSION_NAME = "MARS EXPRESS"
MISSION_PHASE_NAME = ME_Phase_3
PROCESSING_LEVEL_ID = 4
PRODUCT_CREATION_TIME = 2023-02-09T11:24:25.000Z
PRODUCT_ID = "H3231_0001_GR4.TIF"
RELEASE_ID = 0003
REVISION_ID = 0000
/* QUALITY DATA ELEMENTS */
DATA_QUALITY_ID = 1
DATA_QUALITY_DESC = "Data calculated based on original SPICE kernels"
/* TIME DATA ELEMENTS */
SPACECRAFT_CLOCK_START_COUNT = "1/0101121165.07294"
SPACECRAFT_CLOCK_STOP_COUNT = "1/0101121408.24219"
START_TIME = 2006-07-16T09:13:14.123Z
STOP_TIME = 2006-07-16T09:16:12.593Z
/* ORBITAL DATA ELEMENTS */
ASCENDING_NODE_LONGITUDE = 160.43
MAXIMUM_RESOLUTION = 0.0517
FOOTPRINT_POINT_LATITUDE = (28.168,28.1619,28.1546,28.143,28.1427, 28.1338,27.684,27.459,27.2339,27.0089, 26.7839,26.5589,26.1092,25.8839,25.6589 ,25.434,25.0969,24.7597,24.3097,23.9721 ,23.742,23.51,23.2775,23.0454,22.6962, 22.4633,22.2309,21.8825,21.6503,21.4185 ,21.187,20.9562,20.7255,20.3775,20.1454 ,19.7872,19.5483,19.3098,18.9524, 18.7136,18.4751,18.2366,17.9984,17.7601 ,17.5221,17.2841,17.0465,16.69,16.5713, 16.5081,16.5114,16.5145,16.5165,16.5185 ,16.5185,16.5194,16.7571,17.1141, 17.3521,17.7097,17.948,18.3059,18.5445, 18.7833,19.0223,19.2615,19.6207,19.86, 20.2168,20.4482,20.6786,20.9099,21.1421 ,21.3742,21.7224,21.9549,22.3035, 22.5358,22.7689,23.0026,23.3516,23.5843 ,23.817,24.0461,24.2711,24.6088,24.9467 ,25.1719,25.3974,25.8467,26.072,26.2973 ,26.5228,26.7492,27.1997,27.5377, 27.7633,27.9885,28.1015,28.168)
FOOTPRINT_POINT_LONGITUDE = (352.271,351.9,351.523,351.02,351.008, 350.973,350.984,350.99,350.995,351.0, 351.005,351.01,351.02,351.023,351.027, 351.031,351.039,351.044,351.05,351.053, 351.059,351.064,351.066,351.07,351.071, 351.07,351.072,351.074,351.075,351.077, 351.081,351.086,351.091,351.091,351.09, 351.091,351.092,351.095,351.098,351.099 ,351.099,351.099,351.099,351.099, 351.099,351.098,351.099,351.098,351.098 ,351.098,351.406,351.749,351.991, 352.386,352.398,352.402,352.399,352.396 ,352.394,352.39,352.388,352.384,352.382 ,352.38,352.377,352.375,352.371,352.369 ,352.365,352.363,352.36,352.358,352.355 ,352.353,352.349,352.346,352.342,352.34 ,352.337,352.335,352.331,352.328, 352.325,352.323,352.32,352.316,352.312, 352.309,352.306,352.3,352.297,352.294, 352.291,352.289,352.283,352.278,352.275 ,352.272,352.27,352.271)
ORBIT_NUMBER = 3231
ORBITAL_ECCENTRICITY = 0.568
ORBITAL_INCLINATION = 86.68
ORBITAL_SEMIMAJOR_AXIS = 8599.06
PERIAPSIS_ALTITUDE = 320.92
PERIAPSIS_ARGUMENT_ANGLE = 150.05
PERIAPSIS_TIME = 2006-07-16T09:12:52.000Z
SPACECRAFT_ORIENTATION = (0.0,-1.0,0.0)
^MEX_ORIENTATION_DESC = "MEX_ORIENTATION_DESC.TXT"
SPACECRAFT_POINTING_MODE = ACROSSTRACK
^MEX_POINTING_DESC = "MEX_POINTING_DESC.TXT"
RIGHT_ASCENSION = -1e+32
DECLINATION = -1e+32
OFFSET_ANGLE = -0.6
SPACECRAFT_SOLAR_DISTANCE = 2.48927e+08
TARGET_NAME = MARS
/* CAMERA DATA ELEMENTS */
DETECTOR_TEMPERATURE = 19.39
FOCAL_PLANE_TEMPERATURE = 7.7677
INST_CMPRS_NAME = "DISCRETE COSINE TRANSFORMATION (DCT)"
INST_CMPRS_RATIO = 13.948
INST_CMPRS_QUALITY = 0
INST_CMPRS_QUANTZ_TBL_ID = 0
INSTRUMENT_TEMPERATURE = 12.6613
LENS_TEMPERATURE = 8.5833
MACROPIXEL_SIZE = 4
MISSING_FRAMES = 0
PIXEL_SUBSAMPLING_FLAG = N
SIGNAL_CHAIN_ID = 2
/* RADIOMETRIC DATA ELEMENTS */
BANDWIDTH = 88.0
CENTER_FILTER_WAVELENGTH = 538.0
RADIANCE_OFFSET = 1.45671
RADIANCE_SCALING_FACTOR = 0.00554936
REFLECTANCE_SCALING_FACTOR = 0.000296056
MEX:REFLECTANCE_OFFSET = 0.0777147
/* IMAGE OBJECT DEFINITIONS */
OBJECT = IMAGE
  INTERCHANGE_FORMAT = BINARY
  LINES = 13801
  LINE_SAMPLES = 1542
  SAMPLE_TYPE = UNSIGNED_INTEGER
  SAMPLE_BITS = 8
  BANDS = 1
  BAND_STORAGE_TYPE = BAND_SEQUENTIAL
  MAXIMUM = 255
  MEAN = 118.415
  MINIMUM = 1
  STANDARD_DEVIATION = 35.9992
END_OBJECT = IMAGE
/* MAP OBJECT DEFINITIONS */
OBJECT = IMAGE_MAP_PROJECTION
  ^DATA_SET_MAP_PROJECTION_CATALOG= "DSMAP.CAT"
  A_AXIS_RADIUS = 3396.0
  B_AXIS_RADIUS = 3396.0
  C_AXIS_RADIUS = 3396.0
  CENTER_LATITUDE = 0.0
  CENTER_LONGITUDE = 352.0
  COORDINATE_SYSTEM_NAME = PLANETOGRAPHIC
  COORDINATE_SYSTEM_TYPE = "BODY-FIXED ROTATING"
  EASTERNMOST_LONGITUDE = 352.402
  FIRST_STANDARD_PARALLEL = "N/A"
  LINE_FIRST_PIXEL = 1
  LINE_LAST_PIXEL = 13801
  LINE_PROJECTION_OFFSET = 33375.875
  MAP_PROJECTION_ROTATION = 0.0
  MAP_PROJECTION_TYPE = SINUSOIDAL
  MAP_RESOLUTION = 1185.42760773333
  MAP_SCALE = 0.05
  MAXIMUM_LATITUDE = 28.168
  MINIMUM_LATITUDE = 16.5081
  POSITIVE_LONGITUDE_DIRECTION = EAST
  REFERENCE_LATITUDE = "N/A"
  REFERENCE_LONGITUDE = "N/A"
  SAMPLE_FIRST_PIXEL = 1
  SAMPLE_LAST_PIXEL = 1542
  SAMPLE_PROJECTION_OFFSET = 1077.875
  SECOND_STANDARD_PARALLEL = "N/A"
  WESTERNMOST_LONGITUDE = 350.973
END_OBJECT = IMAGE_MAP_PROJECTION
END
