PDS_VERSION_ID = PDS3
/* FILE DATA ELEMENTS */
RECORD_TYPE = UNDEFINED
/* POINTERS TO DATA OBJECTS */
^IMAGE = ("H3249_0001_GR4.TIF")
/* IDENTIFICATION DATA ELEMENTS */
DATA_SET_ID = "MEX-M-HRSC-4-REFDR-MAPPROJECT-EXT1-V4.0"
DATA_SET_NAME = "MARS EXPRESS HRSC MAP PROJECTED REFDR EXTENSION1 V4.0"
DETECTOR_ID = MEX_HRSC_GREEN
EVENT_TYPE = "MARS-REGIONAL-MAPPING-Im-La"
INSTRUMENT_HOST_ID = MEX
INSTRUMENT_HOST_NAME = "MARS EXPRESS"
INSTRUMENT_ID = HRSC
INSTRUMENT_NAME = "HIGH RESOLUTION STEREO CAMERA"
MISSION_NAME = "MARS EXPRESS"
MISSION_PHASE_NAME = ME_Phase_3
PROCESSING_LEVEL_ID = 4
PRODUCT_CREATION_TIME = 2023-02-09T11:24:25.000Z
PRODUCT_ID = "H3249_0001_GR4.TIF"
RELEASE_ID = 0003
REVISION_ID = 0000
/* QUALITY DATA ELEMENTS */
DATA_QUALITY_ID = 1
DATA_QUALITY_DESC = "Data calculated based on original SPICE kernels"
/* TIME DATA ELEMENTS */
SPACECRAFT_CLOCK_START_COUNT = "1/0101556849.07297"
SPACECRAFT_CLOCK_STOP_COUNT = "1/0101557150.11568"
START_TIME = 2006-07-21T10:14:41.907Z
STOP_TIME = 2006-07-21T10:18:10.547Z
/* ORBITAL DATA ELEMENTS */
ASCENDING_NODE_LONGITUDE = 160.05
MAXIMUM_RESOLUTION = 0.1204
FOOTPRINT_POINT_LATITUDE = (16.3631,16.3595,16.355,16.3476,16.3474 ,16.3419,16.096,15.8502,15.6046,15.3593 ,15.1142,14.8695,14.6247,14.3801, 13.8914,13.4041,12.9179,12.6737,12.3109 ,11.8226,11.5741,11.326,11.0781,10.8305 ,10.5768,10.3233,10.07,9.81691,9.55974, 9.30092,9.04213,8.78408,8.38921,7.99409 ,7.73039,7.46073,7.05663,6.78847, 6.51414,6.24004,5.96628,5.68821,5.40826 ,5.12918,4.84667,4.56356,4.27973, 3.84662,3.55789,3.41341,3.36996,3.36933 ,3.36797,3.36613,3.36481,3.36474, 3.36711,3.94698,4.23664,4.52068,4.80535 ,5.08933,5.36863,5.6482,5.92772,6.20207 ,6.47647,6.8867,7.15577,7.42526,7.82815 ,8.09215,8.3565,8.75241,9.14082,9.52769 ,9.78578,10.0403,10.2945,10.6756, 11.0516,11.2994,11.5468,11.7957,12.0444 ,12.6521,13.0169,13.5042,13.9926, 14.2372,14.4817,14.7266,14.9717,15.217, 15.4626,15.7083,15.9543,16.2005,16.3237 ,16.3631)
FOOTPRINT_POINT_LONGITUDE = (23.0271,22.6244,22.2133,21.6733, 21.6599,21.6378,21.6372,21.6363,21.6352 ,21.6344,21.6333,21.6332,21.6316, 21.6298,21.6251,21.622,21.6192,21.6114, 21.6129,21.6079,21.6048,21.6016,21.5984 ,21.5959,21.5926,21.5895,21.5856, 21.5812,21.5769,21.5728,21.5674,21.5636 ,21.5543,21.549,21.5426,21.536,21.5245, 21.521,21.5154,21.509,21.5022,21.4956, 21.4856,21.4773,21.4704,21.4674,21.4593 ,21.4463,21.4385,21.4342,21.433,21.799, 22.327,22.8306,23.1515,23.1675,23.1781, 23.1714,23.1681,23.1648,23.1615,23.1582 ,23.1551,23.1519,23.1487,23.1457, 23.1425,23.1378,23.1348,23.1317,23.1272 ,23.1243,23.1213,23.1168,23.1126, 23.1073,23.1041,23.1017,23.0991,23.0947 ,23.0903,23.0871,23.0835,23.0807, 23.0785,23.0716,23.0671,23.061,23.055, 23.052,23.0487,23.0456,23.0425,23.0393, 23.0362,23.033,23.0298,23.0266,23.025, 23.0271)
ORBIT_NUMBER = 3249
ORBITAL_ECCENTRICITY = 0.568
ORBITAL_INCLINATION = 86.67
ORBITAL_SEMIMAJOR_AXIS = 8599.27
PERIAPSIS_ALTITUDE = 322.98
PERIAPSIS_ARGUMENT_ANGLE = 146.89
PERIAPSIS_TIME = 2006-07-21T10:10:30.000Z
SPACECRAFT_ORIENTATION = (0.0,-1.0,0.0)
^MEX_ORIENTATION_DESC = "MEX_ORIENTATION_DESC.TXT"
SPACECRAFT_POINTING_MODE = ACROSSTRACK
^MEX_POINTING_DESC = "MEX_POINTING_DESC.TXT"
RIGHT_ASCENSION = -1e+32
DECLINATION = -1e+32
OFFSET_ANGLE = -0.92
SPACECRAFT_SOLAR_DISTANCE = 2.48755e+08
TARGET_NAME = MARS
/* CAMERA DATA ELEMENTS */
DETECTOR_TEMPERATURE = 19.39
FOCAL_PLANE_TEMPERATURE = 7.9716
INST_CMPRS_NAME = "DISCRETE COSINE TRANSFORMATION (DCT)"
INST_CMPRS_RATIO = 19.8748
INST_CMPRS_QUALITY = 0
INST_CMPRS_QUANTZ_TBL_ID = 0
INSTRUMENT_TEMPERATURE = 12.4574
LENS_TEMPERATURE = 8.3794
MACROPIXEL_SIZE = 8
MISSING_FRAMES = 0
PIXEL_SUBSAMPLING_FLAG = N
SIGNAL_CHAIN_ID = 2
/* RADIOMETRIC DATA ELEMENTS */
BANDWIDTH = 88.0
CENTER_FILTER_WAVELENGTH = 538.0
RADIANCE_OFFSET = 1.4382
RADIANCE_SCALING_FACTOR = 0.0066124
REFLECTANCE_SCALING_FACTOR = 0.000352283
MEX:REFLECTANCE_OFFSET = 0.0766215
/* IMAGE OBJECT DEFINITIONS */
OBJECT = IMAGE
  INTERCHANGE_FORMAT = BINARY
  LINES = 7701
  LINE_SAMPLES = 1059
  SAMPLE_TYPE = UNSIGNED_INTEGER
  SAMPLE_BITS = 8
  BANDS = 1
  BAND_STORAGE_TYPE = BAND_SEQUENTIAL
  MAXIMUM = 255
  MEAN = 127.366
  MINIMUM = 1
  STANDARD_DEVIATION = 22.1399
END_OBJECT = IMAGE
/* MAP OBJECT DEFINITIONS */
OBJECT = IMAGE_MAP_PROJECTION
  ^DATA_SET_MAP_PROJECTION_CATALOG= "DSMAP.CAT"
  A_AXIS_RADIUS = 3396.0
  B_AXIS_RADIUS = 3396.0
  C_AXIS_RADIUS = 3396.0
  CENTER_LATITUDE = 0.0
  CENTER_LONGITUDE = 22.0
  COORDINATE_SYSTEM_NAME = PLANETOGRAPHIC
  COORDINATE_SYSTEM_TYPE = "BODY-FIXED ROTATING"
  EASTERNMOST_LONGITUDE = 23.1781
  FIRST_STANDARD_PARALLEL = "N/A"
  LINE_FIRST_PIXEL = 1
  LINE_LAST_PIXEL = 7701
  LINE_PROJECTION_OFFSET = 9693.5625
  MAP_PROJECTION_ROTATION = 0.0
  MAP_PROJECTION_TYPE = SINUSOIDAL
  MAP_RESOLUTION = 592.713803866667
  MAP_SCALE = 0.1
  MAXIMUM_LATITUDE = 16.3631
  MINIMUM_LATITUDE = 3.36474
  POSITIVE_LONGITUDE_DIRECTION = EAST
  REFERENCE_LATITUDE = "N/A"
  REFERENCE_LONGITUDE = "N/A"
  SAMPLE_FIRST_PIXEL = 1
  SAMPLE_LAST_PIXEL = 1059
  SAMPLE_PROJECTION_OFFSET = 352.8125
  SECOND_STANDARD_PARALLEL = "N/A"
  WESTERNMOST_LONGITUDE = 21.433
END_OBJECT = IMAGE_MAP_PROJECTION
END
