PDS_VERSION_ID = PDS3
/* FILE DATA ELEMENTS */
RECORD_TYPE = UNDEFINED
/* POINTERS TO DATA OBJECTS */
^IMAGE = ("H3249_0001_IR4.TIF")
/* IDENTIFICATION DATA ELEMENTS */
DATA_SET_ID = "MEX-M-HRSC-4-REFDR-MAPPROJECT-EXT1-V4.0"
DATA_SET_NAME = "MARS EXPRESS HRSC MAP PROJECTED REFDR EXTENSION1 V4.0"
DETECTOR_ID = MEX_HRSC_IR
EVENT_TYPE = "MARS-REGIONAL-MAPPING-Im-La"
INSTRUMENT_HOST_ID = MEX
INSTRUMENT_HOST_NAME = "MARS EXPRESS"
INSTRUMENT_ID = HRSC
INSTRUMENT_NAME = "HIGH RESOLUTION STEREO CAMERA"
MISSION_NAME = "MARS EXPRESS"
MISSION_PHASE_NAME = ME_Phase_3
PROCESSING_LEVEL_ID = 4
PRODUCT_CREATION_TIME = 2023-02-09T11:24:25.000Z
PRODUCT_ID = "H3249_0001_IR4.TIF"
RELEASE_ID = 0003
REVISION_ID = 0000
/* QUALITY DATA ELEMENTS */
DATA_QUALITY_ID = 1
DATA_QUALITY_DESC = "Data calculated based on original SPICE kernels"
/* TIME DATA ELEMENTS */
SPACECRAFT_CLOCK_START_COUNT = "1/0101556849.07297"
SPACECRAFT_CLOCK_STOP_COUNT = "1/0101557150.11568"
START_TIME = 2006-07-21T10:14:19.967Z
STOP_TIME = 2006-07-21T10:17:40.479Z
/* ORBITAL DATA ELEMENTS */
ASCENDING_NODE_LONGITUDE = 160.05
MAXIMUM_RESOLUTION = 0.1227
FOOTPRINT_POINT_LATITUDE = (16.3802,16.3621,16.3423,16.3138,16.313 ,16.2938,15.8156,15.5672,15.3192, 15.0714,14.8244,14.5762,14.3282,14.0798 ,13.8314,13.5847,13.3377,12.968,12.7151 ,12.2275,11.9813,11.6112,11.3646, 10.9951,10.3827,10.1307,9.87753,9.62517 ,9.37481,9.11898,8.86107,8.60412, 8.21832,7.95654,7.69142,7.2915,7.02677, 6.7618,6.49244,6.08835,5.81471,5.5373, 5.12084,4.84191,4.42632,4.14511,3.85923 ,3.57276,3.42958,3.31986,3.33108, 3.34196,3.35546,3.36783,3.36821,3.37086 ,3.80197,4.23127,4.51158,4.79315, 5.21278,5.48865,5.7644,6.17606,6.58066, 6.85024,7.11839,7.38255,7.6472,7.913, 8.30565,8.56376,8.82289,9.21109,9.70607 ,9.96111,10.2188,10.4723,10.7181, 10.9647,11.3318,11.8199,12.0724,12.3222 ,12.5715,12.8189,13.0646,13.3122, 13.5586,13.8063,14.0544,14.4262,14.7968 ,15.1689,15.4175,15.6659,15.9147, 16.1635,16.2845,16.3802)
FOOTPRINT_POINT_LONGITUDE = (23.0104,22.6154,22.2116,21.6812, 21.6681,21.646,21.645,21.6443,21.6436, 21.643,21.6429,21.6415,21.64,21.6379, 21.6358,21.6348,21.6334,21.6315,21.6244 ,21.6253,21.6233,21.6192,21.6163, 21.6119,21.6063,21.6029,21.5985,21.5946 ,21.5921,21.5863,21.5824,21.579,21.5731 ,21.5671,21.5613,21.5503,21.5442, 21.5418,21.5364,21.5279,21.5213,21.5135 ,21.501,21.4939,21.4884,21.4809,21.473, 21.4656,21.4618,21.4589,21.796,22.1471, 22.6505,23.115,23.1304,23.1406,23.1365, 23.1325,23.1298,23.1271,23.1232,23.1206 ,23.118,23.1142,23.1103,23.1077,23.1051 ,23.1026,23.1001,23.0977,23.094,23.0915 ,23.089,23.0853,23.0791,23.0769,23.0749 ,23.0726,23.0701,23.0676,23.0634, 23.0576,23.0557,23.0535,23.0512,23.0485 ,23.0456,23.043,23.0401,23.0374,23.0346 ,23.0305,23.026,23.0217,23.0188,23.0159 ,23.013,23.0101,23.0087,23.0104)
ORBIT_NUMBER = 3249
ORBITAL_ECCENTRICITY = 0.568
ORBITAL_INCLINATION = 86.67
ORBITAL_SEMIMAJOR_AXIS = 8599.27
PERIAPSIS_ALTITUDE = 322.98
PERIAPSIS_ARGUMENT_ANGLE = 146.89
PERIAPSIS_TIME = 2006-07-21T10:10:30.000Z
SPACECRAFT_ORIENTATION = (0.0,-1.0,0.0)
^MEX_ORIENTATION_DESC = "MEX_ORIENTATION_DESC.TXT"
SPACECRAFT_POINTING_MODE = ACROSSTRACK
^MEX_POINTING_DESC = "MEX_POINTING_DESC.TXT"
RIGHT_ASCENSION = -1e+32
DECLINATION = -1e+32
OFFSET_ANGLE = -0.92
SPACECRAFT_SOLAR_DISTANCE = 2.48755e+08
TARGET_NAME = MARS
/* CAMERA DATA ELEMENTS */
DETECTOR_TEMPERATURE = 18.5744
FOCAL_PLANE_TEMPERATURE = 7.9716
INST_CMPRS_NAME = "DISCRETE COSINE TRANSFORMATION (DCT)"
INST_CMPRS_RATIO = 16.8748
INST_CMPRS_QUALITY = 0
INST_CMPRS_QUANTZ_TBL_ID = 0
INSTRUMENT_TEMPERATURE = 12.4574
LENS_TEMPERATURE = 8.3794
MACROPIXEL_SIZE = 8
MISSING_FRAMES = 0
PIXEL_SUBSAMPLING_FLAG = N
SIGNAL_CHAIN_ID = 2
/* RADIOMETRIC DATA ELEMENTS */
BANDWIDTH = 81.0
CENTER_FILTER_WAVELENGTH = 955.5
RADIANCE_OFFSET = 0.944979
RADIANCE_SCALING_FACTOR = 0.00816961
REFLECTANCE_SCALING_FACTOR = 0.00109062
MEX:REFLECTANCE_OFFSET = 0.126152
/* IMAGE OBJECT DEFINITIONS */
OBJECT = IMAGE
  INTERCHANGE_FORMAT = BINARY
  LINES = 7701
  LINE_SAMPLES = 1059
  SAMPLE_TYPE = UNSIGNED_INTEGER
  SAMPLE_BITS = 8
  BANDS = 1
  BAND_STORAGE_TYPE = BAND_SEQUENTIAL
  MAXIMUM = 255
  MEAN = 161.338
  MINIMUM = 1
  STANDARD_DEVIATION = 19.7788
END_OBJECT = IMAGE
/* MAP OBJECT DEFINITIONS */
OBJECT = IMAGE_MAP_PROJECTION
  ^DATA_SET_MAP_PROJECTION_CATALOG= "DSMAP.CAT"
  A_AXIS_RADIUS = 3396.0
  B_AXIS_RADIUS = 3396.0
  C_AXIS_RADIUS = 3396.0
  CENTER_LATITUDE = 0.0
  CENTER_LONGITUDE = 22.0
  COORDINATE_SYSTEM_NAME = PLANETOGRAPHIC
  COORDINATE_SYSTEM_TYPE = "BODY-FIXED ROTATING"
  EASTERNMOST_LONGITUDE = 23.1406
  FIRST_STANDARD_PARALLEL = "N/A"
  LINE_FIRST_PIXEL = 1
  LINE_LAST_PIXEL = 7701
  LINE_PROJECTION_OFFSET = 9693.5625
  MAP_PROJECTION_ROTATION = 0.0
  MAP_PROJECTION_TYPE = SINUSOIDAL
  MAP_RESOLUTION = 592.713803866667
  MAP_SCALE = 0.1
  MAXIMUM_LATITUDE = 16.3802
  MINIMUM_LATITUDE = 3.31986
  POSITIVE_LONGITUDE_DIRECTION = EAST
  REFERENCE_LATITUDE = "N/A"
  REFERENCE_LONGITUDE = "N/A"
  SAMPLE_FIRST_PIXEL = 1
  SAMPLE_LAST_PIXEL = 1059
  SAMPLE_PROJECTION_OFFSET = 352.8125
  SECOND_STANDARD_PARALLEL = "N/A"
  WESTERNMOST_LONGITUDE = 21.4589
END_OBJECT = IMAGE_MAP_PROJECTION
END
