PDS_VERSION_ID = PDS3
/* FILE DATA ELEMENTS */
RECORD_TYPE = UNDEFINED
/* POINTERS TO DATA OBJECTS */
^IMAGE = ("H3254_0000_GR4.TIF")
/* IDENTIFICATION DATA ELEMENTS */
DATA_SET_ID = "MEX-M-HRSC-4-REFDR-MAPPROJECT-EXT1-V4.0"
DATA_SET_NAME = "MARS EXPRESS HRSC MAP PROJECTED REFDR EXTENSION1 V4.0"
DETECTOR_ID = MEX_HRSC_GREEN
EVENT_TYPE = "MARS-REGIONAL-MAPPING-Vo-Gl"
INSTRUMENT_HOST_ID = MEX
INSTRUMENT_HOST_NAME = "MARS EXPRESS"
INSTRUMENT_ID = HRSC
INSTRUMENT_NAME = "HIGH RESOLUTION STEREO CAMERA"
MISSION_NAME = "MARS EXPRESS"
MISSION_PHASE_NAME = ME_Phase_3
PROCESSING_LEVEL_ID = 4
PRODUCT_CREATION_TIME = 2023-02-09T11:24:25.000Z
PRODUCT_ID = "H3254_0000_GR4.TIF"
RELEASE_ID = 0003
REVISION_ID = 0000
/* QUALITY DATA ELEMENTS */
DATA_QUALITY_ID = 1
DATA_QUALITY_DESC = "Data calculated based on original SPICE kernels"
/* TIME DATA ELEMENTS */
SPACECRAFT_CLOCK_START_COUNT = "1/0101677839.08372"
SPACECRAFT_CLOCK_STOP_COUNT = "1/0101678102.25352"
START_TIME = 2006-07-22T19:51:12.401Z
STOP_TIME = 2006-07-22T19:54:05.121Z
/* ORBITAL DATA ELEMENTS */
ASCENDING_NODE_LONGITUDE = 159.95
MAXIMUM_RESOLUTION = 0.1222
FOOTPRINT_POINT_LATITUDE = (15.7256,15.7279,15.7296,15.7314, 15.7322,15.7323,15.7319,15.4245,15.2197 ,15.0152,14.8108,14.4023,13.9944, 13.5873,13.1809,12.7751,12.37,12.0603, 11.8529,11.6456,11.4386,11.2318,10.9157 ,10.704,10.4927,10.1761,9.85329,9.6374, 9.42161,9.20604,8.87746,8.65691,8.43676 ,8.21682,7.99332,7.76838,7.54383, 7.31945,7.09204,6.86293,6.6341,6.40558, 6.05614,5.82298,5.59015,5.35386,5.11648 ,4.99789,4.99324,4.98995,4.98629, 4.98196,4.97896,4.97449,4.97428,4.97646 ,5.21416,5.57001,5.80328,6.03689, 6.38714,6.61613,6.84542,7.07501,7.30282 ,7.52763,7.75265,7.97798,8.20192, 8.53243,8.75307,8.97382,9.19277,9.40846 ,9.62451,9.84074,10.1641,10.3754, 10.5868,10.7988,11.0109,11.2218,11.5318 ,11.7388,11.9461,12.1527,12.3582, 12.7632,13.1692,13.5762,13.9838,14.3921 ,14.5965,14.801,15.0057,15.2105,15.4155 ,15.6206,15.7232,15.7256)
FOOTPRINT_POINT_LONGITUDE = (252.77,252.472,252.2,251.787,251.414, 251.402,251.397,251.393,251.391,251.388 ,251.385,251.379,251.373,251.367,251.36 ,251.353,251.346,251.341,251.337, 251.333,251.329,251.325,251.32,251.316, 251.312,251.306,251.299,251.295,251.291 ,251.286,251.279,251.274,251.269, 251.264,251.258,251.253,251.247,251.241 ,251.235,251.229,251.223,251.217, 251.208,251.201,251.194,251.188,251.181 ,251.178,251.178,251.503,251.846, 252.221,252.472,252.817,252.833,252.843 ,252.84,252.837,252.834,252.832,252.828 ,252.825,252.823,252.82,252.818,252.816 ,252.813,252.811,252.809,252.806, 252.804,252.803,252.801,252.8,252.799, 252.797,252.795,252.794,252.794,252.792 ,252.791,252.789,252.789,252.788, 252.788,252.789,252.789,252.787,252.785 ,252.782,252.779,252.776,252.774, 252.773,252.771,252.77,252.768,252.767, 252.766,252.77)
ORBIT_NUMBER = 3254
ORBITAL_ECCENTRICITY = 0.569
ORBITAL_INCLINATION = 86.68
ORBITAL_SEMIMAJOR_AXIS = 8605.2
PERIAPSIS_ALTITUDE = 322.93
PERIAPSIS_ARGUMENT_ANGLE = 145.98
PERIAPSIS_TIME = 2006-07-22T19:46:36.000Z
SPACECRAFT_ORIENTATION = (0.0,-1.0,0.0)
^MEX_ORIENTATION_DESC = "MEX_ORIENTATION_DESC.TXT"
SPACECRAFT_POINTING_MODE = ACROSSTRACK
^MEX_POINTING_DESC = "MEX_POINTING_DESC.TXT"
RIGHT_ASCENSION = -1e+32
DECLINATION = -1e+32
OFFSET_ANGLE = 0.19
SPACECRAFT_SOLAR_DISTANCE = 2.48701e+08
TARGET_NAME = MARS
/* CAMERA DATA ELEMENTS */
DETECTOR_TEMPERATURE = 18.3705
FOCAL_PLANE_TEMPERATURE = 8.3794
INST_CMPRS_NAME = "DISCRETE COSINE TRANSFORMATION (DCT)"
INST_CMPRS_RATIO = 20.7482
INST_CMPRS_QUALITY = 0
INST_CMPRS_QUANTZ_TBL_ID = 0
INSTRUMENT_TEMPERATURE = 11.234
LENS_TEMPERATURE = 8.7872
MACROPIXEL_SIZE = 8
MISSING_FRAMES = 0
PIXEL_SUBSAMPLING_FLAG = N
SIGNAL_CHAIN_ID = 2
/* RADIOMETRIC DATA ELEMENTS */
BANDWIDTH = 88.0
CENTER_FILTER_WAVELENGTH = 538.0
RADIANCE_OFFSET = 2.41882
RADIANCE_SCALING_FACTOR = 0.00711418
REFLECTANCE_SCALING_FACTOR = 0.000378853
MEX:REFLECTANCE_OFFSET = 0.12881
/* IMAGE OBJECT DEFINITIONS */
OBJECT = IMAGE
  INTERCHANGE_FORMAT = BINARY
  LINES = 6388
  LINE_SAMPLES = 1008
  SAMPLE_TYPE = UNSIGNED_INTEGER
  SAMPLE_BITS = 8
  BANDS = 1
  BAND_STORAGE_TYPE = BAND_SEQUENTIAL
  MAXIMUM = 255
  MEAN = 164.473
  MINIMUM = 1
  STANDARD_DEVIATION = 54.1117
END_OBJECT = IMAGE
/* MAP OBJECT DEFINITIONS */
OBJECT = IMAGE_MAP_PROJECTION
  ^DATA_SET_MAP_PROJECTION_CATALOG= "DSMAP.CAT"
  A_AXIS_RADIUS = 3396.0
  B_AXIS_RADIUS = 3396.0
  C_AXIS_RADIUS = 3396.0
  CENTER_LATITUDE = 0.0
  CENTER_LONGITUDE = 252.0
  COORDINATE_SYSTEM_NAME = PLANETOGRAPHIC
  COORDINATE_SYSTEM_TYPE = "BODY-FIXED ROTATING"
  EASTERNMOST_LONGITUDE = 252.843
  FIRST_STANDARD_PARALLEL = "N/A"
  LINE_FIRST_PIXEL = 1
  LINE_LAST_PIXEL = 6388
  LINE_PROJECTION_OFFSET = 9334.9375
  MAP_PROJECTION_ROTATION = 0.0
  MAP_PROJECTION_TYPE = SINUSOIDAL
  MAP_RESOLUTION = 592.713803866667
  MAP_SCALE = 0.1
  MAXIMUM_LATITUDE = 15.7323
  MINIMUM_LATITUDE = 4.97428
  POSITIVE_LONGITUDE_DIRECTION = EAST
  REFERENCE_LATITUDE = "N/A"
  REFERENCE_LONGITUDE = "N/A"
  SAMPLE_FIRST_PIXEL = 1
  SAMPLE_LAST_PIXEL = 1008
  SAMPLE_PROJECTION_OFFSET = 502.9375
  SECOND_STANDARD_PARALLEL = "N/A"
  WESTERNMOST_LONGITUDE = 251.178
END_OBJECT = IMAGE_MAP_PROJECTION
END
