PDS_VERSION_ID = PDS3
/* FILE DATA ELEMENTS */
RECORD_TYPE = UNDEFINED
/* POINTERS TO DATA OBJECTS */
^IMAGE = ("H3261_0000_S14.TIF")
/* IDENTIFICATION DATA ELEMENTS */
DATA_SET_ID = "MEX-M-HRSC-4-REFDR-MAPPROJECT-EXT1-V4.0"
DATA_SET_NAME = "MARS EXPRESS HRSC MAP PROJECTED REFDR EXTENSION1 V4.0"
DETECTOR_ID = MEX_HRSC_S1
EVENT_TYPE = "MARS-REGIONAL-MAPPING-Vo-Fl-Gl"
INSTRUMENT_HOST_ID = MEX
INSTRUMENT_HOST_NAME = "MARS EXPRESS"
INSTRUMENT_ID = HRSC
INSTRUMENT_NAME = "HIGH RESOLUTION STEREO CAMERA"
MISSION_NAME = "MARS EXPRESS"
MISSION_PHASE_NAME = ME_Phase_3
PROCESSING_LEVEL_ID = 4
PRODUCT_CREATION_TIME = 2023-02-09T11:24:25.000Z
PRODUCT_ID = "H3261_0000_S14.TIF"
RELEASE_ID = 0003
REVISION_ID = 0000
/* QUALITY DATA ELEMENTS */
DATA_QUALITY_ID = 1
DATA_QUALITY_DESC = "Data calculated based on original SPICE kernels"
/* TIME DATA ELEMENTS */
SPACECRAFT_CLOCK_START_COUNT = "1/0101847043.08424"
SPACECRAFT_CLOCK_STOP_COUNT = "1/0101847457.05923"
START_TIME = 2006-07-24T18:50:48.331Z
STOP_TIME = 2006-07-24T18:56:03.575Z
/* ORBITAL DATA ELEMENTS */
ASCENDING_NODE_LONGITUDE = 159.8
MAXIMUM_RESOLUTION = 0.0279
FOOTPRINT_POINT_LATITUDE = (27.0859,27.0933,27.0999,27.0999, 27.0817,26.5378,26.1751,25.8091,25.4449 ,25.0796,24.5342,24.1707,23.7966, 23.2328,22.6691,22.1042,21.728,21.3522, 20.787,20.2227,19.8364,19.461,19.0856, 18.5227,18.1476,17.585,17.1565,16.7098, 16.2628,15.8155,15.3689,14.9226,14.4765 ,14.0307,13.5852,12.9178,12.2511, 11.8071,11.1244,10.6692,9.97221,9.50603 ,9.03112,8.55346,8.06938,7.58233, 7.08891,6.59765,6.35015,6.34004,6.32074 ,6.30364,6.30318,6.3036,6.80212,7.2988, 7.7866,8.2735,8.74649,9.22346,9.69516, 10.1612,10.6284,11.3103,11.7663,12.2107 ,12.6557,13.1007,13.5462,13.9924, 14.6619,15.335,16.0029,16.4507,16.8987, 17.5536,17.9293,18.3053,18.6812,19.2452 ,19.6211,19.9961,20.3822,20.7564, 21.3205,21.6966,22.0739,22.64,23.0163, 23.3942,23.7708,24.1452,24.5091,25.0548 ,25.4184,25.786,26.1452,26.8711,27.0524 ,27.0859)
FOOTPRINT_POINT_LONGITUDE = (284.79,284.313,283.519,283.507,283.5, 283.505,283.508,283.509,283.511,283.513 ,283.515,283.516,283.517,283.517, 283.517,283.517,283.516,283.515,283.513 ,283.51,283.508,283.506,283.503,283.499 ,283.496,283.491,283.486,283.482, 283.477,283.471,283.465,283.459,283.453 ,283.446,283.439,283.428,283.416, 283.408,283.395,283.386,283.371,283.361 ,283.35,283.339,283.327,283.315,283.303 ,283.291,283.285,283.285,284.275, 284.895,284.911,284.916,284.913,284.911 ,284.908,284.905,284.905,284.902, 284.899,284.896,284.892,284.889,284.886 ,284.884,284.881,284.879,284.877, 284.874,284.871,284.866,284.863,284.861 ,284.859,284.855,284.853,284.851, 284.849,284.846,284.844,284.843,284.841 ,284.84,284.837,284.835,284.833,284.829 ,284.827,284.824,284.822,284.82,284.818 ,284.815,284.813,284.809,284.809, 284.805,284.804,284.79)
ORBIT_NUMBER = 3261
ORBITAL_ECCENTRICITY = 0.568
ORBITAL_INCLINATION = 86.67
ORBITAL_SEMIMAJOR_AXIS = 8598.16
PERIAPSIS_ALTITUDE = 324.04
PERIAPSIS_ARGUMENT_ANGLE = 144.77
PERIAPSIS_TIME = 2006-07-24T18:49:14.000Z
SPACECRAFT_ORIENTATION = (0.0,-1.0,0.0)
^MEX_ORIENTATION_DESC = "MEX_ORIENTATION_DESC.TXT"
SPACECRAFT_POINTING_MODE = ACROSSTRACK
^MEX_POINTING_DESC = "MEX_POINTING_DESC.TXT"
RIGHT_ASCENSION = -1e+32
DECLINATION = -1e+32
OFFSET_ANGLE = 0.3
SPACECRAFT_SOLAR_DISTANCE = 2.48621e+08
TARGET_NAME = MARS
/* CAMERA DATA ELEMENTS */
DETECTOR_TEMPERATURE = 17.7588
FOCAL_PLANE_TEMPERATURE = 8.3794
INST_CMPRS_NAME = "DISCRETE COSINE TRANSFORMATION (DCT)"
INST_CMPRS_RATIO = 10.8058
INST_CMPRS_QUALITY = 0
INST_CMPRS_QUANTZ_TBL_ID = 0
INSTRUMENT_TEMPERATURE = 11.8457
LENS_TEMPERATURE = 8.7872
MACROPIXEL_SIZE = 2
PIXEL_SUBSAMPLING_FLAG = N
SIGNAL_CHAIN_ID = 1
/* RADIOMETRIC DATA ELEMENTS */
BANDWIDTH = 180.0
CENTER_FILTER_WAVELENGTH = 677.0
RADIANCE_OFFSET = 7.80529
RADIANCE_SCALING_FACTOR = 0.017005
REFLECTANCE_SCALING_FACTOR = 0.000548394
MEX:REFLECTANCE_OFFSET = 0.251713
/* IMAGE OBJECT DEFINITIONS */
OBJECT = IMAGE
  INTERCHANGE_FORMAT = BINARY
  LINES = 49168
  LINE_SAMPLES = 4081
  SAMPLE_TYPE = UNSIGNED_INTEGER
  SAMPLE_BITS = 8
  BANDS = 1
  BAND_STORAGE_TYPE = BAND_SEQUENTIAL
  MAXIMUM = 255
  MEAN = 116.524
  MINIMUM = 1
  STANDARD_DEVIATION = 20.9677
END_OBJECT = IMAGE
/* MAP OBJECT DEFINITIONS */
OBJECT = IMAGE_MAP_PROJECTION
  ^DATA_SET_MAP_PROJECTION_CATALOG= "DSMAP.CAT"
  A_AXIS_RADIUS = 3396.0
  B_AXIS_RADIUS = 3396.0
  C_AXIS_RADIUS = 3396.0
  CENTER_LATITUDE = 0.0
  CENTER_LONGITUDE = 284.0
  COORDINATE_SYSTEM_NAME = PLANETOGRAPHIC
  COORDINATE_SYSTEM_TYPE = "BODY-FIXED ROTATING"
  EASTERNMOST_LONGITUDE = 284.916
  FIRST_STANDARD_PARALLEL = "N/A"
  LINE_FIRST_PIXEL = 1
  LINE_LAST_PIXEL = 49168
  LINE_PROJECTION_OFFSET = 64195.25
  MAP_PROJECTION_ROTATION = 0.0
  MAP_PROJECTION_TYPE = SINUSOIDAL
  MAP_RESOLUTION = 2370.85521546667
  MAP_SCALE = 0.025
  MAXIMUM_LATITUDE = 27.0999
  MINIMUM_LATITUDE = 6.30318
  POSITIVE_LONGITUDE_DIRECTION = EAST
  REFERENCE_LATITUDE = "N/A"
  REFERENCE_LONGITUDE = "N/A"
  SAMPLE_FIRST_PIXEL = 1
  SAMPLE_LAST_PIXEL = 4081
  SAMPLE_PROJECTION_OFFSET = 1816.25
  SECOND_STANDARD_PARALLEL = "N/A"
  WESTERNMOST_LONGITUDE = 283.285
END_OBJECT = IMAGE_MAP_PROJECTION
END
