PDS_VERSION_ID = PDS3
/* FILE DATA ELEMENTS */
RECORD_TYPE = UNDEFINED
/* POINTERS TO DATA OBJECTS */
^IMAGE = ("H3265_0000_GR4.TIF")
/* IDENTIFICATION DATA ELEMENTS */
DATA_SET_ID = "MEX-M-HRSC-4-REFDR-MAPPROJECT-EXT1-V4.0"
DATA_SET_NAME = "MARS EXPRESS HRSC MAP PROJECTED REFDR EXTENSION1 V4.0"
DETECTOR_ID = MEX_HRSC_GREEN
EVENT_TYPE = "MARS-REGIONAL-MAPPING-Vo-Gl"
INSTRUMENT_HOST_ID = MEX
INSTRUMENT_HOST_NAME = "MARS EXPRESS"
INSTRUMENT_ID = HRSC
INSTRUMENT_NAME = "HIGH RESOLUTION STEREO CAMERA"
MISSION_NAME = "MARS EXPRESS"
MISSION_PHASE_NAME = ME_Phase_3
PROCESSING_LEVEL_ID = 4
PRODUCT_CREATION_TIME = 2023-02-09T11:24:25.000Z
PRODUCT_ID = "H3265_0000_GR4.TIF"
RELEASE_ID = 0003
REVISION_ID = 0000
/* QUALITY DATA ELEMENTS */
DATA_QUALITY_ID = 1
DATA_QUALITY_DESC = "Data calculated based on original SPICE kernels"
/* TIME DATA ELEMENTS */
SPACECRAFT_CLOCK_START_COUNT = "1/0101943999.08410"
SPACECRAFT_CLOCK_STOP_COUNT = "1/0101944266.14090"
START_TIME = 2006-07-25T21:47:13.648Z
STOP_TIME = 2006-07-25T21:50:04.472Z
/* ORBITAL DATA ELEMENTS */
ASCENDING_NODE_LONGITUDE = 159.72
MAXIMUM_RESOLUTION = 0.1277
FOOTPRINT_POINT_LATITUDE = (15.5779,15.5802,15.5823,15.5836, 15.5839,15.5839,15.5836,15.2012,14.8193 ,14.4381,14.0484,13.6581,13.2686, 13.0693,12.8698,12.6705,12.2725,12.0708 ,11.8672,11.6637,11.4605,11.2575, 11.0518,10.8442,10.6368,10.4296,10.2227 ,10.011,9.79955,9.58824,9.37717,9.16298 ,8.94739,8.732,8.51689,8.29914,8.07953, 7.86028,7.64127,7.30739,7.08407,6.86105 ,6.52168,6.29448,6.06755,5.72241, 5.49136,5.26067,5.14378,5.07027,5.06582 ,5.06339,5.0604,5.05662,5.05387,5.05035 ,5.05014,5.05244,5.28649,5.51768, 5.74928,5.98072,6.20795,6.43557,6.777, 7.00032,7.33587,7.55977,7.77934,7.99899 ,8.21889,8.4383,8.65363,8.86914,9.08479 ,9.30065,9.51176,9.72322,9.93477, 10.2515,10.4586,10.666,10.8736,11.1845, 11.3875,11.5908,11.7944,11.9983,12.2017 ,12.6003,12.7998,12.9995,13.298,13.6881 ,14.079,14.4683,14.8501,15.424,15.5197, 15.5779)
FOOTPRINT_POINT_LONGITUDE = (251.537,251.213,250.822,250.405, 250.123,250.109,250.105,250.1,250.094, 250.088,250.082,250.075,250.068,250.065 ,250.061,250.057,250.05,250.046,250.042 ,250.037,250.033,250.029,250.025,250.02 ,250.016,250.011,250.007,250.002, 249.998,249.993,249.988,249.983,249.978 ,249.972,249.967,249.961,249.956,249.95 ,249.944,249.935,249.929,249.923, 249.914,249.907,249.9,249.89,249.883, 249.876,249.873,249.871,250.312,250.541 ,250.804,251.117,251.33,251.594,251.611 ,251.622,251.619,251.617,251.614, 251.612,251.609,251.607,251.603,251.601 ,251.598,251.596,251.593,251.591, 251.589,251.588,251.586,251.584,251.583 ,251.581,251.58,251.578,251.577,251.575 ,251.574,251.573,251.571,251.57,251.569 ,251.567,251.566,251.564,251.562, 251.559,251.557,251.555,251.553,251.549 ,251.546,251.543,251.539,251.535, 251.534,251.537)
ORBIT_NUMBER = 3265
ORBITAL_ECCENTRICITY = 0.568
ORBITAL_INCLINATION = 86.68
ORBITAL_SEMIMAJOR_AXIS = 8601.86
PERIAPSIS_ALTITUDE = 324.22
PERIAPSIS_ARGUMENT_ANGLE = 144.03
PERIAPSIS_TIME = 2006-07-25T21:42:04.000Z
SPACECRAFT_ORIENTATION = (0.0,-1.0,0.0)
^MEX_ORIENTATION_DESC = "MEX_ORIENTATION_DESC.TXT"
SPACECRAFT_POINTING_MODE = ACROSSTRACK
^MEX_POINTING_DESC = "MEX_POINTING_DESC.TXT"
RIGHT_ASCENSION = -1e+32
DECLINATION = -1e+32
OFFSET_ANGLE = 0.1
SPACECRAFT_SOLAR_DISTANCE = 2.48572e+08
TARGET_NAME = MARS
/* CAMERA DATA ELEMENTS */
DETECTOR_TEMPERATURE = 17.7588
FOCAL_PLANE_TEMPERATURE = 7.5638
INST_CMPRS_NAME = "DISCRETE COSINE TRANSFORMATION (DCT)"
INST_CMPRS_RATIO = 22.9663
INST_CMPRS_QUALITY = 0
INST_CMPRS_QUANTZ_TBL_ID = 0
INSTRUMENT_TEMPERATURE = 10.8262
LENS_TEMPERATURE = 7.9716
MACROPIXEL_SIZE = 8
MISSING_FRAMES = 0
PIXEL_SUBSAMPLING_FLAG = N
SIGNAL_CHAIN_ID = 2
/* RADIOMETRIC DATA ELEMENTS */
BANDWIDTH = 88.0
CENTER_FILTER_WAVELENGTH = 538.0
RADIANCE_OFFSET = 2.66904
RADIANCE_SCALING_FACTOR = 0.00580582
REFLECTANCE_SCALING_FACTOR = 0.000308858
MEX:REFLECTANCE_OFFSET = 0.141988
/* IMAGE OBJECT DEFINITIONS */
OBJECT = IMAGE
  INTERCHANGE_FORMAT = BINARY
  LINES = 6243
  LINE_SAMPLES = 1061
  SAMPLE_TYPE = UNSIGNED_INTEGER
  SAMPLE_BITS = 8
  BANDS = 1
  BAND_STORAGE_TYPE = BAND_SEQUENTIAL
  MAXIMUM = 255
  MEAN = 162.048
  MINIMUM = 1
  STANDARD_DEVIATION = 35.9988
END_OBJECT = IMAGE
/* MAP OBJECT DEFINITIONS */
OBJECT = IMAGE_MAP_PROJECTION
  ^DATA_SET_MAP_PROJECTION_CATALOG= "DSMAP.CAT"
  A_AXIS_RADIUS = 3396.0
  B_AXIS_RADIUS = 3396.0
  C_AXIS_RADIUS = 3396.0
  CENTER_LATITUDE = 0.0
  CENTER_LONGITUDE = 251.0
  COORDINATE_SYSTEM_NAME = PLANETOGRAPHIC
  COORDINATE_SYSTEM_TYPE = "BODY-FIXED ROTATING"
  EASTERNMOST_LONGITUDE = 251.622
  FIRST_STANDARD_PARALLEL = "N/A"
  LINE_FIRST_PIXEL = 1
  LINE_LAST_PIXEL = 6243
  LINE_PROJECTION_OFFSET = 9235.9375
  MAP_PROJECTION_ROTATION = 0.0
  MAP_PROJECTION_TYPE = SINUSOIDAL
  MAP_RESOLUTION = 592.713803866667
  MAP_SCALE = 0.1
  MAXIMUM_LATITUDE = 15.5839
  MINIMUM_LATITUDE = 5.05014
  POSITIVE_LONGITUDE_DIRECTION = EAST
  REFERENCE_LATITUDE = "N/A"
  REFERENCE_LONGITUDE = "N/A"
  SAMPLE_FIRST_PIXEL = 1
  SAMPLE_LAST_PIXEL = 1061
  SAMPLE_PROJECTION_OFFSET = 685.5625
  SECOND_STANDARD_PARALLEL = "N/A"
  WESTERNMOST_LONGITUDE = 249.871
END_OBJECT = IMAGE_MAP_PROJECTION
END
