PDS_VERSION_ID = PDS3
/* FILE DATA ELEMENTS */
RECORD_TYPE = UNDEFINED
/* POINTERS TO DATA OBJECTS */
^IMAGE = ("H3280_0000_S14.TIF")
/* IDENTIFICATION DATA ELEMENTS */
DATA_SET_ID = "MEX-M-HRSC-4-REFDR-MAPPROJECT-EXT1-V4.0"
DATA_SET_NAME = "MARS EXPRESS HRSC MAP PROJECTED REFDR EXTENSION1 V4.0"
DETECTOR_ID = MEX_HRSC_S1
EVENT_TYPE = "MARS-REGIONAL-MAPPING-Im-Pf"
INSTRUMENT_HOST_ID = MEX
INSTRUMENT_HOST_NAME = "MARS EXPRESS"
INSTRUMENT_ID = HRSC
INSTRUMENT_NAME = "HIGH RESOLUTION STEREO CAMERA"
MISSION_NAME = "MARS EXPRESS"
MISSION_PHASE_NAME = ME_Phase_3
PROCESSING_LEVEL_ID = 4
PRODUCT_CREATION_TIME = 2023-02-09T11:24:25.000Z
PRODUCT_ID = "H3280_0000_S14.TIF"
RELEASE_ID = 0003
REVISION_ID = 0000
/* QUALITY DATA ELEMENTS */
DATA_QUALITY_ID = 1
DATA_QUALITY_DESC = "Data calculated based on original SPICE kernels"
/* TIME DATA ELEMENTS */
SPACECRAFT_CLOCK_START_COUNT = "1/0102306230.09064"
SPACECRAFT_CLOCK_STOP_COUNT = "1/0102306471.01547"
START_TIME = 2006-07-30T02:23:55.314Z
STOP_TIME = 2006-07-30T02:26:47.205Z
/* ORBITAL DATA ELEMENTS */
ASCENDING_NODE_LONGITUDE = 159.41
MAXIMUM_RESOLUTION = 0.0322
FOOTPRINT_POINT_LATITUDE = (61.5095,61.4832,61.4628,61.4231, 61.3929,61.3616,61.3597,61.2373,61.0213 ,60.805,60.4836,60.2715,60.058,59.8444, 59.6346,59.4249,59.2146,58.9008,58.695, 58.4883,58.178,57.9729,57.7702,57.5671, 57.2623,57.0591,56.7597,56.5597,56.2602 ,56.0601,55.8643,55.6686,55.4744, 55.1706,54.7756,54.2936,53.8126,53.4364 ,53.2399,53.0426,52.8465,52.5528,52.357 ,52.0624,51.8658,51.6651,51.2709, 51.1719,51.1478,51.1678,51.1916,51.2071 ,51.2222,51.2227,51.2234,51.4221, 51.7199,51.9218,52.1189,52.3163,52.5134 ,52.809,53.0056,53.2018,53.3975,53.5936 ,53.7891,54.2771,54.6665,55.0543, 55.3509,55.549,55.7467,55.9446,56.1416, 56.3429,56.5451,56.7468,56.9481,57.1489 ,57.3531,57.5587,57.7637,58.0707, 58.3819,58.5908,58.7992,59.0071,59.2173 ,59.4297,59.6422,59.8538,60.0669, 60.2826,60.6056,60.8206,61.0397,61.259, 61.3683,61.5095)
FOOTPRINT_POINT_LONGITUDE = (215.772,214.994,214.476,213.604, 213.025,212.477,212.445,212.39,212.452, 212.512,212.599,212.656,212.711,212.765 ,212.818,212.869,212.92,212.995,213.042 ,213.089,213.159,213.203,213.247,213.29 ,213.353,213.394,213.454,213.493,213.55 ,213.587,213.623,213.659,213.695, 213.744,213.808,213.887,213.965,214.029 ,214.057,214.085,214.113,214.154, 214.182,214.222,214.248,214.275,214.326 ,214.338,214.341,214.793,215.409, 215.882,216.438,216.458,216.466,216.457 ,216.445,216.436,216.428,216.419,216.41 ,216.397,216.388,216.379,216.37,216.36, 216.351,216.326,216.306,216.286,216.27, 216.26,216.249,216.238,216.227,216.215, 216.203,216.191,216.179,216.167,216.155 ,216.142,216.129,216.109,216.089, 216.075,216.06,216.046,216.031,216.016, 216.0,215.985,215.969,215.953,215.927, 215.91,215.893,215.875,215.866,215.772)
ORBIT_NUMBER = 3280
ORBITAL_ECCENTRICITY = 0.568
ORBITAL_INCLINATION = 86.69
ORBITAL_SEMIMAJOR_AXIS = 8588.77
PERIAPSIS_ALTITUDE = 325.99
PERIAPSIS_ARGUMENT_ANGLE = 141.38
PERIAPSIS_TIME = 2006-07-30T02:30:36.000Z
SPACECRAFT_ORIENTATION = (0.0,-1.0,0.0)
^MEX_ORIENTATION_DESC = "MEX_ORIENTATION_DESC.TXT"
SPACECRAFT_POINTING_MODE = NADIR
^MEX_POINTING_DESC = "MEX_POINTING_DESC.TXT"
RIGHT_ASCENSION = -1e+32
DECLINATION = -1e+32
OFFSET_ANGLE = -1e+32
SPACECRAFT_SOLAR_DISTANCE = 2.48373e+08
TARGET_NAME = MARS
/* CAMERA DATA ELEMENTS */
DETECTOR_TEMPERATURE = 17.1471
FOCAL_PLANE_TEMPERATURE = 8.1755
INST_CMPRS_NAME = "DISCRETE COSINE TRANSFORMATION (DCT)"
INST_CMPRS_RATIO = 14.6676
INST_CMPRS_QUALITY = 0
INST_CMPRS_QUANTZ_TBL_ID = 0
INSTRUMENT_TEMPERATURE = 10.8262
LENS_TEMPERATURE = 8.5833
MACROPIXEL_SIZE = 2
MISSING_FRAMES = 1
PIXEL_SUBSAMPLING_FLAG = N
SIGNAL_CHAIN_ID = 1
/* RADIOMETRIC DATA ELEMENTS */
BANDWIDTH = 180.0
CENTER_FILTER_WAVELENGTH = 677.0
RADIANCE_OFFSET = 3.95946
RADIANCE_SCALING_FACTOR = 0.0218122
REFLECTANCE_SCALING_FACTOR = 0.000702024
MEX:REFLECTANCE_OFFSET = 0.127435
/* IMAGE OBJECT DEFINITIONS */
OBJECT = IMAGE
  INTERCHANGE_FORMAT = BINARY
  LINES = 24253
  LINE_SAMPLES = 4971
  SAMPLE_TYPE = UNSIGNED_INTEGER
  SAMPLE_BITS = 8
  BANDS = 1
  BAND_STORAGE_TYPE = BAND_SEQUENTIAL
  MAXIMUM = 255
  MEAN = 131.417
  MINIMUM = 1
  STANDARD_DEVIATION = 47.2454
END_OBJECT = IMAGE
/* MAP OBJECT DEFINITIONS */
OBJECT = IMAGE_MAP_PROJECTION
  ^DATA_SET_MAP_PROJECTION_CATALOG= "DSMAP.CAT"
  A_AXIS_RADIUS = 3396.0
  B_AXIS_RADIUS = 3396.0
  C_AXIS_RADIUS = 3396.0
  CENTER_LATITUDE = 0.0
  CENTER_LONGITUDE = 215.0
  COORDINATE_SYSTEM_NAME = PLANETOGRAPHIC
  COORDINATE_SYSTEM_TYPE = "BODY-FIXED ROTATING"
  EASTERNMOST_LONGITUDE = 216.466
  FIRST_STANDARD_PARALLEL = "N/A"
  LINE_FIRST_PIXEL = 1
  LINE_LAST_PIXEL = 24253
  LINE_PROJECTION_OFFSET = 145519.25
  MAP_PROJECTION_ROTATION = 0.0
  MAP_PROJECTION_TYPE = SINUSOIDAL
  MAP_RESOLUTION = 2370.85521546667
  MAP_SCALE = 0.025
  MAXIMUM_LATITUDE = 61.5095
  MINIMUM_LATITUDE = 51.1478
  POSITIVE_LONGITUDE_DIRECTION = EAST
  REFERENCE_LATITUDE = "N/A"
  REFERENCE_LONGITUDE = "N/A"
  SAMPLE_FIRST_PIXEL = 1
  SAMPLE_LAST_PIXEL = 4971
  SAMPLE_PROJECTION_OFFSET = 2864.25
  SECOND_STANDARD_PARALLEL = "N/A"
  WESTERNMOST_LONGITUDE = 212.39
END_OBJECT = IMAGE_MAP_PROJECTION
END
