PDS_VERSION_ID = PDS3
/* FILE DATA ELEMENTS */
RECORD_TYPE = UNDEFINED
/* POINTERS TO DATA OBJECTS */
^IMAGE = ("H3283_0000_RE4.TIF")
/* IDENTIFICATION DATA ELEMENTS */
DATA_SET_ID = "MEX-M-HRSC-4-REFDR-MAPPROJECT-EXT1-V4.0"
DATA_SET_NAME = "MARS EXPRESS HRSC MAP PROJECTED REFDR EXTENSION1 V4.0"
DETECTOR_ID = MEX_HRSC_RED
EVENT_TYPE = "MARS-REGIONAL-MAPPING-Vo-Te"
INSTRUMENT_HOST_ID = MEX
INSTRUMENT_HOST_NAME = "MARS EXPRESS"
INSTRUMENT_ID = HRSC
INSTRUMENT_NAME = "HIGH RESOLUTION STEREO CAMERA"
MISSION_NAME = "MARS EXPRESS"
MISSION_PHASE_NAME = ME_Phase_3
PROCESSING_LEVEL_ID = 4
PRODUCT_CREATION_TIME = 2023-02-09T11:24:25.000Z
PRODUCT_ID = "H3283_0000_RE4.TIF"
RELEASE_ID = 0003
REVISION_ID = 0000
/* QUALITY DATA ELEMENTS */
DATA_QUALITY_ID = 1
DATA_QUALITY_DESC = "Data calculated based on original SPICE kernels"
/* TIME DATA ELEMENTS */
SPACECRAFT_CLOCK_START_COUNT = "1/0102379026.09055"
SPACECRAFT_CLOCK_STOP_COUNT = "1/0102379213.56998"
START_TIME = 2006-07-30T22:38:11.080Z
STOP_TIME = 2006-07-30T22:40:11.888Z
/* ORBITAL DATA ELEMENTS */
ASCENDING_NODE_LONGITUDE = 159.34
MAXIMUM_RESOLUTION = 0.1091
FOOTPRINT_POINT_LATITUDE = (49.8821,49.8735,49.8638,49.8536, 49.8431,49.8259,49.8135,49.8128,49.8808 ,49.7208,49.558,49.2397,48.9968,48.8347 ,48.6716,48.5104,48.3466,48.1039, 47.9418,47.7799,47.6179,47.4569,47.2964 ,47.1364,46.9757,46.8188,46.6624, 46.5067,46.3504,46.1941,46.0383,45.8052 ,45.6495,45.4149,45.2585,45.1025, 44.7956,44.406,44.249,44.0944,43.7857, 43.4768,43.1693,42.8606,42.7054,42.5502 ,42.2416,42.0097,41.9323,41.9055,41.915 ,41.9303,41.9381,41.9476,41.9567, 41.9571,41.9591,42.1918,42.3468,42.5018 ,42.6567,42.8118,42.9667,43.2761, 43.5846,43.8915,44.1238,44.434,44.5899, 44.8234,44.981,45.1377,45.294,45.4489, 45.6043,45.8377,45.9928,46.1504,46.3878 ,46.6218,46.7795,46.9341,47.0922,47.253 ,47.4157,47.5782,47.8219,48.0647, 48.2269,48.39,48.6363,48.8004,48.9626, 49.2043,49.3654,49.5267,49.6879,49.8491 ,49.9296,49.8821)
FOOTPRINT_POINT_LONGITUDE = (282.011,281.752,281.477,281.203, 280.931,280.508,280.221,280.204,280.175 ,280.19,280.206,280.235,280.257,280.272 ,280.286,280.3,280.315,280.336,280.349, 280.363,280.376,280.389,280.402,280.414 ,280.426,280.438,280.45,280.461,280.473 ,280.484,280.495,280.512,280.522, 280.538,280.549,280.559,280.578,280.603 ,280.613,280.622,280.64,280.657,280.674 ,280.69,280.699,280.707,280.723,280.734 ,280.738,280.739,280.993,281.421, 281.651,281.94,282.246,282.261,282.27, 282.266,282.263,282.259,282.256,282.252 ,282.249,282.241,282.233,282.223, 282.217,282.209,282.205,282.2,282.198, 282.195,282.191,282.187,282.182,282.176 ,282.172,282.169,282.166,282.16,282.157 ,282.152,282.147,282.142,282.139, 282.135,282.13,282.123,282.119,282.116, 282.112,282.11,282.105,282.098,282.092, 282.087,282.082,282.077,282.074, 282.011)
ORBIT_NUMBER = 3283
ORBITAL_ECCENTRICITY = 0.568
ORBITAL_INCLINATION = 86.67
ORBITAL_SEMIMAJOR_AXIS = 8592.41
PERIAPSIS_ALTITUDE = 326.42
PERIAPSIS_ARGUMENT_ANGLE = 140.86
PERIAPSIS_TIME = 2006-07-30T22:40:31.000Z
SPACECRAFT_ORIENTATION = (0.0,-1.0,0.0)
^MEX_ORIENTATION_DESC = "MEX_ORIENTATION_DESC.TXT"
SPACECRAFT_POINTING_MODE = ACROSSTRACK
^MEX_POINTING_DESC = "MEX_POINTING_DESC.TXT"
RIGHT_ASCENSION = -1e+32
DECLINATION = -1e+32
OFFSET_ANGLE = 0.34
SPACECRAFT_SOLAR_DISTANCE = 2.48331e+08
TARGET_NAME = MARS
/* CAMERA DATA ELEMENTS */
DETECTOR_TEMPERATURE = 18.5744
FOCAL_PLANE_TEMPERATURE = 8.1755
INST_CMPRS_NAME = "DISCRETE COSINE TRANSFORMATION (DCT)"
INST_CMPRS_RATIO = 16.8588
INST_CMPRS_QUALITY = 0
INST_CMPRS_QUANTZ_TBL_ID = 0
INSTRUMENT_TEMPERATURE = 11.0301
LENS_TEMPERATURE = 8.5833
MACROPIXEL_SIZE = 8
MISSING_FRAMES = 0
PIXEL_SUBSAMPLING_FLAG = N
SIGNAL_CHAIN_ID = 2
/* RADIOMETRIC DATA ELEMENTS */
BANDWIDTH = 48.0
CENTER_FILTER_WAVELENGTH = 748.0
RADIANCE_OFFSET = 1.71064
RADIANCE_SCALING_FACTOR = 0.00655593
REFLECTANCE_SCALING_FACTOR = 0.000922618
MEX:REFLECTANCE_OFFSET = 0.240739
/* IMAGE OBJECT DEFINITIONS */
OBJECT = IMAGE
  INTERCHANGE_FORMAT = BINARY
  LINES = 4766
  LINE_SAMPLES = 889
  SAMPLE_TYPE = UNSIGNED_INTEGER
  SAMPLE_BITS = 8
  BANDS = 1
  BAND_STORAGE_TYPE = BAND_SEQUENTIAL
  MAXIMUM = 255
  MEAN = 144.756
  MINIMUM = 1
  STANDARD_DEVIATION = 36.4421
END_OBJECT = IMAGE
/* MAP OBJECT DEFINITIONS */
OBJECT = IMAGE_MAP_PROJECTION
  ^DATA_SET_MAP_PROJECTION_CATALOG= "DSMAP.CAT"
  A_AXIS_RADIUS = 3396.0
  B_AXIS_RADIUS = 3396.0
  C_AXIS_RADIUS = 3396.0
  CENTER_LATITUDE = 0.0
  CENTER_LONGITUDE = 281.0
  COORDINATE_SYSTEM_NAME = PLANETOGRAPHIC
  COORDINATE_SYSTEM_TYPE = "BODY-FIXED ROTATING"
  EASTERNMOST_LONGITUDE = 282.27
  FIRST_STANDARD_PARALLEL = "N/A"
  LINE_FIRST_PIXEL = 1
  LINE_LAST_PIXEL = 4766
  LINE_PROJECTION_OFFSET = 29610.4375
  MAP_PROJECTION_ROTATION = 0.0
  MAP_PROJECTION_TYPE = SINUSOIDAL
  MAP_RESOLUTION = 592.713803866667
  MAP_SCALE = 0.1
  MAXIMUM_LATITUDE = 49.9296
  MINIMUM_LATITUDE = 41.9055
  POSITIVE_LONGITUDE_DIRECTION = EAST
  REFERENCE_LATITUDE = "N/A"
  REFERENCE_LONGITUDE = "N/A"
  SAMPLE_FIRST_PIXEL = 1
  SAMPLE_LAST_PIXEL = 889
  SAMPLE_PROJECTION_OFFSET = 328.5625
  SECOND_STANDARD_PARALLEL = "N/A"
  WESTERNMOST_LONGITUDE = 280.175
END_OBJECT = IMAGE_MAP_PROJECTION
END
