PDS_VERSION_ID = PDS3
/* FILE DATA ELEMENTS */
RECORD_TYPE = UNDEFINED
/* POINTERS TO DATA OBJECTS */
^IMAGE = ("H3283_0001_P14.TIF")
/* IDENTIFICATION DATA ELEMENTS */
DATA_SET_ID = "MEX-M-HRSC-4-REFDR-MAPPROJECT-EXT1-V4.0"
DATA_SET_NAME = "MARS EXPRESS HRSC MAP PROJECTED REFDR EXTENSION1 V4.0"
DETECTOR_ID = MEX_HRSC_P1
EVENT_TYPE = "MARS-REGIONAL-MAPPING-Vo-Fl-Gl"
INSTRUMENT_HOST_ID = MEX
INSTRUMENT_HOST_NAME = "MARS EXPRESS"
INSTRUMENT_ID = HRSC
INSTRUMENT_NAME = "HIGH RESOLUTION STEREO CAMERA"
MISSION_NAME = "MARS EXPRESS"
MISSION_PHASE_NAME = ME_Phase_3
PROCESSING_LEVEL_ID = 4
PRODUCT_CREATION_TIME = 2023-02-09T11:24:25.000Z
PRODUCT_ID = "H3283_0001_P14.TIF"
RELEASE_ID = 0003
REVISION_ID = 0000
/* QUALITY DATA ELEMENTS */
DATA_QUALITY_ID = 1
DATA_QUALITY_DESC = "Data calculated based on original SPICE kernels"
/* TIME DATA ELEMENTS */
SPACECRAFT_CLOCK_START_COUNT = "1/0102379400.08255"
SPACECRAFT_CLOCK_STOP_COUNT = "1/0102379894.18554"
START_TIME = 2006-07-30T22:43:35.916Z
STOP_TIME = 2006-07-30T22:49:47.313Z
/* ORBITAL DATA ELEMENTS */
ASCENDING_NODE_LONGITUDE = 159.34
MAXIMUM_RESOLUTION = 0.0289
FOOTPRINT_POINT_LATITUDE = (25.7209,25.7269,25.73,25.7313,25.7313, 25.721,25.1577,24.7807,23.8426,23.0938, 22.3459,21.9076,21.4621,20.7945,20.3491 ,19.9053,19.4617,19.0187,18.5761,18.134 ,17.6923,17.0268,16.5869,16.135,15.4579 ,14.7663,14.3053,13.833,13.3623,12.883, 12.4019,11.9137,11.4226,10.9237,10.4228 ,9.91254,9.13922,8.35295,7.82253, 7.28285,6.73288,6.18261,5.62363,5.05729 ,4.48485,3.90518,3.31799,2.4199,2.11766 ,2.11627,2.11438,2.10184,2.09343, 2.08447,2.08394,2.08458,2.68833,3.28446 ,3.87211,4.45235,5.02533,5.59143, 6.14896,6.69462,7.24557,7.78624,8.31717 ,9.10461,9.87976,10.39,10.892,11.3912, 11.8833,12.3726,12.8546,13.3342,13.8063 ,14.2785,14.7401,15.4326,16.11,16.5616, 17.0021,17.6687,18.1109,18.5536,18.997, 19.6638,20.1085,20.5534,20.9987,21.4448 ,21.8914,22.3301,23.4542,24.2041,24.767 ,25.5225,25.7104,25.7209)
FOOTPRINT_POINT_LONGITUDE = (282.463,281.958,281.538,281.121, 281.108,281.101,281.102,281.101,281.1, 281.097,281.094,281.091,281.088,281.083 ,281.079,281.075,281.07,281.065,281.06, 281.055,281.048,281.039,281.032,281.025 ,281.013,281.0,280.991,280.982,280.972, 280.962,280.951,280.94,280.928,280.916, 280.903,280.889,280.868,280.846,280.83, 280.813,280.796,280.778,280.76,280.741, 280.721,280.7,280.678,280.644,280.633, 280.632,281.159,281.763,282.194,282.625 ,282.645,282.652,282.647,282.641, 282.636,282.63,282.625,282.621,282.617, 282.616,282.611,282.607,282.602,282.596 ,282.589,282.586,282.582,282.578, 282.575,282.571,282.567,282.564,282.561 ,282.557,282.554,282.549,282.544, 282.541,282.539,282.534,282.531,282.528 ,282.525,282.52,282.516,282.513,282.51, 282.507,282.503,282.5,282.491,282.485, 282.481,282.472,282.47,282.463)
ORBIT_NUMBER = 3283
ORBITAL_ECCENTRICITY = 0.568
ORBITAL_INCLINATION = 86.67
ORBITAL_SEMIMAJOR_AXIS = 8592.41
PERIAPSIS_ALTITUDE = 326.42
PERIAPSIS_ARGUMENT_ANGLE = 140.86
PERIAPSIS_TIME = 2006-07-30T22:40:31.000Z
SPACECRAFT_ORIENTATION = (0.0,-1.0,0.0)
^MEX_ORIENTATION_DESC = "MEX_ORIENTATION_DESC.TXT"
SPACECRAFT_POINTING_MODE = ACROSSTRACK
^MEX_POINTING_DESC = "MEX_POINTING_DESC.TXT"
RIGHT_ASCENSION = -1e+32
DECLINATION = -1e+32
OFFSET_ANGLE = 0.34
SPACECRAFT_SOLAR_DISTANCE = 2.48331e+08
TARGET_NAME = MARS
/* CAMERA DATA ELEMENTS */
DETECTOR_TEMPERATURE = 18.3705
FOCAL_PLANE_TEMPERATURE = 8.1755
INST_CMPRS_NAME = "DISCRETE COSINE TRANSFORMATION (DCT)"
INST_CMPRS_RATIO = 9.44635
INST_CMPRS_QUALITY = 0
INST_CMPRS_QUANTZ_TBL_ID = 0
INSTRUMENT_TEMPERATURE = 12.4574
LENS_TEMPERATURE = 8.5833
MACROPIXEL_SIZE = 2
PIXEL_SUBSAMPLING_FLAG = N
SIGNAL_CHAIN_ID = 3
/* RADIOMETRIC DATA ELEMENTS */
BANDWIDTH = 174.0
CENTER_FILTER_WAVELENGTH = 675.0
RADIANCE_OFFSET = 7.71169
RADIANCE_SCALING_FACTOR = 0.0154063
REFLECTANCE_SCALING_FACTOR = 0.000511027
MEX:REFLECTANCE_OFFSET = 0.255798
/* IMAGE OBJECT DEFINITIONS */
OBJECT = IMAGE
  INTERCHANGE_FORMAT = BINARY
  LINES = 55984
  LINE_SAMPLES = 5059
  SAMPLE_TYPE = UNSIGNED_INTEGER
  SAMPLE_BITS = 8
  BANDS = 1
  BAND_STORAGE_TYPE = BAND_SEQUENTIAL
  MAXIMUM = 255
  MEAN = 140.251
  MINIMUM = 1
  STANDARD_DEVIATION = 28.9682
END_OBJECT = IMAGE
/* MAP OBJECT DEFINITIONS */
OBJECT = IMAGE_MAP_PROJECTION
  ^DATA_SET_MAP_PROJECTION_CATALOG= "DSMAP.CAT"
  A_AXIS_RADIUS = 3396.0
  B_AXIS_RADIUS = 3396.0
  C_AXIS_RADIUS = 3396.0
  CENTER_LATITUDE = 0.0
  CENTER_LONGITUDE = 282.0
  COORDINATE_SYSTEM_NAME = PLANETOGRAPHIC
  COORDINATE_SYSTEM_TYPE = "BODY-FIXED ROTATING"
  EASTERNMOST_LONGITUDE = 282.652
  FIRST_STANDARD_PARALLEL = "N/A"
  LINE_FIRST_PIXEL = 1
  LINE_LAST_PIXEL = 55984
  LINE_PROJECTION_OFFSET = 60986.75
  MAP_PROJECTION_ROTATION = 0.0
  MAP_PROJECTION_TYPE = SINUSOIDAL
  MAP_RESOLUTION = 2370.85521546667
  MAP_SCALE = 0.025
  MAXIMUM_LATITUDE = 25.7313
  MINIMUM_LATITUDE = 2.08394
  POSITIVE_LONGITUDE_DIRECTION = EAST
  REFERENCE_LATITUDE = "N/A"
  REFERENCE_LONGITUDE = "N/A"
  SAMPLE_FIRST_PIXEL = 1
  SAMPLE_LAST_PIXEL = 5059
  SAMPLE_PROJECTION_OFFSET = 3387.25
  SECOND_STANDARD_PARALLEL = "N/A"
  WESTERNMOST_LONGITUDE = 280.632
END_OBJECT = IMAGE_MAP_PROJECTION
END
