PDS_VERSION_ID = PDS3
/* FILE DATA ELEMENTS */
RECORD_TYPE = UNDEFINED
/* POINTERS TO DATA OBJECTS */
^IMAGE = ("H3285_0000_S14.TIF")
/* IDENTIFICATION DATA ELEMENTS */
DATA_SET_ID = "MEX-M-HRSC-4-REFDR-MAPPROJECT-EXT1-V4.0"
DATA_SET_NAME = "MARS EXPRESS HRSC MAP PROJECTED REFDR EXTENSION1 V4.0"
DETECTOR_ID = MEX_HRSC_S1
EVENT_TYPE = "MARS-REGIONAL-MAPPING-Vo-Fl"
INSTRUMENT_HOST_ID = MEX
INSTRUMENT_HOST_NAME = "MARS EXPRESS"
INSTRUMENT_ID = HRSC
INSTRUMENT_NAME = "HIGH RESOLUTION STEREO CAMERA"
MISSION_NAME = "MARS EXPRESS"
MISSION_PHASE_NAME = ME_Phase_3
PROCESSING_LEVEL_ID = 4
PRODUCT_CREATION_TIME = 2023-02-09T11:24:25.000Z
PRODUCT_ID = "H3285_0000_S14.TIF"
RELEASE_ID = 0003
REVISION_ID = 0000
/* QUALITY DATA ELEMENTS */
DATA_QUALITY_ID = 1
DATA_QUALITY_DESC = "Data calculated based on original SPICE kernels"
/* TIME DATA ELEMENTS */
SPACECRAFT_CLOCK_START_COUNT = "1/0102428125.07287"
SPACECRAFT_CLOCK_STOP_COUNT = "1/0102428428.05424"
START_TIME = 2006-07-31T12:15:30.248Z
STOP_TIME = 2006-07-31T12:17:44.419Z
/* ORBITAL DATA ELEMENTS */
ASCENDING_NODE_LONGITUDE = 159.3
MAXIMUM_RESOLUTION = 0.0463
FOOTPRINT_POINT_LATITUDE = (4.06438,4.06651,4.06845,4.06997, 4.07036,4.07005,4.06886,4.06877,4.04459 ,3.66726,3.36767,3.13908,2.75208, 2.44324,2.2076,1.89005,1.73055,1.57146, 1.33264,1.01655,0.855144,0.692001, 0.442789,0.120184,-0.127662,-0.452672, -0.619587,-0.791433,-0.966452,-1.14022, -1.39947,-1.57288,-1.83113,-2.00683, -2.17896,-2.44146,-2.61755,-2.79668, -2.97697,-3.15326,-3.32871,-3.49643, -3.67113,-3.84747,-4.11166,-4.19919, -4.21825,-4.21859,-4.22147,-4.22212, -4.22846,-4.23329,-4.23659,-4.23907, -4.24181,-4.24216,-4.24149,-3.97861, -3.71372,-3.53639,-3.3624,-3.18591, -2.92018,-2.74389,-2.56647,-2.38939, -2.21475,-1.95489,-1.78168,-1.6087, -1.43623,-1.26473,-1.09474,-0.926204, -0.755734,-0.583467,-0.412446,-0.242596 ,-0.0738524,0.0908161,0.253281,0.490419 ,0.65458,0.815827,0.979232,1.14008, 1.3022,1.46445,1.62584,1.78804,1.94985, 2.2578,2.48901,2.80294,3.1188,3.41857, 3.72078,3.94781,4.02261,4.06438)
FOOTPRINT_POINT_LONGITUDE = (85.5039,85.2472,84.9536,84.5675,84.273 ,83.9777,83.6259,83.6074,83.5926, 83.5804,83.572,83.5649,83.5507,83.5411, 83.5322,83.5201,83.514,83.508,83.4992, 83.4895,83.4832,83.4766,83.4657,83.4545 ,83.4451,83.4343,83.4278,83.4196, 83.4102,83.4012,83.3894,83.3811,83.3699 ,83.3615,83.3544,83.3425,83.3345, 83.3253,83.3156,83.3072,83.2991,83.2937 ,83.2856,83.2768,83.2635,83.2592, 83.2587,83.5073,83.8235,84.0943,84.4542 ,84.7694,85.1067,85.3537,85.5558, 85.5782,85.5863,85.5833,85.58,85.5777, 85.5762,85.5742,85.571,85.5691,85.567, 85.5651,85.5633,85.5609,85.5594,85.5575 ,85.5556,85.554,85.5526,85.5511,85.5491 ,85.5468,85.5444,85.5421,85.5401, 85.5391,85.538,85.538,85.5365,85.5355, 85.5336,85.5324,85.5309,85.5292,85.5272 ,85.5252,85.5233,85.5224,85.5213, 85.5185,85.5142,85.5137,85.5117,85.51, 85.5096,85.5039)
ORBIT_NUMBER = 3285
ORBITAL_ECCENTRICITY = 0.568
ORBITAL_INCLINATION = 86.69
ORBITAL_SEMIMAJOR_AXIS = 8592.72
PERIAPSIS_ALTITUDE = 325.98
PERIAPSIS_ARGUMENT_ANGLE = 140.48
PERIAPSIS_TIME = 2006-07-31T12:06:58.000Z
SPACECRAFT_ORIENTATION = (0.0,-1.0,0.0)
^MEX_ORIENTATION_DESC = "MEX_ORIENTATION_DESC.TXT"
SPACECRAFT_POINTING_MODE = ACROSSTRACK
^MEX_POINTING_DESC = "MEX_POINTING_DESC.TXT"
RIGHT_ASCENSION = -1e+32
DECLINATION = -1e+32
OFFSET_ANGLE = -0.19
SPACECRAFT_SOLAR_DISTANCE = 2.48302e+08
TARGET_NAME = MARS
/* CAMERA DATA ELEMENTS */
DETECTOR_TEMPERATURE = 17.351
FOCAL_PLANE_TEMPERATURE = 8.3794
INST_CMPRS_NAME = "DISCRETE COSINE TRANSFORMATION (DCT)"
INST_CMPRS_RATIO = 9.14653
INST_CMPRS_QUALITY = 0
INST_CMPRS_QUANTZ_TBL_ID = 0
INSTRUMENT_TEMPERATURE = 11.0301
LENS_TEMPERATURE = 8.5833
MACROPIXEL_SIZE = 2
MISSING_FRAMES = 0
PIXEL_SUBSAMPLING_FLAG = N
SIGNAL_CHAIN_ID = 1
/* RADIOMETRIC DATA ELEMENTS */
BANDWIDTH = 180.0
CENTER_FILTER_WAVELENGTH = 677.0
RADIANCE_OFFSET = 4.14811
RADIANCE_SCALING_FACTOR = 0.0192005
REFLECTANCE_SCALING_FACTOR = 0.000617607
MEX:REFLECTANCE_OFFSET = 0.133429
/* IMAGE OBJECT DEFINITIONS */
OBJECT = IMAGE
  INTERCHANGE_FORMAT = BINARY
  LINES = 9877
  LINE_SAMPLES = 3028
  SAMPLE_TYPE = UNSIGNED_INTEGER
  SAMPLE_BITS = 8
  BANDS = 1
  BAND_STORAGE_TYPE = BAND_SEQUENTIAL
  MAXIMUM = 255
  MEAN = 135.159
  MINIMUM = 1
  STANDARD_DEVIATION = 33.1343
END_OBJECT = IMAGE
/* MAP OBJECT DEFINITIONS */
OBJECT = IMAGE_MAP_PROJECTION
  ^DATA_SET_MAP_PROJECTION_CATALOG= "DSMAP.CAT"
  A_AXIS_RADIUS = 3396.0
  B_AXIS_RADIUS = 3396.0
  C_AXIS_RADIUS = 3396.0
  CENTER_LATITUDE = 0.0
  CENTER_LONGITUDE = 84.0
  COORDINATE_SYSTEM_NAME = PLANETOGRAPHIC
  COORDINATE_SYSTEM_TYPE = "BODY-FIXED ROTATING"
  EASTERNMOST_LONGITUDE = 85.58629999999999
  FIRST_STANDARD_PARALLEL = "N/A"
  LINE_FIRST_PIXEL = 1
  LINE_LAST_PIXEL = 9877
  LINE_PROJECTION_OFFSET = 4853.25
  MAP_PROJECTION_ROTATION = 0.0
  MAP_PROJECTION_TYPE = SINUSOIDAL
  MAP_RESOLUTION = 1185.42760773333
  MAP_SCALE = 0.05
  MAXIMUM_LATITUDE = 4.07036
  MINIMUM_LATITUDE = -4.24216
  POSITIVE_LONGITUDE_DIRECTION = EAST
  REFERENCE_LATITUDE = "N/A"
  REFERENCE_LONGITUDE = "N/A"
  SAMPLE_FIRST_PIXEL = 1
  SAMPLE_LAST_PIXEL = 3028
  SAMPLE_PROJECTION_OFFSET = 1015.75
  SECOND_STANDARD_PARALLEL = "N/A"
  WESTERNMOST_LONGITUDE = 83.2587
END_OBJECT = IMAGE_MAP_PROJECTION
END
