PDS_VERSION_ID = PDS3
/* FILE DATA ELEMENTS */
RECORD_TYPE = UNDEFINED
/* POINTERS TO DATA OBJECTS */
^IMAGE = ("H3289_0000_ND4.TIF")
/* IDENTIFICATION DATA ELEMENTS */
DATA_SET_ID = "MEX-M-HRSC-4-REFDR-MAPPROJECT-EXT1-V4.0"
DATA_SET_NAME = "MARS EXPRESS HRSC MAP PROJECTED REFDR EXTENSION1 V4.0"
DETECTOR_ID = MEX_HRSC_NADIR
EVENT_TYPE = "MARS-REGIONAL-MAPPING-Te-Pf-Mw"
INSTRUMENT_HOST_ID = MEX
INSTRUMENT_HOST_NAME = "MARS EXPRESS"
INSTRUMENT_ID = HRSC
INSTRUMENT_NAME = "HIGH RESOLUTION STEREO CAMERA"
MISSION_NAME = "MARS EXPRESS"
MISSION_PHASE_NAME = ME_Phase_3
PROCESSING_LEVEL_ID = 4
PRODUCT_CREATION_TIME = 2023-02-09T11:24:25.000Z
PRODUCT_ID = "H3289_0000_ND4.TIF"
RELEASE_ID = 0003
REVISION_ID = 0000
/* QUALITY DATA ELEMENTS */
DATA_QUALITY_ID = 1
DATA_QUALITY_DESC = "Data calculated based on original SPICE kernels"
/* TIME DATA ELEMENTS */
SPACECRAFT_CLOCK_START_COUNT = "1/0102524216.08250"
SPACECRAFT_CLOCK_STOP_COUNT = "1/0102524436.42005"
START_TIME = 2006-08-01T14:57:33.511Z
STOP_TIME = 2006-08-01T15:00:10.513Z
/* ORBITAL DATA ELEMENTS */
ASCENDING_NODE_LONGITUDE = 159.21
MAXIMUM_RESOLUTION = 0.0131
FOOTPRINT_POINT_LATITUDE = (49.4703,49.4549,49.4407,49.4145, 49.4138,49.4133,49.2045,48.9956,48.7865 ,48.5774,48.3682,48.1589,47.9495,47.74, 47.5304,47.3207,47.0061,46.7962,46.4833 ,46.2801,45.975,45.7716,45.5681,45.3646 ,45.0591,44.8554,44.6517,44.4479,44.244 ,44.0402,43.8362,43.6322,43.3262, 43.1221,42.8159,42.6118,42.4076,42.2033 ,41.897,41.6927,41.4884,40.9896,40.397, 39.8042,39.3102,39.2115,39.1981,39.2052 ,39.212,39.2197,39.2282,39.2284,39.2288 ,39.6247,39.8229,40.1201,40.5157, 40.7139,40.9121,41.308,41.5104,41.715, 41.92,42.1246,42.3294,42.5341,42.7388, 42.9434,43.1479,43.3525,43.5572,43.7617 ,43.9662,44.1707,44.375,44.5795,44.7838 ,45.0902,45.2946,45.4987,45.7029, 45.9069,46.111,46.3149,46.5188,46.8323, 47.0428,47.2533,47.4637,47.6741,47.8844 ,48.0944,48.3047,48.5146,48.7246, 48.9345,49.1442,49.3539,49.4587, 49.4703)
FOOTPRINT_POINT_LONGITUDE = (51.7603,51.1719,50.7086,49.9785, 49.9606,49.9121,49.9342,49.9556,49.9768 ,49.9975,50.0179,50.038,50.0585,50.0784 ,50.0976,50.1175,50.1436,50.1632, 50.1914,50.2072,50.2335,50.2483,50.2635 ,50.2785,50.3023,50.3167,50.3313, 50.3459,50.3602,50.3741,50.3883,50.4019 ,50.4216,50.4347,50.455,50.4667,50.4814 ,50.4967,50.5103,50.5212,50.5326, 50.5654,50.5957,50.6242,50.6474,50.652, 50.6526,50.9284,51.2186,51.5961,52.1046 ,52.1191,52.1262,52.1166,52.1151, 52.1102,52.0949,52.0931,52.0902,52.0788 ,52.0738,52.065,52.0626,52.0558,52.0512 ,52.0446,52.0388,52.0324,52.0249,52.019 ,52.0141,52.0079,52.0009,51.995,51.9865 ,51.9826,51.9757,51.9654,51.9597, 51.9526,51.9455,51.9385,51.9313,51.9242 ,51.9166,51.9048,51.8973,51.8889, 51.8814,51.8732,51.8656,51.8552,51.8488 ,51.8399,51.831,51.8228,51.8139,51.8049 ,51.8003,51.7603)
ORBIT_NUMBER = 3289
ORBITAL_ECCENTRICITY = 0.568
ORBITAL_INCLINATION = 86.68
ORBITAL_SEMIMAJOR_AXIS = 8590.35
PERIAPSIS_ALTITUDE = 327.07
PERIAPSIS_ARGUMENT_ANGLE = 139.81
PERIAPSIS_TIME = 2006-08-01T14:59:56.000Z
SPACECRAFT_ORIENTATION = (0.0,-1.0,0.0)
^MEX_ORIENTATION_DESC = "MEX_ORIENTATION_DESC.TXT"
SPACECRAFT_POINTING_MODE = NADIR
^MEX_POINTING_DESC = "MEX_POINTING_DESC.TXT"
RIGHT_ASCENSION = -1e+32
DECLINATION = -1e+32
OFFSET_ANGLE = -1e+32
SPACECRAFT_SOLAR_DISTANCE = 2.48242e+08
TARGET_NAME = MARS
/* CAMERA DATA ELEMENTS */
DETECTOR_TEMPERATURE = 18.1666
FOCAL_PLANE_TEMPERATURE = 8.1755
INST_CMPRS_NAME = "DISCRETE COSINE TRANSFORMATION (DCT)"
INST_CMPRS_RATIO = 7.49416
INST_CMPRS_QUALITY = 0
INST_CMPRS_QUANTZ_TBL_ID = 0
INSTRUMENT_TEMPERATURE = 11.234
LENS_TEMPERATURE = 8.5833
MACROPIXEL_SIZE = 1
MISSING_FRAMES = 0
PIXEL_SUBSAMPLING_FLAG = N
SIGNAL_CHAIN_ID = 0
/* RADIOMETRIC DATA ELEMENTS */
BANDWIDTH = 177.0
CENTER_FILTER_WAVELENGTH = 677.5
RADIANCE_OFFSET = 3.23626
RADIANCE_SCALING_FACTOR = 0.0293484
REFLECTANCE_SCALING_FACTOR = 0.000960772
MEX:REFLECTANCE_OFFSET = 0.105945
/* IMAGE OBJECT DEFINITIONS */
OBJECT = IMAGE
  INTERCHANGE_FORMAT = BINARY
  LINES = 48720
  LINE_SAMPLES = 7493
  SAMPLE_TYPE = UNSIGNED_INTEGER
  SAMPLE_BITS = 8
  BANDS = 1
  BAND_STORAGE_TYPE = BAND_SEQUENTIAL
  MAXIMUM = 255
  MEAN = 162.818
  MINIMUM = 1
  STANDARD_DEVIATION = 22.153
END_OBJECT = IMAGE
/* MAP OBJECT DEFINITIONS */
OBJECT = IMAGE_MAP_PROJECTION
  ^DATA_SET_MAP_PROJECTION_CATALOG= "DSMAP.CAT"
  A_AXIS_RADIUS = 3396.0
  B_AXIS_RADIUS = 3396.0
  C_AXIS_RADIUS = 3396.0
  CENTER_LATITUDE = 0.0
  CENTER_LONGITUDE = 51.0
  COORDINATE_SYSTEM_NAME = PLANETOGRAPHIC
  COORDINATE_SYSTEM_TYPE = "BODY-FIXED ROTATING"
  EASTERNMOST_LONGITUDE = 52.1262
  FIRST_STANDARD_PARALLEL = "N/A"
  LINE_FIRST_PIXEL = 1
  LINE_LAST_PIXEL = 48720
  LINE_PROJECTION_OFFSET = 234586.0
  MAP_PROJECTION_ROTATION = 0.0
  MAP_PROJECTION_TYPE = SINUSOIDAL
  MAP_RESOLUTION = 4741.71043093333
  MAP_SCALE = 0.0125
  MAXIMUM_LATITUDE = 49.4703
  MINIMUM_LATITUDE = 39.1981
  POSITIVE_LONGITUDE_DIRECTION = EAST
  REFERENCE_LATITUDE = "N/A"
  REFERENCE_LONGITUDE = "N/A"
  SAMPLE_FIRST_PIXEL = 1
  SAMPLE_LAST_PIXEL = 7493
  SAMPLE_PROJECTION_OFFSET = 3355.0
  SECOND_STANDARD_PARALLEL = "N/A"
  WESTERNMOST_LONGITUDE = 49.9121
END_OBJECT = IMAGE_MAP_PROJECTION
END
