PDS_VERSION_ID = PDS3
/* FILE DATA ELEMENTS */
RECORD_TYPE = UNDEFINED
/* POINTERS TO DATA OBJECTS */
^IMAGE = ("H3290_0000_S24.TIF")
/* IDENTIFICATION DATA ELEMENTS */
DATA_SET_ID = "MEX-M-HRSC-4-REFDR-MAPPROJECT-EXT1-V4.0"
DATA_SET_NAME = "MARS EXPRESS HRSC MAP PROJECTED REFDR EXTENSION1 V4.0"
DETECTOR_ID = MEX_HRSC_S2
EVENT_TYPE = "MARS-REGIONAL-MAPPING-Vo-Im-Pf"
INSTRUMENT_HOST_ID = MEX
INSTRUMENT_HOST_NAME = "MARS EXPRESS"
INSTRUMENT_ID = HRSC
INSTRUMENT_NAME = "HIGH RESOLUTION STEREO CAMERA"
MISSION_NAME = "MARS EXPRESS"
MISSION_PHASE_NAME = ME_Phase_3
PROCESSING_LEVEL_ID = 4
PRODUCT_CREATION_TIME = 2023-02-09T11:24:25.000Z
PRODUCT_ID = "H3290_0000_S24.TIF"
RELEASE_ID = 0003
REVISION_ID = 0000
/* QUALITY DATA ELEMENTS */
DATA_QUALITY_ID = 1
DATA_QUALITY_DESC = "Data calculated based on original SPICE kernels"
/* TIME DATA ELEMENTS */
SPACECRAFT_CLOCK_START_COUNT = "1/0102548195.08409"
SPACECRAFT_CLOCK_STOP_COUNT = "1/0102548401.56751"
START_TIME = 2006-08-01T21:38:04.432Z
STOP_TIME = 2006-08-01T21:40:04.984Z
/* ORBITAL DATA ELEMENTS */
ASCENDING_NODE_LONGITUDE = 159.2
MAXIMUM_RESOLUTION = 0.0313
FOOTPRINT_POINT_LATITUDE = (62.5003,62.4764,62.4582,62.4438, 62.4235,62.4019,62.3746,62.3731,62.4962 ,62.3315,62.0842,61.9193,61.7542, 61.4274,61.1866,60.8647,60.7033,60.542, 60.3806,60.0583,59.8969,59.7353,59.5737 ,59.3312,59.1695,59.0077,58.8461, 58.6842,58.4416,58.2797,58.1177,57.9557 ,57.7936,57.6316,57.4693,57.307,57.0638 ,56.9015,56.6581,56.4957,56.252,56.0085 ,55.8461,55.6169,55.2764,55.0721, 54.6632,54.595,54.5785,54.5971,54.6151, 54.6363,54.6553,54.656,54.6566,54.8622, 55.0676,55.4785,55.7524,55.993,56.1565, 56.3199,56.4832,56.6466,56.81,57.055, 57.2182,57.3813,57.5446,57.7079,57.8711 ,58.0341,58.1973,58.3604,58.5236, 58.6867,58.8496,59.0126,59.1756,59.3383 ,59.5013,59.6641,59.8267,59.9895,60.152 ,60.4767,60.721,60.8842,61.0465,61.2092 ,61.3717,61.534,61.6961,61.8626,62.0294 ,62.1961,62.3627,62.5291,62.6124, 62.5003)
FOOTPRINT_POINT_LONGITUDE = (312.44,311.76,311.288,310.934,310.463, 309.993,309.434,309.405,309.281,309.329 ,309.4,309.447,309.493,309.582,309.645, 309.729,309.77,309.81,309.85,309.928, 309.966,310.004,310.041,310.096,310.132 ,310.168,310.203,310.238,310.288, 310.322,310.355,310.388,310.42,310.452, 310.483,310.515,310.56,310.59,310.635, 310.664,310.707,310.749,310.777,310.815 ,310.871,310.904,310.968,310.978, 310.981,311.434,311.932,312.56,313.189, 313.211,313.218,313.205,313.191,313.163 ,313.144,313.127,313.115,313.103, 313.091,313.078,313.066,313.047,313.034 ,313.021,313.008,312.995,312.982, 312.968,312.954,312.94,312.926,312.912, 312.898,312.883,312.868,312.853,312.838 ,312.823,312.807,312.791,312.775, 312.742,312.717,312.701,312.684,312.666 ,312.649,312.631,312.613,312.594, 312.575,312.556,312.536,312.517,312.507 ,312.44)
ORBIT_NUMBER = 3290
ORBITAL_ECCENTRICITY = 0.567
ORBITAL_INCLINATION = 86.68
ORBITAL_SEMIMAJOR_AXIS = 8583.29
PERIAPSIS_ALTITUDE = 327.52
PERIAPSIS_ARGUMENT_ANGLE = 139.63
PERIAPSIS_TIME = 2006-08-01T21:43:12.000Z
SPACECRAFT_ORIENTATION = (0.0,-1.0,0.0)
^MEX_ORIENTATION_DESC = "MEX_ORIENTATION_DESC.TXT"
SPACECRAFT_POINTING_MODE = NADIR
^MEX_POINTING_DESC = "MEX_POINTING_DESC.TXT"
RIGHT_ASCENSION = -1e+32
DECLINATION = -1e+32
OFFSET_ANGLE = -1e+32
SPACECRAFT_SOLAR_DISTANCE = 2.48227e+08
TARGET_NAME = MARS
/* CAMERA DATA ELEMENTS */
DETECTOR_TEMPERATURE = 18.5744
FOCAL_PLANE_TEMPERATURE = 7.3599
INST_CMPRS_NAME = "DISCRETE COSINE TRANSFORMATION (DCT)"
INST_CMPRS_RATIO = 14.2693
INST_CMPRS_QUALITY = 0
INST_CMPRS_QUANTZ_TBL_ID = 0
INSTRUMENT_TEMPERATURE = 11.234
LENS_TEMPERATURE = 8.1755
MACROPIXEL_SIZE = 2
MISSING_FRAMES = 0
PIXEL_SUBSAMPLING_FLAG = N
SIGNAL_CHAIN_ID = 1
/* RADIOMETRIC DATA ELEMENTS */
BANDWIDTH = 178.0
CENTER_FILTER_WAVELENGTH = 679.0
RADIANCE_OFFSET = 3.28273
RADIANCE_SCALING_FACTOR = 0.0130993
REFLECTANCE_SCALING_FACTOR = 0.000427442
MEX:REFLECTANCE_OFFSET = 0.107118
/* IMAGE OBJECT DEFINITIONS */
OBJECT = IMAGE
  INTERCHANGE_FORMAT = BINARY
  LINES = 19157
  LINE_SAMPLES = 4765
  SAMPLE_TYPE = UNSIGNED_INTEGER
  SAMPLE_BITS = 8
  BANDS = 1
  BAND_STORAGE_TYPE = BAND_SEQUENTIAL
  MAXIMUM = 255
  MEAN = 116.606
  MINIMUM = 1
  STANDARD_DEVIATION = 36.3806
END_OBJECT = IMAGE
/* MAP OBJECT DEFINITIONS */
OBJECT = IMAGE_MAP_PROJECTION
  ^DATA_SET_MAP_PROJECTION_CATALOG= "DSMAP.CAT"
  A_AXIS_RADIUS = 3396.0
  B_AXIS_RADIUS = 3396.0
  C_AXIS_RADIUS = 3396.0
  CENTER_LATITUDE = 0.0
  CENTER_LONGITUDE = 312.0
  COORDINATE_SYSTEM_NAME = PLANETOGRAPHIC
  COORDINATE_SYSTEM_TYPE = "BODY-FIXED ROTATING"
  EASTERNMOST_LONGITUDE = 313.218
  FIRST_STANDARD_PARALLEL = "N/A"
  LINE_FIRST_PIXEL = 1
  LINE_LAST_PIXEL = 19157
  LINE_PROJECTION_OFFSET = 148464.75
  MAP_PROJECTION_ROTATION = 0.0
  MAP_PROJECTION_TYPE = SINUSOIDAL
  MAP_RESOLUTION = 2370.85521546667
  MAP_SCALE = 0.025
  MAXIMUM_LATITUDE = 62.6124
  MINIMUM_LATITUDE = 54.5785
  POSITIVE_LONGITUDE_DIRECTION = EAST
  REFERENCE_LATITUDE = "N/A"
  REFERENCE_LONGITUDE = "N/A"
  SAMPLE_FIRST_PIXEL = 1
  SAMPLE_LAST_PIXEL = 4765
  SAMPLE_PROJECTION_OFFSET = 3059.25
  SECOND_STANDARD_PARALLEL = "N/A"
  WESTERNMOST_LONGITUDE = 309.281
END_OBJECT = IMAGE_MAP_PROJECTION
END
