PDS_VERSION_ID = PDS3
/* FILE DATA ELEMENTS */
RECORD_TYPE = UNDEFINED
/* POINTERS TO DATA OBJECTS */
^IMAGE = ("H3304_0000_GR4.TIF")
/* IDENTIFICATION DATA ELEMENTS */
DATA_SET_ID = "MEX-M-HRSC-4-REFDR-MAPPROJECT-EXT1-V4.0"
DATA_SET_NAME = "MARS EXPRESS HRSC MAP PROJECTED REFDR EXTENSION1 V4.0"
DETECTOR_ID = MEX_HRSC_GREEN
EVENT_TYPE = "MARS-REGIONAL-MAPPING-Te-Pf-Mw"
INSTRUMENT_HOST_ID = MEX
INSTRUMENT_HOST_NAME = "MARS EXPRESS"
INSTRUMENT_ID = HRSC
INSTRUMENT_NAME = "HIGH RESOLUTION STEREO CAMERA"
MISSION_NAME = "MARS EXPRESS"
MISSION_PHASE_NAME = ME_Phase_3
PROCESSING_LEVEL_ID = 4
PRODUCT_CREATION_TIME = 2023-02-09T17:15:12.000Z
PRODUCT_ID = "H3304_0000_GR4.TIF"
RELEASE_ID = 0004
REVISION_ID = 0000
/* QUALITY DATA ELEMENTS */
DATA_QUALITY_ID = 1
DATA_QUALITY_DESC = "Data calculated based on original SPICE kernels"
/* TIME DATA ELEMENTS */
SPACECRAFT_CLOCK_START_COUNT = "1/0102887158.09053"
SPACECRAFT_CLOCK_STOP_COUNT = "1/0102887469.23287"
START_TIME = 2006-08-05T19:46:30.265Z
STOP_TIME = 2006-08-05T19:50:36.616Z
/* ORBITAL DATA ELEMENTS */
ASCENDING_NODE_LONGITUDE = 158.91
MAXIMUM_RESOLUTION = 0.1058
FOOTPRINT_POINT_LATITUDE = (51.6533,51.6381,51.61,51.5893,51.5885, 51.5694,51.2466,50.9234,50.5999,50.276, 49.9519,49.6276,49.3031,48.9784,48.6532 ,48.1705,47.5402,47.2247,46.9092, 46.5935,46.2777,45.9615,45.4873,45.171, 44.6965,44.38,44.0633,43.7464,43.2711, 42.7955,42.3194,42.0015,41.6842,41.3673 ,40.8919,40.5747,40.2563,39.9387, 39.4634,39.1457,38.67,38.3527,38.0354, 37.7181,37.2421,36.925,36.608,36.2909, 35.8157,35.6573,35.5605,35.5733,35.5854 ,35.5856,35.5873,35.9047,36.2221,36.539 ,37.0151,37.3331,37.8105,38.2875, 38.6053,39.082,39.4001,39.7176,40.0354, 40.3536,40.8314,41.1498,41.4671,41.9439 ,42.2619,42.5805,43.0568,43.5338, 44.0102,44.3278,44.6457,44.9628,45.2803 ,45.756,46.0733,46.5485,46.8653,47.3403 ,47.6567,47.9729,48.289,48.7755,49.1015 ,49.4275,49.7533,50.0788,50.4042, 50.7292,51.0539,51.3784,51.5406, 51.6533)
FOOTPRINT_POINT_LONGITUDE = (17.083,16.5562,15.7484,15.2384,15.2208 ,15.164,15.2035,15.2419,15.2795,15.3158 ,15.3513,15.3862,15.4202,15.4536, 15.4857,15.5325,15.5907,15.6184,15.646, 15.6729,15.6993,15.7242,15.7615,15.7858 ,15.8211,15.844,15.8662,15.8874,15.9188 ,15.9484,15.9762,15.993,16.011,16.0296, 16.0564,16.0732,16.0864,16.1014,16.1256 ,16.1391,16.1605,16.1737,16.1865, 16.1987,16.2161,16.2275,16.2385,16.2488 ,16.264,16.2688,16.2717,16.8773,17.6857 ,17.6991,17.708,17.7007,17.6934,17.6874 ,17.6766,17.6681,17.6547,17.642,17.634, 17.6219,17.6133,17.6057,17.5975,17.5883 ,17.5726,17.5622,17.5546,17.5405, 17.5303,17.5184,17.504,17.4871,17.471, 17.4599,17.4472,17.4363,17.424,17.406, 17.3927,17.3739,17.3607,17.34,17.3263, 17.3122,17.2978,17.2754,17.26,17.244, 17.2276,17.2108,17.1938,17.1767,17.1592 ,17.1415,17.1324,17.083)
ORBIT_NUMBER = 3304
ORBITAL_ECCENTRICITY = 0.567
ORBITAL_INCLINATION = 86.67
ORBITAL_SEMIMAJOR_AXIS = 8583.13
PERIAPSIS_ALTITUDE = 328.87
PERIAPSIS_ARGUMENT_ANGLE = 137.12
PERIAPSIS_TIME = 2006-08-05T19:48:51.000Z
SPACECRAFT_ORIENTATION = (0.0,-1.0,0.0)
^MEX_ORIENTATION_DESC = "MEX_ORIENTATION_DESC.TXT"
SPACECRAFT_POINTING_MODE = ACROSSTRACK
^MEX_POINTING_DESC = "MEX_POINTING_DESC.TXT"
RIGHT_ASCENSION = -1e+32
DECLINATION = -1e+32
OFFSET_ANGLE = -0.05
SPACECRAFT_SOLAR_DISTANCE = 2.48003e+08
TARGET_NAME = MARS
/* CAMERA DATA ELEMENTS */
DETECTOR_TEMPERATURE = 18.1666
FOCAL_PLANE_TEMPERATURE = 8.3794
INST_CMPRS_NAME = "DISCRETE COSINE TRANSFORMATION (DCT)"
INST_CMPRS_RATIO = 18.4755
INST_CMPRS_QUALITY = 0
INST_CMPRS_QUANTZ_TBL_ID = 0
INSTRUMENT_TEMPERATURE = 11.234
LENS_TEMPERATURE = 8.7872
MACROPIXEL_SIZE = 8
MISSING_FRAMES = 0
PIXEL_SUBSAMPLING_FLAG = N
SIGNAL_CHAIN_ID = 2
/* RADIOMETRIC DATA ELEMENTS */
BANDWIDTH = 88.0
CENTER_FILTER_WAVELENGTH = 538.0
RADIANCE_OFFSET = 1.14986
RADIANCE_SCALING_FACTOR = 0.00705082
REFLECTANCE_SCALING_FACTOR = 0.000373372
MEX:REFLECTANCE_OFFSET = 0.06089
/* IMAGE OBJECT DEFINITIONS */
OBJECT = IMAGE
  INTERCHANGE_FORMAT = BINARY
  LINES = 9527
  LINE_SAMPLES = 1027
  SAMPLE_TYPE = UNSIGNED_INTEGER
  SAMPLE_BITS = 8
  BANDS = 1
  BAND_STORAGE_TYPE = BAND_SEQUENTIAL
  MAXIMUM = 255
  MEAN = 167.507
  MINIMUM = 1
  STANDARD_DEVIATION = 21.9009
END_OBJECT = IMAGE
/* MAP OBJECT DEFINITIONS */
OBJECT = IMAGE_MAP_PROJECTION
  ^DATA_SET_MAP_PROJECTION_CATALOG= "DSMAP.CAT"
  A_AXIS_RADIUS = 3396.0
  B_AXIS_RADIUS = 3396.0
  C_AXIS_RADIUS = 3396.0
  CENTER_LATITUDE = 0.0
  CENTER_LONGITUDE = 17.0
  COORDINATE_SYSTEM_NAME = PLANETOGRAPHIC
  COORDINATE_SYSTEM_TYPE = "BODY-FIXED ROTATING"
  EASTERNMOST_LONGITUDE = 17.708
  FIRST_STANDARD_PARALLEL = "N/A"
  LINE_FIRST_PIXEL = 1
  LINE_LAST_PIXEL = 9527
  LINE_PROJECTION_OFFSET = 30612.4375
  MAP_PROJECTION_ROTATION = 0.0
  MAP_PROJECTION_TYPE = SINUSOIDAL
  MAP_RESOLUTION = 592.713803866667
  MAP_SCALE = 0.1
  MAXIMUM_LATITUDE = 51.6533
  MINIMUM_LATITUDE = 35.5605
  POSITIVE_LONGITUDE_DIRECTION = EAST
  REFERENCE_LATITUDE = "N/A"
  REFERENCE_LONGITUDE = "N/A"
  SAMPLE_FIRST_PIXEL = 1
  SAMPLE_LAST_PIXEL = 1027
  SAMPLE_PROJECTION_OFFSET = 683.0625
  SECOND_STANDARD_PARALLEL = "N/A"
  WESTERNMOST_LONGITUDE = 15.164
END_OBJECT = IMAGE_MAP_PROJECTION
END
