PDS_VERSION_ID = PDS3
/* FILE DATA ELEMENTS */
RECORD_TYPE = UNDEFINED
/* POINTERS TO DATA OBJECTS */
^IMAGE = ("H3304_0000_ND4.TIF")
/* IDENTIFICATION DATA ELEMENTS */
DATA_SET_ID = "MEX-M-HRSC-4-REFDR-MAPPROJECT-EXT1-V4.0"
DATA_SET_NAME = "MARS EXPRESS HRSC MAP PROJECTED REFDR EXTENSION1 V4.0"
DETECTOR_ID = MEX_HRSC_NADIR
EVENT_TYPE = "MARS-REGIONAL-MAPPING-Te-Pf-Mw"
INSTRUMENT_HOST_ID = MEX
INSTRUMENT_HOST_NAME = "MARS EXPRESS"
INSTRUMENT_ID = HRSC
INSTRUMENT_NAME = "HIGH RESOLUTION STEREO CAMERA"
MISSION_NAME = "MARS EXPRESS"
MISSION_PHASE_NAME = ME_Phase_3
PROCESSING_LEVEL_ID = 4
PRODUCT_CREATION_TIME = 2023-02-09T17:15:12.000Z
PRODUCT_ID = "H3304_0000_ND4.TIF"
RELEASE_ID = 0004
REVISION_ID = 0000
/* QUALITY DATA ELEMENTS */
DATA_QUALITY_ID = 1
DATA_QUALITY_DESC = "Data calculated based on original SPICE kernels"
/* TIME DATA ELEMENTS */
SPACECRAFT_CLOCK_START_COUNT = "1/0102887158.09053"
SPACECRAFT_CLOCK_STOP_COUNT = "1/0102887469.23287"
START_TIME = 2006-08-05T19:46:35.515Z
STOP_TIME = 2006-08-05T19:50:41.513Z
/* ORBITAL DATA ELEMENTS */
ASCENDING_NODE_LONGITUDE = 158.91
MAXIMUM_RESOLUTION = 0.0132
FOOTPRINT_POINT_LATITUDE = (51.6455,51.6104,51.581,51.5802,51.579, 51.2529,50.9264,50.5998,50.2729,49.9458 ,49.6185,49.291,48.9634,48.6362,48.0012 ,47.3656,47.0476,46.7294,46.252,45.9336 ,45.6151,45.2965,44.9779,44.6592, 44.3404,43.8621,43.5432,43.2242,42.9052 ,42.5862,42.1077,41.7887,41.4697, 40.9912,40.6722,40.3533,40.0344,39.7156 ,39.3968,39.0781,38.7594,38.4408, 38.1224,37.804,37.0085,36.3726,35.7373, 35.5786,35.5756,35.5883,35.6008,35.601, 35.6013,36.2376,36.556,36.8745,37.1932, 37.5119,37.9902,38.3092,38.6284,38.9476 ,39.267,39.5864,39.906,40.2255,40.5451, 41.0244,41.3442,41.664,41.9837,42.4633, 42.9431,43.2628,43.5825,44.0622,44.5416 ,44.8614,45.1809,45.5004,45.8199, 46.1393,46.4586,46.7778,47.0969,47.416, 47.7349,48.0537,48.3724,48.691,49.1836, 49.5124,49.8411,50.1695,50.4978,50.8259 ,51.1538,51.4815,51.6452,51.6455)
FOOTPRINT_POINT_LONGITUDE = (17.0807,15.9654,15.2211,15.2025, 15.1425,15.1826,15.2215,15.2596,15.2962 ,15.3321,15.3674,15.4017,15.4355, 15.4678,15.5288,15.5868,15.6146,15.642, 15.6822,15.707,15.7322,15.7572,15.78, 15.8051,15.8278,15.8609,15.8811,15.9028 ,15.9227,15.9423,15.9682,15.9861, 16.0041,16.0318,16.0488,16.064,16.0772, 16.0955,16.1095,16.1227,16.1377,16.151, 16.164,16.1763,16.2053,16.2264,16.2469, 16.2517,16.2518,16.8562,17.6891,17.7034 ,17.7104,17.6956,17.6894,17.6821, 17.6743,17.6659,17.6528,17.6432,17.6351 ,17.6269,17.6186,17.6103,17.6022, 17.5933,17.5838,17.567,17.5589,17.5501, 17.5399,17.5234,17.5087,17.4969,17.4855 ,17.4693,17.4502,17.4401,17.4278, 17.4147,17.403,17.3896,17.377,17.3635, 17.3496,17.3358,17.3217,17.3072,17.2925 ,17.278,17.2542,17.2379,17.2211,17.2038 ,17.1866,17.1689,17.1512,17.1329, 17.1235,17.0807)
ORBIT_NUMBER = 3304
ORBITAL_ECCENTRICITY = 0.567
ORBITAL_INCLINATION = 86.67
ORBITAL_SEMIMAJOR_AXIS = 8583.13
PERIAPSIS_ALTITUDE = 328.87
PERIAPSIS_ARGUMENT_ANGLE = 137.12
PERIAPSIS_TIME = 2006-08-05T19:48:51.000Z
SPACECRAFT_ORIENTATION = (0.0,-1.0,0.0)
^MEX_ORIENTATION_DESC = "MEX_ORIENTATION_DESC.TXT"
SPACECRAFT_POINTING_MODE = ACROSSTRACK
^MEX_POINTING_DESC = "MEX_POINTING_DESC.TXT"
RIGHT_ASCENSION = -1e+32
DECLINATION = -1e+32
OFFSET_ANGLE = -0.05
SPACECRAFT_SOLAR_DISTANCE = 2.48003e+08
TARGET_NAME = MARS
/* CAMERA DATA ELEMENTS */
DETECTOR_TEMPERATURE = 18.1666
FOCAL_PLANE_TEMPERATURE = 8.3794
INST_CMPRS_NAME = "DISCRETE COSINE TRANSFORMATION (DCT)"
INST_CMPRS_RATIO = 7.31799
INST_CMPRS_QUALITY = 0
INST_CMPRS_QUANTZ_TBL_ID = 0
INSTRUMENT_TEMPERATURE = 11.234
LENS_TEMPERATURE = 8.7872
MACROPIXEL_SIZE = 1
MISSING_FRAMES = 0
PIXEL_SUBSAMPLING_FLAG = N
SIGNAL_CHAIN_ID = 0
/* RADIOMETRIC DATA ELEMENTS */
BANDWIDTH = 177.0
CENTER_FILTER_WAVELENGTH = 677.5
RADIANCE_OFFSET = 2.31069
RADIANCE_SCALING_FACTOR = 0.0310289
REFLECTANCE_SCALING_FACTOR = 0.00101383
MEX:REFLECTANCE_OFFSET = 0.0754987
/* IMAGE OBJECT DEFINITIONS */
OBJECT = IMAGE
  INTERCHANGE_FORMAT = BINARY
  LINES = 76213
  LINE_SAMPLES = 8209
  SAMPLE_TYPE = UNSIGNED_INTEGER
  SAMPLE_BITS = 8
  BANDS = 1
  BAND_STORAGE_TYPE = BAND_SEQUENTIAL
  MAXIMUM = 255
  MEAN = 171.225
  MINIMUM = 1
  STANDARD_DEVIATION = 21.02
END_OBJECT = IMAGE
/* MAP OBJECT DEFINITIONS */
OBJECT = IMAGE_MAP_PROJECTION
  ^DATA_SET_MAP_PROJECTION_CATALOG= "DSMAP.CAT"
  A_AXIS_RADIUS = 3396.0
  B_AXIS_RADIUS = 3396.0
  C_AXIS_RADIUS = 3396.0
  CENTER_LATITUDE = 0.0
  CENTER_LONGITUDE = 17.0
  COORDINATE_SYSTEM_NAME = PLANETOGRAPHIC
  COORDINATE_SYSTEM_TYPE = "BODY-FIXED ROTATING"
  EASTERNMOST_LONGITUDE = 17.7104
  FIRST_STANDARD_PARALLEL = "N/A"
  LINE_FIRST_PIXEL = 1
  LINE_LAST_PIXEL = 76213
  LINE_PROJECTION_OFFSET = 244903.0
  MAP_PROJECTION_ROTATION = 0.0
  MAP_PROJECTION_TYPE = SINUSOIDAL
  MAP_RESOLUTION = 4741.71043093333
  MAP_SCALE = 0.0125
  MAXIMUM_LATITUDE = 51.6455
  MINIMUM_LATITUDE = 35.5756
  POSITIVE_LONGITUDE_DIRECTION = EAST
  REFERENCE_LATITUDE = "N/A"
  REFERENCE_LONGITUDE = "N/A"
  SAMPLE_FIRST_PIXEL = 1
  SAMPLE_LAST_PIXEL = 8209
  SAMPLE_PROJECTION_OFFSET = 5468.0
  SECOND_STANDARD_PARALLEL = "N/A"
  WESTERNMOST_LONGITUDE = 15.1425
END_OBJECT = IMAGE_MAP_PROJECTION
END
