PDS_VERSION_ID = PDS3
/* FILE DATA ELEMENTS */
RECORD_TYPE = UNDEFINED
/* POINTERS TO DATA OBJECTS */
^IMAGE = ("H3304_0000_S24.TIF")
/* IDENTIFICATION DATA ELEMENTS */
DATA_SET_ID = "MEX-M-HRSC-4-REFDR-MAPPROJECT-EXT1-V4.0"
DATA_SET_NAME = "MARS EXPRESS HRSC MAP PROJECTED REFDR EXTENSION1 V4.0"
DETECTOR_ID = MEX_HRSC_S2
EVENT_TYPE = "MARS-REGIONAL-MAPPING-Te-Pf-Mw"
INSTRUMENT_HOST_ID = MEX
INSTRUMENT_HOST_NAME = "MARS EXPRESS"
INSTRUMENT_ID = HRSC
INSTRUMENT_NAME = "HIGH RESOLUTION STEREO CAMERA"
MISSION_NAME = "MARS EXPRESS"
MISSION_PHASE_NAME = ME_Phase_3
PROCESSING_LEVEL_ID = 4
PRODUCT_CREATION_TIME = 2023-02-09T17:15:12.000Z
PRODUCT_ID = "H3304_0000_S24.TIF"
RELEASE_ID = 0004
REVISION_ID = 0000
/* QUALITY DATA ELEMENTS */
DATA_QUALITY_ID = 1
DATA_QUALITY_DESC = "Data calculated based on original SPICE kernels"
/* TIME DATA ELEMENTS */
SPACECRAFT_CLOCK_START_COUNT = "1/0102887158.09053"
SPACECRAFT_CLOCK_STOP_COUNT = "1/0102887469.23287"
START_TIME = 2006-08-05T19:47:06.412Z
STOP_TIME = 2006-08-05T19:51:12.512Z
/* ORBITAL DATA ELEMENTS */
ASCENDING_NODE_LONGITUDE = 158.91
MAXIMUM_RESOLUTION = 0.0283
FOOTPRINT_POINT_LATITUDE = (51.5592,51.5213,51.5034,51.5027,51.6, 51.2661,50.9325,50.6011,50.2792,49.9572 ,49.6348,49.3127,48.9901,48.6689, 48.1857,47.7035,47.3821,46.9005,46.5792 ,46.2574,45.9378,45.6173,45.296,44.9781 ,44.6539,44.3339,44.0139,43.5361, 43.2157,42.8971,42.5793,42.1079,41.7903 ,41.3119,40.9922,40.6744,40.2061, 39.8891,39.5701,39.0997,38.7839,38.1555 ,37.5381,37.2193,36.7378,36.4164, 36.0947,35.7747,35.6147,35.5922,35.598, 35.6053,35.6091,35.6091,35.6096,35.9305 ,36.2542,36.7395,37.224,38.0026,38.6286 ,38.9444,39.2604,39.578,39.8968,40.2139 ,40.5298,40.998,41.3178,41.641,41.9585, 42.2771,42.5918,42.9152,43.2316,43.5508 ,44.0315,44.353,44.8332,45.1538,45.4739 ,45.7965,46.1169,46.4392,46.7606, 47.0818,47.5653,47.8877,48.2102,48.5337 ,49.0184,49.3416,49.6644,49.987,50.3096 ,50.6342,51.1336,51.4685,51.6359, 51.5592)
FOOTPRINT_POINT_LONGITUDE = (17.0778,15.7639,15.2408,15.2227, 15.1545,15.1947,15.2336,15.2713,15.3065 ,15.3411,15.375,15.408,15.4405,15.4714, 15.5173,15.561,15.5894,15.6303,15.657, 15.6833,15.7079,15.7324,15.7568,15.7788 ,15.8037,15.8259,15.8475,15.8781, 15.8988,15.9182,15.9368,15.9614,15.9789 ,16.0056,16.0232,16.0396,16.0596, 16.0749,16.0907,16.1103,16.1239,16.149, 16.1682,16.182,16.1983,16.2084,16.2184, 16.2276,16.2321,16.2327,16.6833,17.278, 17.7126,17.727,17.7323,17.7242,17.7168, 17.705,17.6929,17.6703,17.652,17.6433, 17.6345,17.6258,17.6173,17.608,17.598, 17.5806,17.5712,17.5626,17.5518,17.5411 ,17.5288,17.5191,17.5068,17.4951, 17.4776,17.4659,17.4471,17.4343,17.421, 17.4082,17.3944,17.3808,17.3666,17.352, 17.3301,17.315,17.2996,17.2841,17.2601, 17.2436,17.2267,17.2092,17.1913,17.1737 ,17.1455,17.126,17.116,17.0778)
ORBIT_NUMBER = 3304
ORBITAL_ECCENTRICITY = 0.567
ORBITAL_INCLINATION = 86.67
ORBITAL_SEMIMAJOR_AXIS = 8583.13
PERIAPSIS_ALTITUDE = 328.87
PERIAPSIS_ARGUMENT_ANGLE = 137.12
PERIAPSIS_TIME = 2006-08-05T19:48:51.000Z
SPACECRAFT_ORIENTATION = (0.0,-1.0,0.0)
^MEX_ORIENTATION_DESC = "MEX_ORIENTATION_DESC.TXT"
SPACECRAFT_POINTING_MODE = ACROSSTRACK
^MEX_POINTING_DESC = "MEX_POINTING_DESC.TXT"
RIGHT_ASCENSION = -1e+32
DECLINATION = -1e+32
OFFSET_ANGLE = -0.05
SPACECRAFT_SOLAR_DISTANCE = 2.48003e+08
TARGET_NAME = MARS
/* CAMERA DATA ELEMENTS */
DETECTOR_TEMPERATURE = 18.5744
FOCAL_PLANE_TEMPERATURE = 8.3794
INST_CMPRS_NAME = "DISCRETE COSINE TRANSFORMATION (DCT)"
INST_CMPRS_RATIO = 8.86123
INST_CMPRS_QUALITY = 0
INST_CMPRS_QUANTZ_TBL_ID = 0
INSTRUMENT_TEMPERATURE = 11.234
LENS_TEMPERATURE = 8.7872
MACROPIXEL_SIZE = 2
MISSING_FRAMES = 0
PIXEL_SUBSAMPLING_FLAG = N
SIGNAL_CHAIN_ID = 1
/* RADIOMETRIC DATA ELEMENTS */
BANDWIDTH = 178.0
CENTER_FILTER_WAVELENGTH = 679.0
RADIANCE_OFFSET = 2.88696
RADIANCE_SCALING_FACTOR = 0.0312687
REFLECTANCE_SCALING_FACTOR = 0.00101848
MEX:REFLECTANCE_OFFSET = 0.0940338
/* IMAGE OBJECT DEFINITIONS */
OBJECT = IMAGE
  INTERCHANGE_FORMAT = BINARY
  LINES = 38107
  LINE_SAMPLES = 4105
  SAMPLE_TYPE = UNSIGNED_INTEGER
  SAMPLE_BITS = 8
  BANDS = 1
  BAND_STORAGE_TYPE = BAND_SEQUENTIAL
  MAXIMUM = 255
  MEAN = 180.399
  MINIMUM = 1
  STANDARD_DEVIATION = 18.7692
END_OBJECT = IMAGE
/* MAP OBJECT DEFINITIONS */
OBJECT = IMAGE_MAP_PROJECTION
  ^DATA_SET_MAP_PROJECTION_CATALOG= "DSMAP.CAT"
  A_AXIS_RADIUS = 3396.0
  B_AXIS_RADIUS = 3396.0
  C_AXIS_RADIUS = 3396.0
  CENTER_LATITUDE = 0.0
  CENTER_LONGITUDE = 17.0
  COORDINATE_SYSTEM_NAME = PLANETOGRAPHIC
  COORDINATE_SYSTEM_TYPE = "BODY-FIXED ROTATING"
  EASTERNMOST_LONGITUDE = 17.7323
  FIRST_STANDARD_PARALLEL = "N/A"
  LINE_FIRST_PIXEL = 1
  LINE_LAST_PIXEL = 38107
  LINE_PROJECTION_OFFSET = 122451.25
  MAP_PROJECTION_ROTATION = 0.0
  MAP_PROJECTION_TYPE = SINUSOIDAL
  MAP_RESOLUTION = 2370.85521546667
  MAP_SCALE = 0.025
  MAXIMUM_LATITUDE = 51.6359
  MINIMUM_LATITUDE = 35.5922
  POSITIVE_LONGITUDE_DIRECTION = EAST
  REFERENCE_LATITUDE = "N/A"
  REFERENCE_LONGITUDE = "N/A"
  SAMPLE_FIRST_PIXEL = 1
  SAMPLE_LAST_PIXEL = 4105
  SAMPLE_PROJECTION_OFFSET = 2733.75
  SECOND_STANDARD_PARALLEL = "N/A"
  WESTERNMOST_LONGITUDE = 15.1545
END_OBJECT = IMAGE_MAP_PROJECTION
END
