PDS_VERSION_ID = PDS3
/* FILE DATA ELEMENTS */
RECORD_TYPE = UNDEFINED
/* POINTERS TO DATA OBJECTS */
^IMAGE = ("H3308_0000_P24.TIF")
/* IDENTIFICATION DATA ELEMENTS */
DATA_SET_ID = "MEX-M-HRSC-4-REFDR-MAPPROJECT-EXT1-V4.0"
DATA_SET_NAME = "MARS EXPRESS HRSC MAP PROJECTED REFDR EXTENSION1 V4.0"
DETECTOR_ID = MEX_HRSC_P2
EVENT_TYPE = "MARS-REGIONAL-MAPPING-Fl-La-Ts"
INSTRUMENT_HOST_ID = MEX
INSTRUMENT_HOST_NAME = "MARS EXPRESS"
INSTRUMENT_ID = HRSC
INSTRUMENT_NAME = "HIGH RESOLUTION STEREO CAMERA"
MISSION_NAME = "MARS EXPRESS"
MISSION_PHASE_NAME = ME_Phase_3
PROCESSING_LEVEL_ID = 4
PRODUCT_CREATION_TIME = 2023-02-09T17:15:12.000Z
PRODUCT_ID = "H3308_0000_P24.TIF"
RELEASE_ID = 0004
REVISION_ID = 0000
/* QUALITY DATA ELEMENTS */
DATA_QUALITY_ID = 1
DATA_QUALITY_DESC = "Data calculated based on original SPICE kernels"
/* TIME DATA ELEMENTS */
SPACECRAFT_CLOCK_START_COUNT = "1/0102984325.07302"
SPACECRAFT_CLOCK_STOP_COUNT = "1/0102984623.32138"
START_TIME = 2006-08-06T22:46:27.356Z
STOP_TIME = 2006-08-06T22:50:06.768Z
/* ORBITAL DATA ELEMENTS */
ASCENDING_NODE_LONGITUDE = 158.83
MAXIMUM_RESOLUTION = 0.0323
FOOTPRINT_POINT_LATITUDE = (27.3707,27.364,27.3586,27.3539,27.3537 ,27.385,27.1451,26.666,26.4253,25.947, 25.5903,24.9965,24.6371,24.3945,24.1523 ,23.672,23.4253,23.176,22.9295,22.6839, 22.4362,22.0596,21.807,21.5584,21.2999, 20.9159,20.6661,20.3994,20.1409,19.883, 19.6206,19.2246,18.9606,18.6927,18.4239 ,18.1609,17.8897,17.4747,17.0611, 16.7843,16.3727,16.0929,15.8063,15.5192 ,15.2353,14.8029,14.6583,14.5152, 14.5133,14.5119,14.5103,14.5094,14.5104 ,14.5103,14.5109,14.7962,15.0853, 15.5175,15.8077,16.0904,16.3721,16.6522 ,16.9274,17.2008,17.4759,17.7475, 18.0219,18.2951,18.5658,18.8348,19.0954 ,19.3612,19.6261,19.8902,20.1504, 20.4108,20.6721,20.9278,21.1846,21.4396 ,21.693,21.9441,22.1944,22.4456,22.8182 ,23.064,23.3104,23.5584,23.8023,24.1655 ,24.4079,24.6515,25.0107,25.605,26.0832 ,26.4423,26.9215,27.1666,27.2861, 27.3707)
FOOTPRINT_POINT_LONGITUDE = (344.973,344.294,343.824,343.472, 343.457,343.44,343.44,343.439,343.44, 343.439,343.437,343.434,343.432,343.431 ,343.429,343.424,343.422,343.42,343.418 ,343.415,343.412,343.407,343.405,343.4, 343.398,343.392,343.387,343.385,343.38, 343.375,343.371,343.363,343.358,343.353 ,343.348,343.34,343.334,343.328,343.318 ,343.312,343.299,343.292,343.287,343.28 ,343.272,343.26,343.255,343.251,343.788 ,344.066,344.4,344.772,345.146,345.165, 345.171,345.165,345.16,345.156,345.154, 345.151,345.147,345.143,345.138,345.132 ,345.128,345.124,345.121,345.119, 345.117,345.113,345.106,345.104,345.1, 345.097,345.094,345.09,345.087,345.084, 345.081,345.077,345.073,345.07,345.066, 345.062,345.057,345.053,345.049,345.046 ,345.043,345.038,345.034,345.031, 345.027,345.018,345.012,345.007,345.0, 345.0,344.997,344.973)
ORBIT_NUMBER = 3308
ORBITAL_ECCENTRICITY = 0.567
ORBITAL_INCLINATION = 86.68
ORBITAL_SEMIMAJOR_AXIS = 8578.18
PERIAPSIS_ALTITUDE = 329.11
PERIAPSIS_ARGUMENT_ANGLE = 136.4
PERIAPSIS_TIME = 2006-08-06T22:41:54.000Z
SPACECRAFT_ORIENTATION = (0.0,-1.0,0.0)
^MEX_ORIENTATION_DESC = "MEX_ORIENTATION_DESC.TXT"
SPACECRAFT_POINTING_MODE = ACROSSTRACK
^MEX_POINTING_DESC = "MEX_POINTING_DESC.TXT"
RIGHT_ASCENSION = -1e+32
DECLINATION = -1e+32
OFFSET_ANGLE = 0.18
SPACECRAFT_SOLAR_DISTANCE = 2.47934e+08
TARGET_NAME = MARS
/* CAMERA DATA ELEMENTS */
DETECTOR_TEMPERATURE = 18.3705
FOCAL_PLANE_TEMPERATURE = 7.9716
INST_CMPRS_NAME = "DISCRETE COSINE TRANSFORMATION (DCT)"
INST_CMPRS_RATIO = 7.9582
INST_CMPRS_QUALITY = 0
INST_CMPRS_QUANTZ_TBL_ID = 0
INSTRUMENT_TEMPERATURE = 11.234
LENS_TEMPERATURE = 7.9716
MACROPIXEL_SIZE = 2
MISSING_FRAMES = 0
PIXEL_SUBSAMPLING_FLAG = N
SIGNAL_CHAIN_ID = 3
/* RADIOMETRIC DATA ELEMENTS */
BANDWIDTH = 177.0
CENTER_FILTER_WAVELENGTH = 676.5
RADIANCE_OFFSET = 3.51999
RADIANCE_SCALING_FACTOR = 0.0270768
REFLECTANCE_SCALING_FACTOR = 0.000882528
MEX:REFLECTANCE_OFFSET = 0.114729
/* IMAGE OBJECT DEFINITIONS */
OBJECT = IMAGE
  INTERCHANGE_FORMAT = BINARY
  LINES = 30584
  LINE_SAMPLES = 4169
  SAMPLE_TYPE = UNSIGNED_INTEGER
  SAMPLE_BITS = 8
  BANDS = 1
  BAND_STORAGE_TYPE = BAND_SEQUENTIAL
  MAXIMUM = 255
  MEAN = 170.262
  MINIMUM = 1
  STANDARD_DEVIATION = 28.4112
END_OBJECT = IMAGE
/* MAP OBJECT DEFINITIONS */
OBJECT = IMAGE_MAP_PROJECTION
  ^DATA_SET_MAP_PROJECTION_CATALOG= "DSMAP.CAT"
  A_AXIS_RADIUS = 3396.0
  B_AXIS_RADIUS = 3396.0
  C_AXIS_RADIUS = 3396.0
  CENTER_LATITUDE = 0.0
  CENTER_LONGITUDE = 344.0
  COORDINATE_SYSTEM_NAME = PLANETOGRAPHIC
  COORDINATE_SYSTEM_TYPE = "BODY-FIXED ROTATING"
  EASTERNMOST_LONGITUDE = 345.171
  FIRST_STANDARD_PARALLEL = "N/A"
  LINE_FIRST_PIXEL = 1
  LINE_LAST_PIXEL = 30584
  LINE_PROJECTION_OFFSET = 64949.25
  MAP_PROJECTION_ROTATION = 0.0
  MAP_PROJECTION_TYPE = SINUSOIDAL
  MAP_RESOLUTION = 2370.85521546667
  MAP_SCALE = 0.025
  MAXIMUM_LATITUDE = 27.385
  MINIMUM_LATITUDE = 14.5094
  POSITIVE_LONGITUDE_DIRECTION = EAST
  REFERENCE_LATITUDE = "N/A"
  REFERENCE_LONGITUDE = "N/A"
  SAMPLE_FIRST_PIXEL = 1
  SAMPLE_LAST_PIXEL = 4169
  SAMPLE_PROJECTION_OFFSET = 1600.75
  SECOND_STANDARD_PARALLEL = "N/A"
  WESTERNMOST_LONGITUDE = 343.251
END_OBJECT = IMAGE_MAP_PROJECTION
END
