PDS_VERSION_ID = PDS3
/* FILE DATA ELEMENTS */
RECORD_TYPE = UNDEFINED
/* POINTERS TO DATA OBJECTS */
^IMAGE = ("H3322_0000_IR4.TIF")
/* IDENTIFICATION DATA ELEMENTS */
DATA_SET_ID = "MEX-M-HRSC-4-REFDR-MAPPROJECT-EXT1-V4.0"
DATA_SET_NAME = "MARS EXPRESS HRSC MAP PROJECTED REFDR EXTENSION1 V4.0"
DETECTOR_ID = MEX_HRSC_IR
EVENT_TYPE = "MARS-REGIONAL-MAPPING-Te-Pf-Mw"
INSTRUMENT_HOST_ID = MEX
INSTRUMENT_HOST_NAME = "MARS EXPRESS"
INSTRUMENT_ID = HRSC
INSTRUMENT_NAME = "HIGH RESOLUTION STEREO CAMERA"
MISSION_NAME = "MARS EXPRESS"
MISSION_PHASE_NAME = ME_Phase_3
PROCESSING_LEVEL_ID = 4
PRODUCT_CREATION_TIME = 2023-02-09T17:15:12.000Z
PRODUCT_ID = "H3322_0000_IR4.TIF"
RELEASE_ID = 0004
REVISION_ID = 0000
/* QUALITY DATA ELEMENTS */
DATA_QUALITY_ID = 1
DATA_QUALITY_DESC = "Data calculated based on original SPICE kernels"
/* TIME DATA ELEMENTS */
SPACECRAFT_CLOCK_START_COUNT = "1/0103322804.08252"
SPACECRAFT_CLOCK_STOP_COUNT = "1/0103323013.31189"
START_TIME = 2006-08-10T20:46:54.465Z
STOP_TIME = 2006-08-10T20:49:20.266Z
/* ORBITAL DATA ELEMENTS */
ASCENDING_NODE_LONGITUDE = 158.53
MAXIMUM_RESOLUTION = 0.1099
FOOTPRINT_POINT_LATITUDE = (47.615,47.5938,47.5697,47.5345,47.5336 ,47.4621,47.2767,46.9091,46.7235, 46.4489,46.1669,45.9799,45.7944,45.427, 45.2392,45.053,44.7741,44.5879,44.2252, 44.0381,43.8519,43.667,43.4739,43.2871, 43.0991,42.9126,42.6313,42.4438,42.2584 ,42.0707,41.79,41.6,41.4128,41.1319, 40.8498,40.571,40.2001,40.0028,39.8133, 39.6279,39.2644,39.0756,38.8862,38.7004 ,38.4182,38.1359,38.0417,37.9777, 37.9905,38.0046,38.0153,38.0251,38.036, 38.0364,38.0384,38.2267,38.4153,38.6036 ,38.8856,39.0735,39.2619,39.4494, 39.6361,39.8261,40.1105,40.479,40.6668, 40.8565,41.0407,41.2278,41.5169,41.796, 41.9841,42.1774,42.3659,42.7345,42.9209 ,43.1068,43.2947,43.4818,43.6696, 43.8564,44.0439,44.2339,44.5111,44.8796 ,45.0666,45.254,45.4427,45.7228,45.911, 46.0949,46.2793,46.5575,46.7434,46.9294 ,47.1158,47.3939,47.4867,47.615)
FOOTPRINT_POINT_LONGITUDE = (47.4663,46.9726,46.4746,45.8306, 45.8148,45.7546,45.7721,45.8089,45.8257 ,45.8535,45.8753,45.8904,45.9065, 45.9408,45.9547,45.9696,45.9921,46.0066 ,46.0423,46.0557,46.0697,46.0844,46.093 ,46.1061,46.1182,46.1311,46.1492, 46.1611,46.1744,46.1859,46.2035,46.213, 46.2243,46.241,46.2566,46.2741,46.2976, 46.3009,46.3095,46.3208,46.348,46.3566, 46.3646,46.3749,46.3877,46.4001,46.4041 ,46.4068,46.6721,47.0075,47.2993, 47.5761,47.8649,47.8787,47.8878,47.8816 ,47.8754,47.8691,47.8597,47.8533, 47.8468,47.8404,47.8341,47.827,47.8163, 47.8042,47.7973,47.7898,47.7835,47.7764 ,47.7638,47.7533,47.7457,47.7368, 47.7289,47.7148,47.7071,47.6995,47.6913 ,47.6832,47.6748,47.6666,47.6581, 47.6489,47.6368,47.6205,47.6116,47.6024 ,47.5928,47.5789,47.5692,47.5604, 47.5513,47.5372,47.5275,47.5176,47.5075 ,47.4925,47.4874,47.4663)
ORBIT_NUMBER = 3322
ORBITAL_ECCENTRICITY = 0.567
ORBITAL_INCLINATION = 86.67
ORBITAL_SEMIMAJOR_AXIS = 8580.44
PERIAPSIS_ALTITUDE = 330.35
PERIAPSIS_ARGUMENT_ANGLE = 133.94
PERIAPSIS_TIME = 2006-08-10T20:47:43.000Z
SPACECRAFT_ORIENTATION = (0.0,-1.0,0.0)
^MEX_ORIENTATION_DESC = "MEX_ORIENTATION_DESC.TXT"
SPACECRAFT_POINTING_MODE = ACROSSTRACK
^MEX_POINTING_DESC = "MEX_POINTING_DESC.TXT"
RIGHT_ASCENSION = -1e+32
DECLINATION = -1e+32
OFFSET_ANGLE = -0.35
SPACECRAFT_SOLAR_DISTANCE = 2.47682e+08
TARGET_NAME = MARS
/* CAMERA DATA ELEMENTS */
DETECTOR_TEMPERATURE = 17.351
FOCAL_PLANE_TEMPERATURE = 7.5638
INST_CMPRS_NAME = "DISCRETE COSINE TRANSFORMATION (DCT)"
INST_CMPRS_RATIO = 16.9231
INST_CMPRS_QUALITY = 0
INST_CMPRS_QUANTZ_TBL_ID = 0
INSTRUMENT_TEMPERATURE = 11.234
LENS_TEMPERATURE = 7.9716
MACROPIXEL_SIZE = 8
MISSING_FRAMES = 0
PIXEL_SUBSAMPLING_FLAG = N
SIGNAL_CHAIN_ID = 2
/* RADIOMETRIC DATA ELEMENTS */
BANDWIDTH = 81.0
CENTER_FILTER_WAVELENGTH = 955.5
RADIANCE_OFFSET = 0.874084
RADIANCE_SCALING_FACTOR = 0.00893301
REFLECTANCE_SCALING_FACTOR = 0.00118226
MEX:REFLECTANCE_OFFSET = 0.115683
/* IMAGE OBJECT DEFINITIONS */
OBJECT = IMAGE
  INTERCHANGE_FORMAT = BINARY
  LINES = 5664
  LINE_SAMPLES = 924
  SAMPLE_TYPE = UNSIGNED_INTEGER
  SAMPLE_BITS = 8
  BANDS = 1
  BAND_STORAGE_TYPE = BAND_SEQUENTIAL
  MAXIMUM = 255
  MEAN = 171.961
  MINIMUM = 1
  STANDARD_DEVIATION = 22.0957
END_OBJECT = IMAGE
/* MAP OBJECT DEFINITIONS */
OBJECT = IMAGE_MAP_PROJECTION
  ^DATA_SET_MAP_PROJECTION_CATALOG= "DSMAP.CAT"
  A_AXIS_RADIUS = 3396.0
  B_AXIS_RADIUS = 3396.0
  C_AXIS_RADIUS = 3396.0
  CENTER_LATITUDE = 0.0
  CENTER_LONGITUDE = 47.0
  COORDINATE_SYSTEM_NAME = PLANETOGRAPHIC
  COORDINATE_SYSTEM_TYPE = "BODY-FIXED ROTATING"
  EASTERNMOST_LONGITUDE = 47.8878
  FIRST_STANDARD_PARALLEL = "N/A"
  LINE_FIRST_PIXEL = 1
  LINE_LAST_PIXEL = 5664
  LINE_PROJECTION_OFFSET = 28185.1875
  MAP_PROJECTION_ROTATION = 0.0
  MAP_PROJECTION_TYPE = SINUSOIDAL
  MAP_RESOLUTION = 592.713803866667
  MAP_SCALE = 0.1
  MAXIMUM_LATITUDE = 47.615
  MINIMUM_LATITUDE = 37.9777
  POSITIVE_LONGITUDE_DIRECTION = EAST
  REFERENCE_LATITUDE = "N/A"
  REFERENCE_LONGITUDE = "N/A"
  SAMPLE_FIRST_PIXEL = 1
  SAMPLE_LAST_PIXEL = 924
  SAMPLE_PROJECTION_OFFSET = 504.0625
  SECOND_STANDARD_PARALLEL = "N/A"
  WESTERNMOST_LONGITUDE = 45.7546
END_OBJECT = IMAGE_MAP_PROJECTION
END
