PDS_VERSION_ID = PDS3
/* FILE DATA ELEMENTS */
RECORD_TYPE = UNDEFINED
/* POINTERS TO DATA OBJECTS */
^IMAGE = ("H3504_0000_P24.TIF")
/* IDENTIFICATION DATA ELEMENTS */
DATA_SET_ID = "MEX-M-HRSC-4-REFDR-MAPPROJECT-EXT1-V4.0"
DATA_SET_NAME = "MARS EXPRESS HRSC MAP PROJECTED REFDR EXTENSION1 V4.0"
DETECTOR_ID = MEX_HRSC_P2
EVENT_TYPE = "MARS-LOCAL-MAPPING-Ot"
INSTRUMENT_HOST_ID = MEX
INSTRUMENT_HOST_NAME = "MARS EXPRESS"
INSTRUMENT_ID = HRSC
INSTRUMENT_NAME = "HIGH RESOLUTION STEREO CAMERA"
MISSION_NAME = "MARS EXPRESS"
MISSION_PHASE_NAME = ME_Phase_4
PROCESSING_LEVEL_ID = 4
PRODUCT_CREATION_TIME = 2023-02-09T17:15:12.000Z
PRODUCT_ID = "H3504_0000_P24.TIF"
RELEASE_ID = 0004
REVISION_ID = 0000
/* QUALITY DATA ELEMENTS */
DATA_QUALITY_ID = 1
DATA_QUALITY_DESC = "Data calculated based on original SPICE kernels"
/* TIME DATA ELEMENTS */
SPACECRAFT_CLOCK_START_COUNT = "1/0107728230.09058"
SPACECRAFT_CLOCK_STOP_COUNT = "1/0107728553.29443"
START_TIME = 2006-09-30T20:31:53.934Z
STOP_TIME = 2006-09-30T20:35:38.228Z
/* ORBITAL DATA ELEMENTS */
ASCENDING_NODE_LONGITUDE = 154.76
MAXIMUM_RESOLUTION = 0.0395
FOOTPRINT_POINT_LATITUDE = (71.6749,71.5874,71.4868,71.3702, 71.2347,70.9864,70.8097,70.796,70.6414, 70.2715,69.6461,69.1397,68.6268,68.0989 ,67.565,66.8922,66.3488,65.8018,65.5223 ,65.2413,64.959,64.6764,64.393,63.9667, 63.6779,63.3866,63.0945,62.6556,62.3612 ,62.0618,61.7617,61.4612,61.1602, 60.8547,60.547,60.0847,59.6159,59.3006, 58.985,58.6658,58.3439,58.0214,57.6957, 57.3667,57.0372,56.7038,56.3681,56.2, 56.1217,56.2223,56.2721,56.358,56.4246, 56.4869,56.5349,56.5746,56.5768,56.5785 ,57.0878,57.4262,57.7595,58.0927, 58.4243,58.7515,59.2421,59.5647,59.8856 ,60.2062,60.525,60.8396,61.1539,61.6247 ,61.933,62.241,62.5487,63.0094,63.3109, 63.6122,63.9132,64.214,64.5142,64.8087, 65.103,65.3969,65.6905,65.9837,66.2766, 66.5673,67.1401,67.8535,68.2801,68.7056 ,69.2708,69.8261,70.2382,70.6487, 71.0574,71.4641,71.5993,71.6749)
FOOTPRINT_POINT_LONGITUDE = (129.544,128.463,127.309,126.068, 124.733,122.519,121.089,120.983,119.239 ,120.0,121.189,122.086,122.92,123.716, 124.457,125.329,125.973,126.576,126.874 ,127.156,127.425,127.689,127.945, 128.315,128.558,128.789,129.011,129.334 ,129.54,129.744,129.938,130.127,130.31, 130.489,130.661,130.91,131.147,131.297, 131.443,131.585,131.723,131.855,131.983 ,132.106,132.223,132.336,132.448, 132.501,132.526,133.57,134.128,135.172, 136.074,137.017,137.838,138.603,138.65, 138.666,138.537,138.448,138.353,138.257 ,138.158,138.055,137.898,137.785, 137.671,137.552,137.429,137.303,137.174 ,136.97,136.831,136.688,136.539,136.306 ,136.147,135.983,135.813,135.637, 135.456,135.269,135.078,134.88,134.677, 134.465,134.247,134.024,133.559,132.932 ,132.53,132.107,131.509,130.878,130.376 ,129.85,129.295,128.711,128.51,129.544)
ORBIT_NUMBER = 3504
ORBITAL_ECCENTRICITY = 0.564
ORBITAL_INCLINATION = 86.67
ORBITAL_SEMIMAJOR_AXIS = 8539.08
PERIAPSIS_ALTITUDE = 347.2
PERIAPSIS_ARGUMENT_ANGLE = 101.66
PERIAPSIS_TIME = 2006-09-30T20:30:08.000Z
SPACECRAFT_ORIENTATION = (0.0,-1.0,0.0)
^MEX_ORIENTATION_DESC = "MEX_ORIENTATION_DESC.TXT"
SPACECRAFT_POINTING_MODE = INERT
^MEX_POINTING_DESC = "MEX_POINTING_DESC.TXT"
RIGHT_ASCENSION = 150.445
DECLINATION = -44.153
OFFSET_ANGLE = -1e+32
SPACECRAFT_SOLAR_DISTANCE = 2.42505e+08
TARGET_NAME = MARS
/* CAMERA DATA ELEMENTS */
DETECTOR_TEMPERATURE = 18.3705
FOCAL_PLANE_TEMPERATURE = 7.3599
INST_CMPRS_NAME = "DISCRETE COSINE TRANSFORMATION (DCT)"
INST_CMPRS_RATIO = 7.71312
INST_CMPRS_QUALITY = 0
INST_CMPRS_QUANTZ_TBL_ID = 0
INSTRUMENT_TEMPERATURE = 10.8262
LENS_TEMPERATURE = 7.7677
MACROPIXEL_SIZE = 2
MISSING_FRAMES = 0
PIXEL_SUBSAMPLING_FLAG = N
SIGNAL_CHAIN_ID = 3
/* RADIOMETRIC DATA ELEMENTS */
BANDWIDTH = 177.0
CENTER_FILTER_WAVELENGTH = 676.5
RADIANCE_OFFSET = 4.20038
RADIANCE_SCALING_FACTOR = 0.0150801
REFLECTANCE_SCALING_FACTOR = 0.000470223
MEX:REFLECTANCE_OFFSET = 0.130975
/* IMAGE OBJECT DEFINITIONS */
OBJECT = IMAGE
  INTERCHANGE_FORMAT = BINARY
  LINES = 39143
  LINE_SAMPLES = 17745
  SAMPLE_TYPE = UNSIGNED_INTEGER
  SAMPLE_BITS = 8
  BANDS = 1
  BAND_STORAGE_TYPE = BAND_SEQUENTIAL
  MAXIMUM = 255
  MEAN = 155.478
  MINIMUM = 1
  STANDARD_DEVIATION = 36.9614
END_OBJECT = IMAGE
/* MAP OBJECT DEFINITIONS */
OBJECT = IMAGE_MAP_PROJECTION
  ^DATA_SET_MAP_PROJECTION_CATALOG= "DSMAP.CAT"
  A_AXIS_RADIUS = 3396.0
  B_AXIS_RADIUS = 3396.0
  C_AXIS_RADIUS = 3396.0
  CENTER_LATITUDE = 0.0
  CENTER_LONGITUDE = 132.0
  COORDINATE_SYSTEM_NAME = PLANETOGRAPHIC
  COORDINATE_SYSTEM_TYPE = "BODY-FIXED ROTATING"
  EASTERNMOST_LONGITUDE = 138.666
  FIRST_STANDARD_PARALLEL = "N/A"
  LINE_FIRST_PIXEL = 1
  LINE_LAST_PIXEL = 39143
  LINE_PROJECTION_OFFSET = 171418.25
  MAP_PROJECTION_ROTATION = 0.0
  MAP_PROJECTION_TYPE = SINUSOIDAL
  MAP_RESOLUTION = 2370.85521546667
  MAP_SCALE = 0.025
  MAXIMUM_LATITUDE = 71.67489999999999
  MINIMUM_LATITUDE = 56.1217
  POSITIVE_LONGITUDE_DIRECTION = EAST
  REFERENCE_LATITUDE = "N/A"
  REFERENCE_LONGITUDE = "N/A"
  SAMPLE_FIRST_PIXEL = 1
  SAMPLE_LAST_PIXEL = 17745
  SAMPLE_PROJECTION_OFFSET = 9473.75
  SECOND_STANDARD_PARALLEL = "N/A"
  WESTERNMOST_LONGITUDE = 119.239
END_OBJECT = IMAGE_MAP_PROJECTION
END
