PDS_VERSION_ID = PDS3
/* FILE DATA ELEMENTS */
RECORD_TYPE = UNDEFINED
/* POINTERS TO DATA OBJECTS */
^IMAGE = ("H3504_0000_RE4.TIF")
/* IDENTIFICATION DATA ELEMENTS */
DATA_SET_ID = "MEX-M-HRSC-4-REFDR-MAPPROJECT-EXT1-V4.0"
DATA_SET_NAME = "MARS EXPRESS HRSC MAP PROJECTED REFDR EXTENSION1 V4.0"
DETECTOR_ID = MEX_HRSC_RED
EVENT_TYPE = "MARS-LOCAL-MAPPING-Ot"
INSTRUMENT_HOST_ID = MEX
INSTRUMENT_HOST_NAME = "MARS EXPRESS"
INSTRUMENT_ID = HRSC
INSTRUMENT_NAME = "HIGH RESOLUTION STEREO CAMERA"
MISSION_NAME = "MARS EXPRESS"
MISSION_PHASE_NAME = ME_Phase_4
PROCESSING_LEVEL_ID = 4
PRODUCT_CREATION_TIME = 2023-02-09T17:15:12.000Z
PRODUCT_ID = "H3504_0000_RE4.TIF"
RELEASE_ID = 0004
REVISION_ID = 0000
/* QUALITY DATA ELEMENTS */
DATA_QUALITY_ID = 1
DATA_QUALITY_DESC = "Data calculated based on original SPICE kernels"
/* TIME DATA ELEMENTS */
SPACECRAFT_CLOCK_START_COUNT = "1/0107728230.09058"
SPACECRAFT_CLOCK_STOP_COUNT = "1/0107728553.29443"
START_TIME = 2006-09-30T20:32:03.939Z
STOP_TIME = 2006-09-30T20:35:47.247Z
/* ORBITAL DATA ELEMENTS */
ASCENDING_NODE_LONGITUDE = 154.76
MAXIMUM_RESOLUTION = 0.0805
FOOTPRINT_POINT_LATITUDE = (71.436,71.3669,71.2865,71.1926,71.0827 ,70.9532,70.7995,70.6883,70.6765, 70.5541,69.9462,69.4524,68.8211,68.3047 ,67.7836,67.1255,66.5946,66.1911,65.918 ,65.6438,65.0932,64.5397,64.2581, 63.9745,63.6904,63.4055,63.1199,62.8306 ,62.539,62.1,61.807,61.5103,61.211, 60.9111,60.6109,60.306,59.9996,59.5391, 59.227,58.9138,58.6003,58.2824,57.9626, 57.6427,57.3181,56.9918,56.4984,56.3322 ,56.1886,56.2541,56.2888,56.3473, 56.3937,56.4305,56.4669,56.4871,56.4882 ,56.4903,56.8272,57.1617,57.4929, 57.9877,58.313,58.6382,58.9613,59.2808, 59.6,60.0746,60.388,60.7013,61.0128, 61.3203,61.6276,61.9347,62.3897,62.6909 ,62.9919,63.2927,63.5909,63.8859, 64.1806,64.4751,64.7693,65.0616,65.3499 ,65.6379,65.9256,66.213,66.5001,66.7868 ,67.2109,67.7713,68.3301,68.8869, 69.4416,70.1269,70.6653,71.2007,71.3341 ,71.436)
FOOTPRINT_POINT_LONGITUDE = (129.788,128.735,127.61,126.401,125.101 ,123.697,122.17,121.144,121.038,119.236 ,120.485,121.415,122.508,123.329, 124.101,124.993,125.658,126.133,126.443 ,126.74,127.305,127.835,128.093,128.343 ,128.588,128.82,129.043,129.264,129.483 ,129.787,129.986,130.178,130.367, 130.547,130.722,130.895,131.061,131.298 ,131.45,131.598,131.742,131.881,132.014 ,132.146,132.272,132.391,132.566, 132.622,132.669,133.593,134.13,135.135, 136.063,136.922,137.958,138.688,138.732 ,138.746,138.66,138.571,138.481,138.336 ,138.237,138.135,138.029,137.925, 137.809,137.634,137.515,137.388,137.259 ,137.127,136.991,136.85,136.632,136.48, 136.326,136.164,136.0,135.831,135.659, 135.477,135.289,135.097,134.901,134.699 ,134.49,134.275,134.053,133.823,133.468 ,132.968,132.435,131.866,131.256,130.44 ,129.745,128.999,128.805,129.788)
ORBIT_NUMBER = 3504
ORBITAL_ECCENTRICITY = 0.564
ORBITAL_INCLINATION = 86.67
ORBITAL_SEMIMAJOR_AXIS = 8539.08
PERIAPSIS_ALTITUDE = 347.2
PERIAPSIS_ARGUMENT_ANGLE = 101.66
PERIAPSIS_TIME = 2006-09-30T20:30:08.000Z
SPACECRAFT_ORIENTATION = (0.0,-1.0,0.0)
^MEX_ORIENTATION_DESC = "MEX_ORIENTATION_DESC.TXT"
SPACECRAFT_POINTING_MODE = INERT
^MEX_POINTING_DESC = "MEX_POINTING_DESC.TXT"
RIGHT_ASCENSION = 150.445
DECLINATION = -44.153
OFFSET_ANGLE = -1e+32
SPACECRAFT_SOLAR_DISTANCE = 2.42505e+08
TARGET_NAME = MARS
/* CAMERA DATA ELEMENTS */
DETECTOR_TEMPERATURE = 18.3705
FOCAL_PLANE_TEMPERATURE = 7.3599
INST_CMPRS_NAME = "DISCRETE COSINE TRANSFORMATION (DCT)"
INST_CMPRS_RATIO = 25.7088
INST_CMPRS_QUALITY = 0
INST_CMPRS_QUANTZ_TBL_ID = 0
INSTRUMENT_TEMPERATURE = 10.8262
LENS_TEMPERATURE = 7.7677
MACROPIXEL_SIZE = 4
MISSING_FRAMES = 0
PIXEL_SUBSAMPLING_FLAG = N
SIGNAL_CHAIN_ID = 2
/* RADIOMETRIC DATA ELEMENTS */
BANDWIDTH = 48.0
CENTER_FILTER_WAVELENGTH = 748.0
RADIANCE_OFFSET = 1.14602
RADIANCE_SCALING_FACTOR = 0.00457169
REFLECTANCE_SCALING_FACTOR = 0.000613542
MEX:REFLECTANCE_OFFSET = 0.153802
/* IMAGE OBJECT DEFINITIONS */
OBJECT = IMAGE
  INTERCHANGE_FORMAT = BINARY
  LINES = 19572
  LINE_SAMPLES = 8873
  SAMPLE_TYPE = UNSIGNED_INTEGER
  SAMPLE_BITS = 8
  BANDS = 1
  BAND_STORAGE_TYPE = BAND_SEQUENTIAL
  MAXIMUM = 255
  MEAN = 158.618
  MINIMUM = 1
  STANDARD_DEVIATION = 38.4988
END_OBJECT = IMAGE
/* MAP OBJECT DEFINITIONS */
OBJECT = IMAGE_MAP_PROJECTION
  ^DATA_SET_MAP_PROJECTION_CATALOG= "DSMAP.CAT"
  A_AXIS_RADIUS = 3396.0
  B_AXIS_RADIUS = 3396.0
  C_AXIS_RADIUS = 3396.0
  CENTER_LATITUDE = 0.0
  CENTER_LONGITUDE = 132.0
  COORDINATE_SYSTEM_NAME = PLANETOGRAPHIC
  COORDINATE_SYSTEM_TYPE = "BODY-FIXED ROTATING"
  EASTERNMOST_LONGITUDE = 138.746
  FIRST_STANDARD_PARALLEL = "N/A"
  LINE_FIRST_PIXEL = 1
  LINE_LAST_PIXEL = 19572
  LINE_PROJECTION_OFFSET = 85708.875
  MAP_PROJECTION_ROTATION = 0.0
  MAP_PROJECTION_TYPE = SINUSOIDAL
  MAP_RESOLUTION = 1185.42760773333
  MAP_SCALE = 0.05
  MAXIMUM_LATITUDE = 71.43600000000001
  MINIMUM_LATITUDE = 56.1886
  POSITIVE_LONGITUDE_DIRECTION = EAST
  REFERENCE_LATITUDE = "N/A"
  REFERENCE_LONGITUDE = "N/A"
  SAMPLE_FIRST_PIXEL = 1
  SAMPLE_LAST_PIXEL = 8873
  SAMPLE_PROJECTION_OFFSET = 4736.625
  SECOND_STANDARD_PARALLEL = "N/A"
  WESTERNMOST_LONGITUDE = 119.236
END_OBJECT = IMAGE_MAP_PROJECTION
END
