PDS_VERSION_ID = PDS3
/* FILE DATA ELEMENTS */
RECORD_TYPE = UNDEFINED
/* POINTERS TO DATA OBJECTS */
^IMAGE = ("H3514_0000_S14.TIF")
/* IDENTIFICATION DATA ELEMENTS */
DATA_SET_ID = "MEX-M-HRSC-4-REFDR-MAPPROJECT-EXT1-V4.0"
DATA_SET_NAME = "MARS EXPRESS HRSC MAP PROJECTED REFDR EXTENSION1 V4.0"
DETECTOR_ID = MEX_HRSC_S1
EVENT_TYPE = "MARS-LOCAL-MAPPING-Eo-Ot"
INSTRUMENT_HOST_ID = MEX
INSTRUMENT_HOST_NAME = "MARS EXPRESS"
INSTRUMENT_ID = HRSC
INSTRUMENT_NAME = "HIGH RESOLUTION STEREO CAMERA"
MISSION_NAME = "MARS EXPRESS"
MISSION_PHASE_NAME = ME_Phase_4
PROCESSING_LEVEL_ID = 4
PRODUCT_CREATION_TIME = 2023-02-09T17:15:12.000Z
PRODUCT_ID = "H3514_0000_S14.TIF"
RELEASE_ID = 0004
REVISION_ID = 0000
/* QUALITY DATA ELEMENTS */
DATA_QUALITY_ID = 1
DATA_QUALITY_DESC = "Data calculated based on original SPICE kernels"
/* TIME DATA ELEMENTS */
SPACECRAFT_CLOCK_START_COUNT = "1/0107970102.09050"
SPACECRAFT_CLOCK_STOP_COUNT = "1/0107970389.33749"
START_TIME = 2006-10-03T15:43:41.149Z
STOP_TIME = 2006-10-03T15:46:32.311Z
/* ORBITAL DATA ELEMENTS */
ASCENDING_NODE_LONGITUDE = 154.55
MAXIMUM_RESOLUTION = 0.0285
FOOTPRINT_POINT_LATITUDE = (82.7107,82.8259,82.9267,83.0258, 83.0281,82.9537,82.6375,82.4261,82.2145 ,82.0071,81.8007,81.5942,81.2843, 81.0772,80.8704,80.6638,80.4573,80.2508 ,80.0441,79.734,79.5273,79.3205,79.1142 ,78.9073,78.5979,78.3915,78.1853, 77.9781,77.7726,77.5662,77.2575,77.0514 ,76.8457,76.6401,76.3316,76.1264, 75.9212,75.716,75.3061,74.8967,74.4879, 74.0798,73.7686,73.5599,73.3512,73.1426 ,72.9345,72.7263,72.6223,72.5907,72.555 ,72.5033,72.4307,72.4287,72.4285, 72.6354,72.8426,73.1534,73.3607,73.5683 ,73.8782,74.2838,74.6902,74.9949,75.198 ,75.5029,75.7062,75.9101,76.1133, 76.3169,76.6225,76.8263,77.0299,77.2335 ,77.4374,77.6401,77.9455,78.1496, 78.3533,78.5568,78.7603,78.9633,79.2684 ,79.573,79.7755,79.978,80.1803,80.3822, 80.5837,80.785,80.9859,81.1864,81.3866, 81.5861,81.7854,81.9868,82.1901,82.4932 ,82.5939,82.7107)
FOOTPRINT_POINT_LONGITUDE = (224.803,227.408,230.135,233.527, 233.618,234.517,235.054,235.391,235.711 ,236.007,236.287,236.554,236.93,237.17, 237.397,237.613,237.819,238.017,238.207 ,238.48,238.653,238.82,238.979,239.136, 239.356,239.498,239.634,239.771,239.896 ,240.021,240.2,240.315,240.427,240.535, 240.692,240.793,240.891,240.987,241.171 ,241.345,241.512,241.67,241.786,241.861 ,241.935,242.008,242.079,242.148, 242.182,242.192,241.122,239.821,238.29, 238.252,238.238,238.13,238.019,237.846, 237.727,237.606,237.417,237.16,236.889, 236.674,236.526,236.295,236.136,235.972 ,235.802,235.628,235.356,235.167, 234.972,234.77,234.562,234.346,234.009, 233.775,233.532,233.279,233.018,232.746 ,232.319,231.866,231.549,231.218, 230.873,230.514,230.139,229.747,229.337 ,228.909,228.46,227.989,227.495,226.968 ,226.407,225.509,225.193,224.803)
ORBIT_NUMBER = 3514
ORBITAL_ECCENTRICITY = 0.564
ORBITAL_INCLINATION = 86.68
ORBITAL_SEMIMAJOR_AXIS = 8536.02
PERIAPSIS_ALTITUDE = 346.23
PERIAPSIS_ARGUMENT_ANGLE = 99.87
PERIAPSIS_TIME = 2006-10-03T15:44:53.000Z
SPACECRAFT_ORIENTATION = (0.0,1.0,0.0)
^MEX_ORIENTATION_DESC = "MEX_ORIENTATION_DESC.TXT"
SPACECRAFT_POINTING_MODE = ALONGTRACK
^MEX_POINTING_DESC = "MEX_POINTING_DESC.TXT"
RIGHT_ASCENSION = -1e+32
DECLINATION = -1e+32
OFFSET_ANGLE = 3.893
SPACECRAFT_SOLAR_DISTANCE = 2.42127e+08
TARGET_NAME = MARS
/* CAMERA DATA ELEMENTS */
DETECTOR_TEMPERATURE = 17.1471
FOCAL_PLANE_TEMPERATURE = 7.3599
INST_CMPRS_NAME = "DISCRETE COSINE TRANSFORMATION (DCT)"
INST_CMPRS_RATIO = 10.3911
INST_CMPRS_QUALITY = 0
INST_CMPRS_QUANTZ_TBL_ID = 0
INSTRUMENT_TEMPERATURE = 10.8262
LENS_TEMPERATURE = 7.9716
MACROPIXEL_SIZE = 2
MISSING_FRAMES = 0
PIXEL_SUBSAMPLING_FLAG = N
SIGNAL_CHAIN_ID = 1
/* RADIOMETRIC DATA ELEMENTS */
BANDWIDTH = 180.0
CENTER_FILTER_WAVELENGTH = 677.0
RADIANCE_OFFSET = 2.27132
RADIANCE_SCALING_FACTOR = 0.0422371
REFLECTANCE_SCALING_FACTOR = 0.00129188
MEX:REFLECTANCE_OFFSET = 0.0694713
/* IMAGE OBJECT DEFINITIONS */
OBJECT = IMAGE
  INTERCHANGE_FORMAT = BINARY
  LINES = 24469
  LINE_SAMPLES = 7924
  SAMPLE_TYPE = UNSIGNED_INTEGER
  SAMPLE_BITS = 8
  BANDS = 1
  BAND_STORAGE_TYPE = BAND_SEQUENTIAL
  MAXIMUM = 255
  MEAN = 86.3742
  MINIMUM = 1
  STANDARD_DEVIATION = 53.818
END_OBJECT = IMAGE
/* MAP OBJECT DEFINITIONS */
OBJECT = IMAGE_MAP_PROJECTION
  ^DATA_SET_MAP_PROJECTION_CATALOG= "DSMAP.CAT"
  A_AXIS_RADIUS = 3396.0
  B_AXIS_RADIUS = 3396.0
  C_AXIS_RADIUS = 3396.0
  CENTER_LATITUDE = 0.0
  CENTER_LONGITUDE = 237.0
  COORDINATE_SYSTEM_NAME = PLANETOGRAPHIC
  COORDINATE_SYSTEM_TYPE = "BODY-FIXED ROTATING"
  EASTERNMOST_LONGITUDE = 242.192
  FIRST_STANDARD_PARALLEL = "N/A"
  LINE_FIRST_PIXEL = 1
  LINE_LAST_PIXEL = 24469
  LINE_PROJECTION_OFFSET = 196430.25
  MAP_PROJECTION_ROTATION = 0.0
  MAP_PROJECTION_TYPE = SINUSOIDAL
  MAP_RESOLUTION = 2370.85521546667
  MAP_SCALE = 0.025
  MAXIMUM_LATITUDE = 83.02809999999999
  MINIMUM_LATITUDE = 72.4285
  POSITIVE_LONGITUDE_DIRECTION = EAST
  REFERENCE_LATITUDE = "N/A"
  REFERENCE_LONGITUDE = "N/A"
  SAMPLE_FIRST_PIXEL = 1
  SAMPLE_LAST_PIXEL = 7924
  SAMPLE_PROJECTION_OFFSET = 4019.75
  SECOND_STANDARD_PARALLEL = "N/A"
  WESTERNMOST_LONGITUDE = 224.803
END_OBJECT = IMAGE_MAP_PROJECTION
END
