PDS_VERSION_ID = PDS3
/* FILE DATA ELEMENTS */
RECORD_TYPE = UNDEFINED
/* POINTERS TO DATA OBJECTS */
^IMAGE = ("H3639_0000_ND4.TIF")
/* IDENTIFICATION DATA ELEMENTS */
DATA_SET_ID = "MEX-M-HRSC-4-REFDR-MAPPROJECT-EXT1-V4.0"
DATA_SET_NAME = "MARS EXPRESS HRSC MAP PROJECTED REFDR EXTENSION1 V4.0"
DETECTOR_ID = MEX_HRSC_NADIR
EVENT_TYPE = "MARS-REGIONAL-MAPPING-Gl-Eo-La"
INSTRUMENT_HOST_ID = MEX
INSTRUMENT_HOST_NAME = "MARS EXPRESS"
INSTRUMENT_ID = HRSC
INSTRUMENT_NAME = "HIGH RESOLUTION STEREO CAMERA"
MISSION_NAME = "MARS EXPRESS"
MISSION_PHASE_NAME = ME_Phase_5
PROCESSING_LEVEL_ID = 4
PRODUCT_CREATION_TIME = 2023-02-09T17:15:12.000Z
PRODUCT_ID = "H3639_0000_ND4.TIF"
RELEASE_ID = 0004
REVISION_ID = 0000
/* QUALITY DATA ELEMENTS */
DATA_QUALITY_ID = 1
DATA_QUALITY_DESC = "Data calculated based on original SPICE kernels"
/* TIME DATA ELEMENTS */
SPACECRAFT_CLOCK_START_COUNT = "1/0110996488.08238"
SPACECRAFT_CLOCK_STOP_COUNT = "1/0110996734.29731"
START_TIME = 2006-11-07T16:22:08.028Z
STOP_TIME = 2006-11-07T16:24:46.998Z
/* ORBITAL DATA ELEMENTS */
ASCENDING_NODE_LONGITUDE = 151.99
MAXIMUM_RESOLUTION = 0.0182
FOOTPRINT_POINT_LATITUDE = (79.1045,79.1752,79.2464,79.3132, 79.3752,79.4325,79.5002,79.5032,79.5161 ,79.2504,78.8962,78.5421,78.25,77.8963, 77.5432,77.1813,76.8192,76.6364,76.2749 ,75.9979,75.8129,75.6279,75.4431, 75.2585,75.074,74.8851,74.6962,74.5074, 74.3188,74.1304,73.942,73.7493,73.5567, 73.3643,73.1721,72.9801,72.7855,72.5892 ,72.3931,72.1973,72.0016,71.7034, 71.5037,71.3042,71.1049,70.8023,70.5992 ,70.3959,70.1932,70.0919,70.0747,70.053 ,70.0179,69.962,69.9191,69.8718,69.83, 69.8267,69.8254,70.1265,70.3272,70.5283 ,70.8281,71.025,71.2222,71.4195,71.7145 ,71.9077,72.101,72.2946,72.4883,72.6806 ,72.87,73.0596,73.2492,73.439,73.7219, 73.9075,74.0932,74.2788,74.4645,74.6504 ,74.8342,75.0156,75.197,75.3785,75.5601 ,75.7417,75.9229,76.277,76.4559,76.8101 ,77.1639,77.5087,77.8532,78.2234, 78.5673,78.9964,79.0822,79.1045)
FOOTPRINT_POINT_LONGITUDE = (179.942,181.061,182.273,183.507,184.76 ,186.033,187.735,187.816,188.219, 188.521,188.9,189.252,189.523,189.834, 190.135,190.419,190.686,190.816,191.059 ,191.24,191.356,191.469,191.578,191.684 ,191.788,191.891,191.991,192.089, 192.184,192.277,192.367,192.457,192.545 ,192.631,192.715,192.797,192.877, 192.956,193.033,193.109,193.182,193.29, 193.361,193.431,193.495,193.605,193.677 ,193.726,193.79,193.82,193.825,193.07, 192.032,190.661,189.754,188.855,188.129 ,188.073,188.046,187.913,187.822, 187.729,187.585,187.487,187.388,187.285 ,187.127,187.02,186.91,186.798,186.682, 186.564,186.445,186.323,186.198,186.07, 185.868,185.736,185.599,185.457,185.311 ,185.162,185.01,184.856,184.697,184.534 ,184.367,184.194,184.018,183.657, 183.466,183.073,182.655,182.223,181.765 ,181.239,180.717,180.014,179.867, 179.942)
ORBIT_NUMBER = 3639
ORBITAL_ECCENTRICITY = 0.564
ORBITAL_INCLINATION = 86.67
ORBITAL_SEMIMAJOR_AXIS = 8535.62
PERIAPSIS_ALTITUDE = 346.77
PERIAPSIS_ARGUMENT_ANGLE = 77.77
PERIAPSIS_TIME = 2006-11-07T16:16:17.000Z
SPACECRAFT_ORIENTATION = (0.0,1.0,0.0)
^MEX_ORIENTATION_DESC = "MEX_ORIENTATION_DESC.TXT"
SPACECRAFT_POINTING_MODE = ACROSSTRACK
^MEX_POINTING_DESC = "MEX_POINTING_DESC.TXT"
RIGHT_ASCENSION = -1e+32
DECLINATION = -1e+32
OFFSET_ANGLE = 0.4
SPACECRAFT_SOLAR_DISTANCE = 2.36706e+08
TARGET_NAME = MARS
/* CAMERA DATA ELEMENTS */
DETECTOR_TEMPERATURE = 17.9627
FOCAL_PLANE_TEMPERATURE = 7.9716
INST_CMPRS_NAME = "DISCRETE COSINE TRANSFORMATION (DCT)"
INST_CMPRS_RATIO = 7.22296
INST_CMPRS_QUALITY = 0
INST_CMPRS_QUANTZ_TBL_ID = 0
INSTRUMENT_TEMPERATURE = 11.4379
LENS_TEMPERATURE = 8.3794
MACROPIXEL_SIZE = 1
MISSING_FRAMES = 15
PIXEL_SUBSAMPLING_FLAG = N
SIGNAL_CHAIN_ID = 0
/* RADIOMETRIC DATA ELEMENTS */
BANDWIDTH = 177.0
CENTER_FILTER_WAVELENGTH = 677.5
RADIANCE_OFFSET = 1.80555
RADIANCE_SCALING_FACTOR = 0.0311278
REFLECTANCE_SCALING_FACTOR = 0.000926508
MEX:REFLECTANCE_OFFSET = 0.0537415
/* IMAGE OBJECT DEFINITIONS */
OBJECT = IMAGE
  INTERCHANGE_FORMAT = BINARY
  LINES = 45944
  LINE_SAMPLES = 16720
  SAMPLE_TYPE = UNSIGNED_INTEGER
  SAMPLE_BITS = 8
  BANDS = 1
  BAND_STORAGE_TYPE = BAND_SEQUENTIAL
  MAXIMUM = 255
  MEAN = 83.5145
  MINIMUM = 1
  STANDARD_DEVIATION = 34.834
END_OBJECT = IMAGE
/* MAP OBJECT DEFINITIONS */
OBJECT = IMAGE_MAP_PROJECTION
  ^DATA_SET_MAP_PROJECTION_CATALOG= "DSMAP.CAT"
  A_AXIS_RADIUS = 3396.0
  B_AXIS_RADIUS = 3396.0
  C_AXIS_RADIUS = 3396.0
  CENTER_LATITUDE = 0.0
  CENTER_LONGITUDE = 188.0
  COORDINATE_SYSTEM_NAME = PLANETOGRAPHIC
  COORDINATE_SYSTEM_TYPE = "BODY-FIXED ROTATING"
  EASTERNMOST_LONGITUDE = 193.825
  FIRST_STANDARD_PARALLEL = "N/A"
  LINE_FIRST_PIXEL = 1
  LINE_LAST_PIXEL = 45944
  LINE_PROJECTION_OFFSET = 377049.0
  MAP_PROJECTION_ROTATION = 0.0
  MAP_PROJECTION_TYPE = SINUSOIDAL
  MAP_RESOLUTION = 4741.71043093333
  MAP_SCALE = 0.0125
  MAXIMUM_LATITUDE = 79.51609999999999
  MINIMUM_LATITUDE = 69.8254
  POSITIVE_LONGITUDE_DIRECTION = EAST
  REFERENCE_LATITUDE = "N/A"
  REFERENCE_LONGITUDE = "N/A"
  SAMPLE_FIRST_PIXEL = 1
  SAMPLE_LAST_PIXEL = 16720
  SAMPLE_PROJECTION_OFFSET = 7313.0
  SECOND_STANDARD_PARALLEL = "N/A"
  WESTERNMOST_LONGITUDE = 179.867
END_OBJECT = IMAGE_MAP_PROJECTION
END
