PDS_VERSION_ID = PDS3
/* FILE DATA ELEMENTS */
RECORD_TYPE = UNDEFINED
/* POINTERS TO DATA OBJECTS */
^IMAGE = ("H3639_0000_P24.TIF")
/* IDENTIFICATION DATA ELEMENTS */
DATA_SET_ID = "MEX-M-HRSC-4-REFDR-MAPPROJECT-EXT1-V4.0"
DATA_SET_NAME = "MARS EXPRESS HRSC MAP PROJECTED REFDR EXTENSION1 V4.0"
DETECTOR_ID = MEX_HRSC_P2
EVENT_TYPE = "MARS-REGIONAL-MAPPING-Gl-Eo-La"
INSTRUMENT_HOST_ID = MEX
INSTRUMENT_HOST_NAME = "MARS EXPRESS"
INSTRUMENT_ID = HRSC
INSTRUMENT_NAME = "HIGH RESOLUTION STEREO CAMERA"
MISSION_NAME = "MARS EXPRESS"
MISSION_PHASE_NAME = ME_Phase_5
PROCESSING_LEVEL_ID = 4
PRODUCT_CREATION_TIME = 2023-02-09T17:15:12.000Z
PRODUCT_ID = "H3639_0000_P24.TIF"
RELEASE_ID = 0004
REVISION_ID = 0000
/* QUALITY DATA ELEMENTS */
DATA_QUALITY_ID = 1
DATA_QUALITY_DESC = "Data calculated based on original SPICE kernels"
/* TIME DATA ELEMENTS */
SPACECRAFT_CLOCK_START_COUNT = "1/0110996488.08238"
SPACECRAFT_CLOCK_STOP_COUNT = "1/0110996734.29731"
START_TIME = 2006-11-07T16:21:44.594Z
STOP_TIME = 2006-11-07T16:24:17.879Z
/* ORBITAL DATA ELEMENTS */
ASCENDING_NODE_LONGITUDE = 151.99
MAXIMUM_RESOLUTION = 0.073
FOOTPRINT_POINT_LATITUDE = (78.9626,79.0759,79.1352,79.1905, 79.2415,79.2883,79.3257,79.3283,79.2447 ,79.0617,78.8787,78.6957,78.3312, 77.9663,77.7823,77.4163,77.0507,76.5945 ,76.2295,75.8644,75.4942,75.2138, 75.0266,74.8397,74.5595,74.3728,74.1818 ,73.9904,73.799,73.5122,73.3209,73.1299 ,72.9343,72.7387,72.5433,72.3479, 72.0551,71.8579,71.5586,71.3589,71.161, 70.9554,70.7545,70.4531,70.2488,70.0454 ,69.8419,69.7381,69.668,69.6539,69.6349 ,69.6,69.5632,69.5263,69.4852,69.452, 69.4491,69.4492,69.6541,69.8556,70.0572 ,70.2588,70.4608,70.6618,70.8587, 71.0559,71.2533,71.4506,71.7463,71.9395 ,72.132,72.325,72.518,72.7112,72.9036, 73.0921,73.3754,73.5642,73.749,73.9382, 74.1288,74.312,74.4958,74.6797,74.8638, 75.0476,75.2315,75.5043,75.8623,76.2202 ,76.6674,77.0241,77.2925,77.6489, 77.8273,78.2719,78.5384,78.7157,78.8043 ,78.9626)
FOOTPRINT_POINT_LONGITUDE = (180.342,182.252,183.367,184.498, 185.645,186.808,187.84,187.914,188.397, 188.596,188.789,188.974,189.32,189.646, 189.809,190.11,190.392,190.719,190.966, 191.2,191.425,191.586,191.691,191.792, 191.939,192.034,192.129,192.221,192.311 ,192.442,192.527,192.61,192.693,192.773 ,192.851,192.928,193.039,193.111, 193.218,193.288,193.352,193.433,193.497 ,193.583,193.647,193.708,193.768, 193.799,193.819,193.252,192.58,191.555, 190.64,189.832,189.03,188.431,188.381, 188.364,188.278,188.192,188.103,188.012 ,187.919,187.823,187.728,187.63,187.529 ,187.426,187.267,187.159,187.049, 186.937,186.821,186.702,186.581,186.459 ,186.27,186.14,186.007,185.87,185.73, 185.589,185.444,185.296,185.143,184.987 ,184.825,184.578,184.237,183.877, 183.396,182.986,182.661,182.205,181.966 ,181.335,180.931,180.65,180.506, 180.342)
ORBIT_NUMBER = 3639
ORBITAL_ECCENTRICITY = 0.564
ORBITAL_INCLINATION = 86.67
ORBITAL_SEMIMAJOR_AXIS = 8535.62
PERIAPSIS_ALTITUDE = 346.77
PERIAPSIS_ARGUMENT_ANGLE = 77.77
PERIAPSIS_TIME = 2006-11-07T16:16:17.000Z
SPACECRAFT_ORIENTATION = (0.0,1.0,0.0)
^MEX_ORIENTATION_DESC = "MEX_ORIENTATION_DESC.TXT"
SPACECRAFT_POINTING_MODE = ACROSSTRACK
^MEX_POINTING_DESC = "MEX_POINTING_DESC.TXT"
RIGHT_ASCENSION = -1e+32
DECLINATION = -1e+32
OFFSET_ANGLE = 0.4
SPACECRAFT_SOLAR_DISTANCE = 2.36706e+08
TARGET_NAME = MARS
/* CAMERA DATA ELEMENTS */
DETECTOR_TEMPERATURE = 18.5744
FOCAL_PLANE_TEMPERATURE = 7.9716
INST_CMPRS_NAME = "DISCRETE COSINE TRANSFORMATION (DCT)"
INST_CMPRS_RATIO = 8.88575
INST_CMPRS_QUALITY = 0
INST_CMPRS_QUANTZ_TBL_ID = 0
INSTRUMENT_TEMPERATURE = 11.4379
LENS_TEMPERATURE = 8.3794
MACROPIXEL_SIZE = 4
MISSING_FRAMES = 0
PIXEL_SUBSAMPLING_FLAG = N
SIGNAL_CHAIN_ID = 3
/* RADIOMETRIC DATA ELEMENTS */
BANDWIDTH = 177.0
CENTER_FILTER_WAVELENGTH = 676.5
RADIANCE_OFFSET = 2.12604
RADIANCE_SCALING_FACTOR = 0.0262685
REFLECTANCE_SCALING_FACTOR = 0.000780383
MEX:REFLECTANCE_OFFSET = 0.0631601
/* IMAGE OBJECT DEFINITIONS */
OBJECT = IMAGE
  INTERCHANGE_FORMAT = BINARY
  LINES = 11486
  LINE_SAMPLES = 4180
  SAMPLE_TYPE = UNSIGNED_INTEGER
  SAMPLE_BITS = 8
  BANDS = 1
  BAND_STORAGE_TYPE = BAND_SEQUENTIAL
  MAXIMUM = 255
  MEAN = 94.0984
  MINIMUM = 1
  STANDARD_DEVIATION = 38.7489
END_OBJECT = IMAGE
/* MAP OBJECT DEFINITIONS */
OBJECT = IMAGE_MAP_PROJECTION
  ^DATA_SET_MAP_PROJECTION_CATALOG= "DSMAP.CAT"
  A_AXIS_RADIUS = 3396.0
  B_AXIS_RADIUS = 3396.0
  C_AXIS_RADIUS = 3396.0
  CENTER_LATITUDE = 0.0
  CENTER_LONGITUDE = 188.0
  COORDINATE_SYSTEM_NAME = PLANETOGRAPHIC
  COORDINATE_SYSTEM_TYPE = "BODY-FIXED ROTATING"
  EASTERNMOST_LONGITUDE = 193.819
  FIRST_STANDARD_PARALLEL = "N/A"
  LINE_FIRST_PIXEL = 1
  LINE_LAST_PIXEL = 11486
  LINE_PROJECTION_OFFSET = 94261.875
  MAP_PROJECTION_ROTATION = 0.0
  MAP_PROJECTION_TYPE = SINUSOIDAL
  MAP_RESOLUTION = 1185.42760773333
  MAP_SCALE = 0.05
  MAXIMUM_LATITUDE = 79.3283
  MINIMUM_LATITUDE = 69.4491
  POSITIVE_LONGITUDE_DIRECTION = EAST
  REFERENCE_LATITUDE = "N/A"
  REFERENCE_LONGITUDE = "N/A"
  SAMPLE_FIRST_PIXEL = 1
  SAMPLE_LAST_PIXEL = 4180
  SAMPLE_PROJECTION_OFFSET = 1827.875
  SECOND_STANDARD_PARALLEL = "N/A"
  WESTERNMOST_LONGITUDE = 180.342
END_OBJECT = IMAGE_MAP_PROJECTION
END
