PDS_VERSION_ID = PDS3
/* FILE DATA ELEMENTS */
RECORD_TYPE = UNDEFINED
/* POINTERS TO DATA OBJECTS */
^IMAGE = ("H3642_0000_ND4.TIF")
/* IDENTIFICATION DATA ELEMENTS */
DATA_SET_ID = "MEX-M-HRSC-4-REFDR-MAPPROJECT-EXT1-V4.0"
DATA_SET_NAME = "MARS EXPRESS HRSC MAP PROJECTED REFDR EXTENSION1 V4.0"
DETECTOR_ID = MEX_HRSC_NADIR
EVENT_TYPE = "MARS-LOCAL-STEREO-Gl-Eo-La"
INSTRUMENT_HOST_ID = MEX
INSTRUMENT_HOST_NAME = "MARS EXPRESS"
INSTRUMENT_ID = HRSC
INSTRUMENT_NAME = "HIGH RESOLUTION STEREO CAMERA"
MISSION_NAME = "MARS EXPRESS"
MISSION_PHASE_NAME = ME_Phase_5
PROCESSING_LEVEL_ID = 4
PRODUCT_CREATION_TIME = 2023-02-09T17:15:12.000Z
PRODUCT_ID = "H3642_0000_ND4.TIF"
RELEASE_ID = 0004
REVISION_ID = 0000
/* QUALITY DATA ELEMENTS */
DATA_QUALITY_ID = 1
DATA_QUALITY_DESC = "Data calculated based on original SPICE kernels"
/* TIME DATA ELEMENTS */
SPACECRAFT_CLOCK_START_COUNT = "1/0111069102.09069"
SPACECRAFT_CLOCK_STOP_COUNT = "1/0111069298.48773"
START_TIME = 2006-11-08T12:32:21.912Z
STOP_TIME = 2006-11-08T12:34:15.915Z
/* ORBITAL DATA ELEMENTS */
ASCENDING_NODE_LONGITUDE = 151.94
MAXIMUM_RESOLUTION = 0.0194
FOOTPRINT_POINT_LATITUDE = (76.8453,76.8924,76.9938,77.0549, 77.1264,77.1648,77.1979,77.235,77.238, 77.2463,76.99,76.7338,76.4778,76.222, 75.9664,75.711,75.4558,75.2009,74.9462, 74.7514,74.6208,74.4903,74.3599,74.2295 ,74.0993,73.969,73.7089,73.5766,73.4433 ,73.3101,73.177,73.0439,72.911,72.7781, 72.6453,72.4447,72.3087,72.1729,72.0371 ,71.9015,71.766,71.6305,71.4952,71.2886 ,71.1501,70.9675,70.7603,70.6223, 70.5533,70.5508,70.5232,70.5023,70.4799 ,70.4477,70.4247,70.3975,70.3687, 70.3316,70.2959,70.2583,70.2545,70.2528 ,70.3891,70.5254,70.6619,70.8422, 70.9788,71.1828,71.3163,71.45,71.5836, 71.7174,71.8512,71.9852,72.1192,72.317, 72.4478,72.5786,72.7096,72.8406,72.9716 ,73.1027,73.2339,73.364,73.6199,73.8759 ,74.132,74.3883,74.5795,74.8293,75.0792 ,75.3291,75.5791,75.829,76.0791,76.3293 ,76.5791,76.7665,76.8289,76.8453)
FOOTPRINT_POINT_LONGITUDE = (246.452,247.122,248.677,249.704, 251.017,251.784,252.486,253.333,253.404 ,253.634,253.867,254.091,254.306, 254.512,254.71,254.9,255.083,255.26, 255.429,255.556,255.638,255.719,255.799 ,255.877,255.954,256.029,256.176, 256.249,256.321,256.392,256.461,256.53, 256.597,256.663,256.728,256.824,256.888 ,256.951,257.013,257.073,257.133, 257.192,257.249,257.336,257.392,257.466 ,257.547,257.601,257.627,257.628, 256.867,256.34,255.816,255.119,254.656, 254.136,253.617,252.985,252.412,251.841 ,251.784,251.756,251.684,251.611, 251.537,251.437,251.36,251.242,251.163, 251.084,251.002,250.919,250.835,250.749 ,250.662,250.53,250.441,250.351,250.259 ,250.165,250.069,249.972,249.873, 249.773,249.571,249.361,249.144,248.917 ,248.744,248.51,248.267,248.014,247.752 ,247.479,247.196,246.904,246.594, 246.355,246.274,246.452)
ORBIT_NUMBER = 3642
ORBITAL_ECCENTRICITY = 0.564
ORBITAL_INCLINATION = 86.67
ORBITAL_SEMIMAJOR_AXIS = 8535.97
PERIAPSIS_ALTITUDE = 346.48
PERIAPSIS_ARGUMENT_ANGLE = 77.22
PERIAPSIS_TIME = 2006-11-08T12:25:45.000Z
SPACECRAFT_ORIENTATION = (0.0,1.0,0.0)
^MEX_ORIENTATION_DESC = "MEX_ORIENTATION_DESC.TXT"
SPACECRAFT_POINTING_MODE = NADIR
^MEX_POINTING_DESC = "MEX_POINTING_DESC.TXT"
RIGHT_ASCENSION = -1e+32
DECLINATION = -1e+32
OFFSET_ANGLE = -1e+32
SPACECRAFT_SOLAR_DISTANCE = 2.36562e+08
TARGET_NAME = MARS
/* CAMERA DATA ELEMENTS */
DETECTOR_TEMPERATURE = 17.9627
FOCAL_PLANE_TEMPERATURE = 7.3599
INST_CMPRS_NAME = "DISCRETE COSINE TRANSFORMATION (DCT)"
INST_CMPRS_RATIO = 7.25248
INST_CMPRS_QUALITY = 0
INST_CMPRS_QUANTZ_TBL_ID = 0
INSTRUMENT_TEMPERATURE = 11.0301
LENS_TEMPERATURE = 7.9716
MACROPIXEL_SIZE = 1
PIXEL_SUBSAMPLING_FLAG = N
SIGNAL_CHAIN_ID = 0
/* RADIOMETRIC DATA ELEMENTS */
BANDWIDTH = 177.0
CENTER_FILTER_WAVELENGTH = 677.5
RADIANCE_OFFSET = 1.80011
RADIANCE_SCALING_FACTOR = 0.0382029
REFLECTANCE_SCALING_FACTOR = 0.00113571
MEX:REFLECTANCE_OFFSET = 0.0535143
/* IMAGE OBJECT DEFINITIONS */
OBJECT = IMAGE
  INTERCHANGE_FORMAT = BINARY
  LINES = 16582
  LINE_SAMPLES = 7289
  SAMPLE_TYPE = UNSIGNED_INTEGER
  SAMPLE_BITS = 8
  BANDS = 1
  BAND_STORAGE_TYPE = BAND_SEQUENTIAL
  MAXIMUM = 254
  MEAN = 85.4583
  MINIMUM = 1
  STANDARD_DEVIATION = 55.5129
END_OBJECT = IMAGE
/* MAP OBJECT DEFINITIONS */
OBJECT = IMAGE_MAP_PROJECTION
  ^DATA_SET_MAP_PROJECTION_CATALOG= "DSMAP.CAT"
  A_AXIS_RADIUS = 3396.0
  B_AXIS_RADIUS = 3396.0
  C_AXIS_RADIUS = 3396.0
  CENTER_LATITUDE = 0.0
  CENTER_LONGITUDE = 253.0
  COORDINATE_SYSTEM_NAME = PLANETOGRAPHIC
  COORDINATE_SYSTEM_TYPE = "BODY-FIXED ROTATING"
  EASTERNMOST_LONGITUDE = 257.628
  FIRST_STANDARD_PARALLEL = "N/A"
  LINE_FIRST_PIXEL = 1
  LINE_LAST_PIXEL = 16582
  LINE_PROJECTION_OFFSET = 183140.0
  MAP_PROJECTION_ROTATION = 0.0
  MAP_PROJECTION_TYPE = SINUSOIDAL
  MAP_RESOLUTION = 2370.85521546667
  MAP_SCALE = 0.025
  MAXIMUM_LATITUDE = 77.24630000000001
  MINIMUM_LATITUDE = 70.25279999999999
  POSITIVE_LONGITUDE_DIRECTION = EAST
  REFERENCE_LATITUDE = "N/A"
  REFERENCE_LONGITUDE = "N/A"
  SAMPLE_FIRST_PIXEL = 1
  SAMPLE_LAST_PIXEL = 7289
  SAMPLE_PROJECTION_OFFSET = 3634.0
  SECOND_STANDARD_PARALLEL = "N/A"
  WESTERNMOST_LONGITUDE = 246.274
END_OBJECT = IMAGE_MAP_PROJECTION
END
