PDS_VERSION_ID = PDS3
/* FILE DATA ELEMENTS */
RECORD_TYPE = UNDEFINED
/* POINTERS TO DATA OBJECTS */
^IMAGE = ("H3642_0000_P24.TIF")
/* IDENTIFICATION DATA ELEMENTS */
DATA_SET_ID = "MEX-M-HRSC-4-REFDR-MAPPROJECT-EXT1-V4.0"
DATA_SET_NAME = "MARS EXPRESS HRSC MAP PROJECTED REFDR EXTENSION1 V4.0"
DETECTOR_ID = MEX_HRSC_P2
EVENT_TYPE = "MARS-LOCAL-STEREO-Gl-Eo-La"
INSTRUMENT_HOST_ID = MEX
INSTRUMENT_HOST_NAME = "MARS EXPRESS"
INSTRUMENT_ID = HRSC
INSTRUMENT_NAME = "HIGH RESOLUTION STEREO CAMERA"
MISSION_NAME = "MARS EXPRESS"
MISSION_PHASE_NAME = ME_Phase_5
PROCESSING_LEVEL_ID = 4
PRODUCT_CREATION_TIME = 2023-02-09T17:15:12.000Z
PRODUCT_ID = "H3642_0000_P24.TIF"
RELEASE_ID = 0004
REVISION_ID = 0000
/* QUALITY DATA ELEMENTS */
DATA_QUALITY_ID = 1
DATA_QUALITY_DESC = "Data calculated based on original SPICE kernels"
/* TIME DATA ELEMENTS */
SPACECRAFT_CLOCK_START_COUNT = "1/0111069102.09069"
SPACECRAFT_CLOCK_STOP_COUNT = "1/0111069298.48773"
START_TIME = 2006-11-08T12:31:58.545Z
STOP_TIME = 2006-11-08T12:33:48.770Z
/* ORBITAL DATA ELEMENTS */
ASCENDING_NODE_LONGITUDE = 151.94
MAXIMUM_RESOLUTION = 0.0387
FOOTPRINT_POINT_LATITUDE = (76.5715,76.638,76.7285,76.7707,76.8387 ,76.891,76.9476,76.9503,76.8634,76.6611 ,76.4588,76.2567,76.122,75.9872,75.8526 ,75.7178,75.5831,75.3811,75.2464, 75.1119,74.9773,74.8431,74.7082,74.4396 ,74.3049,74.1706,73.9692,73.7007, 73.4995,73.2984,72.9633,72.8262,72.6887 ,72.5513,72.414,72.208,72.0021,71.7964, 71.6595,71.5189,71.3784,71.238,71.0276, 70.8873,70.7471,70.6069,70.4669,70.2525 ,70.1092,70.0375,70.0365,70.0041, 69.9839,69.9549,69.9315,69.8953,69.8465 ,69.8067,69.7536,69.7499,69.7491, 69.8908,70.0326,70.174,70.3123,70.4508, 70.6585,70.7969,70.9356,71.143,71.282, 71.4195,71.6221,71.7575,71.8932,72.0286 ,72.1639,72.3671,72.5025,72.7699, 72.9679,73.2319,73.43,73.694,73.8921, 74.156,74.4854,74.7499,74.9484,75.0805, 75.2783,75.4103,75.5424,75.6741,75.8717 ,76.0039,76.2019,76.4003,76.466, 76.5715)
FOOTPRINT_POINT_LONGITUDE = (246.948,247.888,249.282,249.986, 251.212,252.255,253.505,253.571,253.863 ,254.037,254.205,254.368,254.474, 254.578,254.679,254.779,254.877,255.02, 255.113,255.204,255.294,255.381,255.468 ,255.634,255.717,255.796,255.914, 256.065,256.175,256.282,256.455,256.523 ,256.591,256.657,256.722,256.818, 256.911,257.003,257.062,257.122,257.181 ,257.239,257.324,257.38,257.435,257.489 ,257.541,257.621,257.673,257.698, 257.699,256.834,256.347,255.702,255.219 ,254.523,253.67,253.033,252.239,252.187 ,252.167,252.097,252.025,251.953,251.88 ,251.807,251.694,251.617,251.539, 251.419,251.338,251.257,251.133,251.049 ,250.963,250.876,250.787,250.65,250.558 ,250.37,250.226,250.028,249.875,249.665 ,249.502,249.277,248.984,248.74,248.55, 248.421,248.222,248.086,247.947,247.805 ,247.588,247.439,247.21,246.974,246.893 ,246.948)
ORBIT_NUMBER = 3642
ORBITAL_ECCENTRICITY = 0.564
ORBITAL_INCLINATION = 86.67
ORBITAL_SEMIMAJOR_AXIS = 8535.97
PERIAPSIS_ALTITUDE = 346.48
PERIAPSIS_ARGUMENT_ANGLE = 77.22
PERIAPSIS_TIME = 2006-11-08T12:25:45.000Z
SPACECRAFT_ORIENTATION = (0.0,1.0,0.0)
^MEX_ORIENTATION_DESC = "MEX_ORIENTATION_DESC.TXT"
SPACECRAFT_POINTING_MODE = NADIR
^MEX_POINTING_DESC = "MEX_POINTING_DESC.TXT"
RIGHT_ASCENSION = -1e+32
DECLINATION = -1e+32
OFFSET_ANGLE = -1e+32
SPACECRAFT_SOLAR_DISTANCE = 2.36562e+08
TARGET_NAME = MARS
/* CAMERA DATA ELEMENTS */
DETECTOR_TEMPERATURE = 17.9627
FOCAL_PLANE_TEMPERATURE = 7.3599
INST_CMPRS_NAME = "DISCRETE COSINE TRANSFORMATION (DCT)"
INST_CMPRS_RATIO = 9.61771
INST_CMPRS_QUALITY = 0
INST_CMPRS_QUANTZ_TBL_ID = 0
INSTRUMENT_TEMPERATURE = 11.0301
LENS_TEMPERATURE = 7.9716
MACROPIXEL_SIZE = 2
MISSING_FRAMES = 0
PIXEL_SUBSAMPLING_FLAG = N
SIGNAL_CHAIN_ID = 3
/* RADIOMETRIC DATA ELEMENTS */
BANDWIDTH = 177.0
CENTER_FILTER_WAVELENGTH = 676.5
RADIANCE_OFFSET = 2.20071
RADIANCE_SCALING_FACTOR = 0.0367647
REFLECTANCE_SCALING_FACTOR = 0.00109088
MEX:REFLECTANCE_OFFSET = 0.065299
/* IMAGE OBJECT DEFINITIONS */
OBJECT = IMAGE
  INTERCHANGE_FORMAT = BINARY
  LINES = 8291
  LINE_SAMPLES = 3645
  SAMPLE_TYPE = UNSIGNED_INTEGER
  SAMPLE_BITS = 8
  BANDS = 1
  BAND_STORAGE_TYPE = BAND_SEQUENTIAL
  MAXIMUM = 255
  MEAN = 82.8136
  MINIMUM = 1
  STANDARD_DEVIATION = 58.5365
END_OBJECT = IMAGE
/* MAP OBJECT DEFINITIONS */
OBJECT = IMAGE_MAP_PROJECTION
  ^DATA_SET_MAP_PROJECTION_CATALOG= "DSMAP.CAT"
  A_AXIS_RADIUS = 3396.0
  B_AXIS_RADIUS = 3396.0
  C_AXIS_RADIUS = 3396.0
  CENTER_LATITUDE = 0.0
  CENTER_LONGITUDE = 253.0
  COORDINATE_SYSTEM_NAME = PLANETOGRAPHIC
  COORDINATE_SYSTEM_TYPE = "BODY-FIXED ROTATING"
  EASTERNMOST_LONGITUDE = 257.699
  FIRST_STANDARD_PARALLEL = "N/A"
  LINE_FIRST_PIXEL = 1
  LINE_LAST_PIXEL = 8291
  LINE_PROJECTION_OFFSET = 91569.75
  MAP_PROJECTION_ROTATION = 0.0
  MAP_PROJECTION_TYPE = SINUSOIDAL
  MAP_RESOLUTION = 1185.42760773333
  MAP_SCALE = 0.05
  MAXIMUM_LATITUDE = 76.9503
  MINIMUM_LATITUDE = 69.7491
  POSITIVE_LONGITUDE_DIRECTION = EAST
  REFERENCE_LATITUDE = "N/A"
  REFERENCE_LONGITUDE = "N/A"
  SAMPLE_FIRST_PIXEL = 1
  SAMPLE_LAST_PIXEL = 3645
  SAMPLE_PROJECTION_OFFSET = 1816.75
  SECOND_STANDARD_PARALLEL = "N/A"
  WESTERNMOST_LONGITUDE = 246.893
END_OBJECT = IMAGE_MAP_PROJECTION
END
