PDS_VERSION_ID = PDS3
/* FILE DATA ELEMENTS */
RECORD_TYPE = UNDEFINED
/* POINTERS TO DATA OBJECTS */
^IMAGE = ("H3646_0000_P14.TIF")
/* IDENTIFICATION DATA ELEMENTS */
DATA_SET_ID = "MEX-M-HRSC-4-REFDR-MAPPROJECT-EXT1-V4.0"
DATA_SET_NAME = "MARS EXPRESS HRSC MAP PROJECTED REFDR EXTENSION1 V4.0"
DETECTOR_ID = MEX_HRSC_P1
EVENT_TYPE = "MARS-REGIONAL-MAPPING-Pf-Eo-Ot"
INSTRUMENT_HOST_ID = MEX
INSTRUMENT_HOST_NAME = "MARS EXPRESS"
INSTRUMENT_ID = HRSC
INSTRUMENT_NAME = "HIGH RESOLUTION STEREO CAMERA"
MISSION_NAME = "MARS EXPRESS"
MISSION_PHASE_NAME = ME_Phase_5
PROCESSING_LEVEL_ID = 4
PRODUCT_CREATION_TIME = 2023-02-09T17:15:12.000Z
PRODUCT_ID = "H3646_0000_P14.TIF"
RELEASE_ID = 0004
REVISION_ID = 0000
/* QUALITY DATA ELEMENTS */
DATA_QUALITY_ID = 1
DATA_QUALITY_DESC = "Data calculated based on original SPICE kernels"
/* TIME DATA ELEMENTS */
SPACECRAFT_CLOCK_START_COUNT = "1/0111165972.08240"
SPACECRAFT_CLOCK_STOP_COUNT = "1/0111166210.21136"
START_TIME = 2006-11-09T15:27:22.686Z
STOP_TIME = 2006-11-09T15:29:52.952Z
/* ORBITAL DATA ELEMENTS */
ASCENDING_NODE_LONGITUDE = 151.85
MAXIMUM_RESOLUTION = 0.0986
FOOTPRINT_POINT_LATITUDE = (71.3709,71.4165,71.4584,71.4964, 71.5139,71.5304,71.5457,71.56,71.5732, 71.5853,71.5987,71.6,71.6988,71.4065, 71.1152,70.8181,70.3736,70.1524,69.7762 ,69.4759,69.0992,68.8708,68.4902, 68.1836,67.9517,67.7206,67.4104,67.2536 ,67.0972,66.9412,66.7853,66.6277,66.469 ,66.3104,66.1525,65.9143,65.7535, 65.5931,65.4329,65.273,65.1101,64.9475, 64.7858,64.6238,64.4593,64.2947,64.1303 ,63.9664,63.8836,63.8781,63.8733, 63.8671,63.8582,63.8413,63.8298,63.8088 ,63.7945,63.7789,63.7623,63.7446, 63.7258,63.7062,63.7037,63.7039,63.9489 ,64.1119,64.2754,64.4387,64.5998, 64.7607,64.922,65.0836,65.2424,65.4016, 65.5608,65.7205,65.8789,66.0356,66.1927 ,66.35,66.5859,66.7405,66.9734,67.1287, 67.4379,67.8973,68.2034,68.505,68.8076, 69.0342,69.3318,69.6301,69.9286,70.1486 ,70.4425,70.7371,71.1006,71.3896, 71.4621,71.3709)
FOOTPRINT_POINT_LONGITUDE = (223.343,224.274,225.22,226.184,226.672 ,227.164,227.66,228.16,228.666,229.176, 229.82,229.885,230.278,230.308,230.338, 230.366,230.408,230.429,230.462,230.487 ,230.517,230.537,230.565,230.588, 230.605,230.621,230.641,230.651,230.661 ,230.672,230.682,230.692,230.702, 230.711,230.721,230.735,230.744,230.754 ,230.762,230.771,230.78,230.789,230.798 ,230.807,230.815,230.823,230.831, 230.839,230.843,230.843,230.437,230.028 ,229.507,228.705,228.252,227.52,227.074 ,226.631,226.191,225.754,225.319, 224.887,224.834,224.816,224.79,224.773, 224.756,224.737,224.719,224.7,224.681, 224.661,224.641,224.621,224.6,224.579, 224.558,224.536,224.513,224.49,224.455, 224.431,224.394,224.369,224.317,224.236 ,224.179,224.12,224.059,224.012,223.947 ,223.88,223.81,223.756,223.682,223.605, 223.504,223.421,223.4,223.343)
ORBIT_NUMBER = 3646
ORBITAL_ECCENTRICITY = 0.564
ORBITAL_INCLINATION = 86.69
ORBITAL_SEMIMAJOR_AXIS = 8536.21
PERIAPSIS_ALTITUDE = 345.86
PERIAPSIS_ARGUMENT_ANGLE = 76.53
PERIAPSIS_TIME = 2006-11-09T15:18:17.000Z
SPACECRAFT_ORIENTATION = (0.0,1.0,0.0)
^MEX_ORIENTATION_DESC = "MEX_ORIENTATION_DESC.TXT"
SPACECRAFT_POINTING_MODE = ACROSSTRACK
^MEX_POINTING_DESC = "MEX_POINTING_DESC.TXT"
RIGHT_ASCENSION = -1e+32
DECLINATION = -1e+32
OFFSET_ANGLE = 1.7
SPACECRAFT_SOLAR_DISTANCE = 2.36369e+08
TARGET_NAME = MARS
/* CAMERA DATA ELEMENTS */
DETECTOR_TEMPERATURE = 17.351
FOCAL_PLANE_TEMPERATURE = 7.9716
INST_CMPRS_NAME = "DISCRETE COSINE TRANSFORMATION (DCT)"
INST_CMPRS_RATIO = 17.1069
INST_CMPRS_QUALITY = 0
INST_CMPRS_QUANTZ_TBL_ID = 0
INSTRUMENT_TEMPERATURE = 11.0301
LENS_TEMPERATURE = 8.1755
MACROPIXEL_SIZE = 4
MISSING_FRAMES = 0
PIXEL_SUBSAMPLING_FLAG = N
SIGNAL_CHAIN_ID = 3
/* RADIOMETRIC DATA ELEMENTS */
BANDWIDTH = 174.0
CENTER_FILTER_WAVELENGTH = 675.0
RADIANCE_OFFSET = 4.16993
RADIANCE_SCALING_FACTOR = 0.011013
REFLECTANCE_SCALING_FACTOR = 0.000330956
MEX:REFLECTANCE_OFFSET = 0.125312
/* IMAGE OBJECT DEFINITIONS */
OBJECT = IMAGE
  INTERCHANGE_FORMAT = BINARY
  LINES = 4828
  LINE_SAMPLES = 1617
  SAMPLE_TYPE = UNSIGNED_INTEGER
  SAMPLE_BITS = 8
  BANDS = 1
  BAND_STORAGE_TYPE = BAND_SEQUENTIAL
  MAXIMUM = 255
  MEAN = 115.345
  MINIMUM = 1
  STANDARD_DEVIATION = 42.0146
END_OBJECT = IMAGE
/* MAP OBJECT DEFINITIONS */
OBJECT = IMAGE_MAP_PROJECTION
  ^DATA_SET_MAP_PROJECTION_CATALOG= "DSMAP.CAT"
  A_AXIS_RADIUS = 3396.0
  B_AXIS_RADIUS = 3396.0
  C_AXIS_RADIUS = 3396.0
  CENTER_LATITUDE = 0.0
  CENTER_LONGITUDE = 227.0
  COORDINATE_SYSTEM_NAME = PLANETOGRAPHIC
  COORDINATE_SYSTEM_TYPE = "BODY-FIXED ROTATING"
  EASTERNMOST_LONGITUDE = 230.843
  FIRST_STANDARD_PARALLEL = "N/A"
  LINE_FIRST_PIXEL = 1
  LINE_LAST_PIXEL = 4828
  LINE_PROJECTION_OFFSET = 42016.875
  MAP_PROJECTION_ROTATION = 0.0
  MAP_PROJECTION_TYPE = SINUSOIDAL
  MAP_RESOLUTION = 592.713803866667
  MAP_SCALE = 0.1
  MAXIMUM_LATITUDE = 71.69880000000001
  MINIMUM_LATITUDE = 63.7037
  POSITIVE_LONGITUDE_DIRECTION = EAST
  REFERENCE_LATITUDE = "N/A"
  REFERENCE_LONGITUDE = "N/A"
  SAMPLE_FIRST_PIXEL = 1
  SAMPLE_LAST_PIXEL = 1617
  SAMPLE_PROJECTION_OFFSET = 635.375
  SECOND_STANDARD_PARALLEL = "N/A"
  WESTERNMOST_LONGITUDE = 223.343
END_OBJECT = IMAGE_MAP_PROJECTION
END
