PDS_VERSION_ID = PDS3
/* FILE DATA ELEMENTS */
RECORD_TYPE = UNDEFINED
/* POINTERS TO DATA OBJECTS */
^IMAGE = ("H3653_0000_P14.TIF")
/* IDENTIFICATION DATA ELEMENTS */
DATA_SET_ID = "MEX-M-HRSC-4-REFDR-MAPPROJECT-EXT1-V4.0"
DATA_SET_NAME = "MARS EXPRESS HRSC MAP PROJECTED REFDR EXTENSION1 V4.0"
DETECTOR_ID = MEX_HRSC_P1
EVENT_TYPE = "MARS-REGIONAL-MAPPING-Pf-Eo-Ot"
INSTRUMENT_HOST_ID = MEX
INSTRUMENT_HOST_NAME = "MARS EXPRESS"
INSTRUMENT_ID = HRSC
INSTRUMENT_NAME = "HIGH RESOLUTION STEREO CAMERA"
MISSION_NAME = "MARS EXPRESS"
MISSION_PHASE_NAME = ME_Phase_5
PROCESSING_LEVEL_ID = 4
PRODUCT_CREATION_TIME = 2023-02-09T17:15:12.000Z
PRODUCT_ID = "H3653_0000_P14.TIF"
RELEASE_ID = 0004
REVISION_ID = 0000
/* QUALITY DATA ELEMENTS */
DATA_QUALITY_ID = 1
DATA_QUALITY_DESC = "Data calculated based on original SPICE kernels"
/* TIME DATA ELEMENTS */
SPACECRAFT_CLOCK_START_COUNT = "1/0111335481.07290"
SPACECRAFT_CLOCK_STOP_COUNT = "1/0111335763.06613"
START_TIME = 2006-11-11T14:32:36.516Z
STOP_TIME = 2006-11-11T14:35:41.160Z
/* ORBITAL DATA ELEMENTS */
ASCENDING_NODE_LONGITUDE = 151.71
MAXIMUM_RESOLUTION = 0.0642
FOOTPRINT_POINT_LATITUDE = (62.7697,62.7913,62.8288,62.8502, 62.8777,62.9049,62.9235,62.9493,62.9624 ,62.9796,62.9895,62.9907,63.0741,62.842 ,62.5305,62.2949,61.9817,61.663,61.3456 ,61.0235,60.7016,60.3755,60.0494,59.884 ,59.6362,59.3043,59.0535,58.8868, 58.7177,58.464,58.2953,58.1239,57.9532, 57.7823,57.6091,57.436,57.2636,57.0885, 56.9135,56.6504,56.4734,56.2967,56.1181 ,55.9393,55.6704,55.4898,55.2181, 55.0355,54.7607,54.6684,54.6631,54.6611 ,54.6581,54.6532,54.6462,54.6402, 54.6277,54.617,54.6016,54.5875,54.5738, 54.5523,54.5285,54.5261,54.5257,54.7082 ,54.8882,55.0687,55.3371,55.5157, 55.7816,55.9586,56.1353,56.3098,56.4847 ,56.745,56.918,57.091,57.2619,57.4333, 57.6047,57.858,58.0272,58.1958,58.363, 58.5305,58.8627,59.2762,59.7661,60.1703 ,60.4932,60.8114,61.1305,61.4448, 61.7603,62.0704,62.4594,62.7652,62.8418 ,62.7697)
FOOTPRINT_POINT_LONGITUDE = (253.48,253.872,254.601,255.051,255.671 ,256.348,256.857,257.65,258.105,258.789 ,259.246,259.304,259.41,259.451,259.504 ,259.544,259.596,259.647,259.697, 259.746,259.794,259.841,259.887,259.91, 259.945,259.989,260.022,260.044,260.066 ,260.098,260.119,260.14,260.161,260.182 ,260.202,260.223,260.243,260.263, 260.283,260.312,260.332,260.351,260.37, 260.39,260.418,260.437,260.465,260.483, 260.51,260.519,260.52,260.052,259.642, 259.173,258.647,258.297,257.655,257.189 ,256.606,256.141,255.734,255.152, 254.571,254.513,254.492,254.479,254.465 ,254.451,254.43,254.415,254.393,254.377 ,254.361,254.345,254.328,254.302, 254.285,254.267,254.249,254.23,254.211, 254.182,254.162,254.142,254.121,254.1, 254.057,254.001,253.931,253.87,253.819, 253.767,253.712,253.657,253.599,253.54, 253.463,253.401,253.385,253.48)
ORBIT_NUMBER = 3653
ORBITAL_ECCENTRICITY = 0.564
ORBITAL_INCLINATION = 86.68
ORBITAL_SEMIMAJOR_AXIS = 8537.61
PERIAPSIS_ALTITUDE = 346.06
PERIAPSIS_ARGUMENT_ANGLE = 75.28
PERIAPSIS_TIME = 2006-11-11T14:20:21.000Z
SPACECRAFT_ORIENTATION = (0.0,1.0,0.0)
^MEX_ORIENTATION_DESC = "MEX_ORIENTATION_DESC.TXT"
SPACECRAFT_POINTING_MODE = ACROSSTRACK
^MEX_POINTING_DESC = "MEX_POINTING_DESC.TXT"
RIGHT_ASCENSION = -1e+32
DECLINATION = -1e+32
OFFSET_ANGLE = 0.15
SPACECRAFT_SOLAR_DISTANCE = 2.3603e+08
TARGET_NAME = MARS
/* CAMERA DATA ELEMENTS */
DETECTOR_TEMPERATURE = 17.351
FOCAL_PLANE_TEMPERATURE = 7.5638
INST_CMPRS_NAME = "DISCRETE COSINE TRANSFORMATION (DCT)"
INST_CMPRS_RATIO = 12.4114
INST_CMPRS_QUALITY = 0
INST_CMPRS_QUANTZ_TBL_ID = 0
INSTRUMENT_TEMPERATURE = 11.234
LENS_TEMPERATURE = 8.1755
MACROPIXEL_SIZE = 2
MISSING_FRAMES = 0
PIXEL_SUBSAMPLING_FLAG = N
SIGNAL_CHAIN_ID = 3
/* RADIOMETRIC DATA ELEMENTS */
BANDWIDTH = 174.0
CENTER_FILTER_WAVELENGTH = 675.0
RADIANCE_OFFSET = 3.77612
RADIANCE_SCALING_FACTOR = 0.0181805
REFLECTANCE_SCALING_FACTOR = 0.000544778
MEX:REFLECTANCE_OFFSET = 0.113151
/* IMAGE OBJECT DEFINITIONS */
OBJECT = IMAGE
  INTERCHANGE_FORMAT = BINARY
  LINES = 10602
  LINE_SAMPLES = 4149
  SAMPLE_TYPE = UNSIGNED_INTEGER
  SAMPLE_BITS = 8
  BANDS = 1
  BAND_STORAGE_TYPE = BAND_SEQUENTIAL
  MAXIMUM = 255
  MEAN = 182.011
  MINIMUM = 1
  STANDARD_DEVIATION = 19.3065
END_OBJECT = IMAGE
/* MAP OBJECT DEFINITIONS */
OBJECT = IMAGE_MAP_PROJECTION
  ^DATA_SET_MAP_PROJECTION_CATALOG= "DSMAP.CAT"
  A_AXIS_RADIUS = 3396.0
  B_AXIS_RADIUS = 3396.0
  C_AXIS_RADIUS = 3396.0
  CENTER_LATITUDE = 0.0
  CENTER_LONGITUDE = 257.0
  COORDINATE_SYSTEM_NAME = PLANETOGRAPHIC
  COORDINATE_SYSTEM_TYPE = "BODY-FIXED ROTATING"
  EASTERNMOST_LONGITUDE = 260.52
  FIRST_STANDARD_PARALLEL = "N/A"
  LINE_FIRST_PIXEL = 1
  LINE_LAST_PIXEL = 10602
  LINE_PROJECTION_OFFSET = 73064.25
  MAP_PROJECTION_ROTATION = 0.0
  MAP_PROJECTION_TYPE = SINUSOIDAL
  MAP_RESOLUTION = 1185.42760773333
  MAP_SCALE = 0.05
  MAXIMUM_LATITUDE = 63.0741
  MINIMUM_LATITUDE = 54.5257
  POSITIVE_LONGITUDE_DIRECTION = EAST
  REFERENCE_LATITUDE = "N/A"
  REFERENCE_LONGITUDE = "N/A"
  SAMPLE_FIRST_PIXEL = 1
  SAMPLE_LAST_PIXEL = 4149
  SAMPLE_PROJECTION_OFFSET = 1763.25
  SECOND_STANDARD_PARALLEL = "N/A"
  WESTERNMOST_LONGITUDE = 253.385
END_OBJECT = IMAGE_MAP_PROJECTION
END
