PDS_VERSION_ID = PDS3
/* FILE DATA ELEMENTS */
RECORD_TYPE = UNDEFINED
/* POINTERS TO DATA OBJECTS */
^IMAGE = ("H3657_0000_GR4.TIF")
/* IDENTIFICATION DATA ELEMENTS */
DATA_SET_ID = "MEX-M-HRSC-4-REFDR-MAPPROJECT-EXT1-V4.0"
DATA_SET_NAME = "MARS EXPRESS HRSC MAP PROJECTED REFDR EXTENSION1 V4.0"
DETECTOR_ID = MEX_HRSC_GREEN
EVENT_TYPE = "MARS-REGIONAL-MAPPING-Im-Pf-Eo"
INSTRUMENT_HOST_ID = MEX
INSTRUMENT_HOST_NAME = "MARS EXPRESS"
INSTRUMENT_ID = HRSC
INSTRUMENT_NAME = "HIGH RESOLUTION STEREO CAMERA"
MISSION_NAME = "MARS EXPRESS"
MISSION_PHASE_NAME = ME_Phase_5
PROCESSING_LEVEL_ID = 4
PRODUCT_CREATION_TIME = 2023-02-09T17:15:12.000Z
PRODUCT_ID = "H3657_0000_GR4.TIF"
RELEASE_ID = 0004
REVISION_ID = 0000
/* QUALITY DATA ELEMENTS */
DATA_QUALITY_ID = 1
DATA_QUALITY_DESC = "Data calculated based on original SPICE kernels"
/* TIME DATA ELEMENTS */
SPACECRAFT_CLOCK_START_COUNT = "1/0111432342.09031"
SPACECRAFT_CLOCK_STOP_COUNT = "1/0111432618.35940"
START_TIME = 2006-11-12T17:26:38.628Z
STOP_TIME = 2006-11-12T17:29:21.490Z
/* ORBITAL DATA ELEMENTS */
ASCENDING_NODE_LONGITUDE = 151.63
MAXIMUM_RESOLUTION = 0.1408
FOOTPRINT_POINT_LATITUDE = (56.7355,56.7592,56.7788,56.8037, 56.8281,56.8479,56.8608,56.8724,56.8886 ,56.8968,56.9046,56.9108,56.9114, 56.9289,56.5798,56.3015,56.0192,55.7366 ,55.5238,55.2369,54.9509,54.66,54.3701, 54.0758,53.782,53.4841,53.111,52.96, 52.6587,52.4299,52.2772,52.1248,51.8932 ,51.7387,51.5844,51.3498,51.1935, 51.0373,50.8789,50.7206,50.5628,50.4025 ,50.2425,50.0828,49.9209,49.6783, 49.4336,49.3518,49.3328,49.3342,49.3348 ,49.3344,49.3328,49.3306,49.3269, 49.3205,49.3132,49.3044,49.2955,49.2883 ,49.2741,49.2598,49.244,49.2333,49.2311 ,49.2315,49.3933,49.5546,49.7143, 49.8744,50.1125,50.2707,50.5074,50.6637 ,50.8203,50.9762,51.1307,51.2855, 51.4403,51.593,51.8223,51.9753,52.126, 52.3527,52.5038,52.802,53.2473,53.6162, 53.907,54.1987,54.4857,54.8448,55.1282, 55.4827,55.7623,56.1123,56.388,56.6645, 56.7338,56.7355)
FOOTPRINT_POINT_LONGITUDE = (221.172,221.63,222.038,222.598,223.21, 223.772,224.18,224.588,225.253,225.663, 226.125,226.587,226.639,226.714,226.753 ,226.783,226.813,226.843,226.865, 226.894,226.922,226.95,226.977,227.005, 227.031,227.058,227.09,227.103,227.128, 227.147,227.159,227.172,227.19,227.202, 227.214,227.232,227.243,227.255,227.267 ,227.278,227.29,227.301,227.312,227.323 ,227.335,227.351,227.368,227.373, 227.374,227.055,226.678,226.408,225.977 ,225.655,225.279,224.796,224.367, 223.937,223.561,223.293,222.809,222.38, 221.95,221.681,221.627,221.609,221.604, 221.599,221.594,221.589,221.58,221.575, 221.566,221.559,221.552,221.546,221.538 ,221.531,221.524,221.516,221.504, 221.496,221.487,221.474,221.465,221.447 ,221.418,221.392,221.37,221.348,221.324 ,221.294,221.269,221.236,221.209, 221.174,221.145,221.115,221.107, 221.172)
ORBIT_NUMBER = 3657
ORBITAL_ECCENTRICITY = 0.564
ORBITAL_INCLINATION = 86.69
ORBITAL_SEMIMAJOR_AXIS = 8537.99
PERIAPSIS_ALTITUDE = 345.39
PERIAPSIS_ARGUMENT_ANGLE = 74.59
PERIAPSIS_TIME = 2006-11-12T17:12:52.000Z
SPACECRAFT_ORIENTATION = (0.0,1.0,0.0)
^MEX_ORIENTATION_DESC = "MEX_ORIENTATION_DESC.TXT"
SPACECRAFT_POINTING_MODE = NADIR
^MEX_POINTING_DESC = "MEX_POINTING_DESC.TXT"
RIGHT_ASCENSION = -1e+32
DECLINATION = -1e+32
OFFSET_ANGLE = -1e+32
SPACECRAFT_SOLAR_DISTANCE = 2.35834e+08
TARGET_NAME = MARS
/* CAMERA DATA ELEMENTS */
DETECTOR_TEMPERATURE = 17.9627
FOCAL_PLANE_TEMPERATURE = 7.7677
INST_CMPRS_NAME = "DISCRETE COSINE TRANSFORMATION (DCT)"
INST_CMPRS_RATIO = 15.5988
INST_CMPRS_QUALITY = 0
INST_CMPRS_QUANTZ_TBL_ID = 0
INSTRUMENT_TEMPERATURE = 11.0301
LENS_TEMPERATURE = 7.9716
MACROPIXEL_SIZE = 4
MISSING_FRAMES = 0
PIXEL_SUBSAMPLING_FLAG = N
SIGNAL_CHAIN_ID = 2
/* RADIOMETRIC DATA ELEMENTS */
BANDWIDTH = 88.0
CENTER_FILTER_WAVELENGTH = 538.0
RADIANCE_OFFSET = 1.7935
RADIANCE_SCALING_FACTOR = 0.00303598
REFLECTANCE_SCALING_FACTOR = 0.000145377
MEX:REFLECTANCE_OFFSET = 0.0858814
/* IMAGE OBJECT DEFINITIONS */
OBJECT = IMAGE
  INTERCHANGE_FORMAT = BINARY
  LINES = 4627
  LINE_SAMPLES = 2226
  SAMPLE_TYPE = UNSIGNED_INTEGER
  SAMPLE_BITS = 8
  BANDS = 1
  BAND_STORAGE_TYPE = BAND_SEQUENTIAL
  MAXIMUM = 255
  MEAN = 153.763
  MINIMUM = 1
  STANDARD_DEVIATION = 42.6526
END_OBJECT = IMAGE
/* MAP OBJECT DEFINITIONS */
OBJECT = IMAGE_MAP_PROJECTION
  ^DATA_SET_MAP_PROJECTION_CATALOG= "DSMAP.CAT"
  A_AXIS_RADIUS = 3396.0
  B_AXIS_RADIUS = 3396.0
  C_AXIS_RADIUS = 3396.0
  CENTER_LATITUDE = 0.0
  CENTER_LONGITUDE = 224.0
  COORDINATE_SYSTEM_NAME = PLANETOGRAPHIC
  COORDINATE_SYSTEM_TYPE = "BODY-FIXED ROTATING"
  EASTERNMOST_LONGITUDE = 227.374
  FIRST_STANDARD_PARALLEL = "N/A"
  LINE_FIRST_PIXEL = 1
  LINE_LAST_PIXEL = 4627
  LINE_PROJECTION_OFFSET = 33467.875
  MAP_PROJECTION_ROTATION = 0.0
  MAP_PROJECTION_TYPE = SINUSOIDAL
  MAP_RESOLUTION = 592.713803866667
  MAP_SCALE = 0.1
  MAXIMUM_LATITUDE = 56.9289
  MINIMUM_LATITUDE = 49.2311
  POSITIVE_LONGITUDE_DIRECTION = EAST
  REFERENCE_LATITUDE = "N/A"
  REFERENCE_LONGITUDE = "N/A"
  SAMPLE_FIRST_PIXEL = 1
  SAMPLE_LAST_PIXEL = 2226
  SAMPLE_PROJECTION_OFFSET = 913.875
  SECOND_STANDARD_PARALLEL = "N/A"
  WESTERNMOST_LONGITUDE = 221.107
END_OBJECT = IMAGE_MAP_PROJECTION
END
