PDS_VERSION_ID = PDS3
/* FILE DATA ELEMENTS */
RECORD_TYPE = UNDEFINED
/* POINTERS TO DATA OBJECTS */
^IMAGE = ("H3657_0000_P14.TIF")
/* IDENTIFICATION DATA ELEMENTS */
DATA_SET_ID = "MEX-M-HRSC-4-REFDR-MAPPROJECT-EXT1-V4.0"
DATA_SET_NAME = "MARS EXPRESS HRSC MAP PROJECTED REFDR EXTENSION1 V4.0"
DETECTOR_ID = MEX_HRSC_P1
EVENT_TYPE = "MARS-REGIONAL-MAPPING-Im-Pf-Eo"
INSTRUMENT_HOST_ID = MEX
INSTRUMENT_HOST_NAME = "MARS EXPRESS"
INSTRUMENT_ID = HRSC
INSTRUMENT_NAME = "HIGH RESOLUTION STEREO CAMERA"
MISSION_NAME = "MARS EXPRESS"
MISSION_PHASE_NAME = ME_Phase_5
PROCESSING_LEVEL_ID = 4
PRODUCT_CREATION_TIME = 2023-02-09T17:15:12.000Z
PRODUCT_ID = "H3657_0000_P14.TIF"
RELEASE_ID = 0004
REVISION_ID = 0000
/* QUALITY DATA ELEMENTS */
DATA_QUALITY_ID = 1
DATA_QUALITY_DESC = "Data calculated based on original SPICE kernels"
/* TIME DATA ELEMENTS */
SPACECRAFT_CLOCK_START_COUNT = "1/0111432342.09031"
SPACECRAFT_CLOCK_STOP_COUNT = "1/0111432618.35940"
START_TIME = 2006-11-12T17:27:02.955Z
STOP_TIME = 2006-11-12T17:29:54.874Z
/* ORBITAL DATA ELEMENTS */
ASCENDING_NODE_LONGITUDE = 151.63
MAXIMUM_RESOLUTION = 0.075
FOOTPRINT_POINT_LATITUDE = (58.1024,58.1193,58.1405,58.1603, 58.1787,58.1957,58.2076,58.2222,58.2306 ,58.2401,58.2514,58.2614,58.2711, 58.2766,58.2826,58.2833,58.3614,57.9555 ,57.6844,57.3413,56.9277,56.6496, 56.2995,56.0187,55.8056,55.5213,55.3059 ,55.0184,54.8006,54.3632,54.0694, 53.7728,53.4748,53.1748,53.0239,52.8722 ,52.7207,52.5679,52.4147,52.1846, 52.0298,51.8755,51.719,51.4852,51.3277, 51.1701,51.0914,51.0904,51.0919,51.0931 ,51.0927,51.0922,51.0901,51.0884, 51.0865,51.0842,51.0813,51.0771,51.0734 ,51.0695,51.0638,51.0576,51.0521,51.046 ,51.0382,51.0315,51.0226,51.015,51.0002 ,50.9978,50.9973,51.1527,51.386,51.6166 ,51.7708,51.9229,52.0754,52.3025, 52.4535,52.7536,53.0523,53.3483,53.6422 ,53.8624,54.08,54.3702,54.6571,54.8721, 55.1561,55.5793,55.8604,56.1379,56.4839 ,56.7587,57.1677,57.4401,57.8421, 58.1102,58.1763,58.1024)
FOOTPRINT_POINT_LONGITUDE = (220.816,221.16,221.618,222.077,222.535 ,222.994,223.339,223.798,224.085,224.43 ,224.89,225.351,225.87,226.217,226.679, 226.737,226.823,226.876,226.911,226.954 ,227.005,227.039,227.08,227.112,227.137 ,227.169,227.192,227.223,227.247, 227.292,227.323,227.352,227.382,227.411 ,227.426,227.44,227.454,227.469,227.483 ,227.504,227.518,227.532,227.546, 227.567,227.58,227.594,227.601,227.601, 227.175,226.747,226.441,226.196,225.769 ,225.525,225.282,225.038,224.794,224.49 ,224.246,224.002,223.697,223.392, 223.149,222.905,222.6,222.356,222.051, 221.807,221.38,221.319,221.297,221.291, 221.282,221.272,221.265,221.258,221.251 ,221.24,221.232,221.216,221.199,221.181 ,221.162,221.148,221.132,221.111, 221.089,221.072,221.049,221.012,220.986 ,220.96,220.925,220.897,220.852,220.821 ,220.773,220.739,220.731,220.816)
ORBIT_NUMBER = 3657
ORBITAL_ECCENTRICITY = 0.564
ORBITAL_INCLINATION = 86.69
ORBITAL_SEMIMAJOR_AXIS = 8537.99
PERIAPSIS_ALTITUDE = 345.39
PERIAPSIS_ARGUMENT_ANGLE = 74.59
PERIAPSIS_TIME = 2006-11-12T17:12:52.000Z
SPACECRAFT_ORIENTATION = (0.0,1.0,0.0)
^MEX_ORIENTATION_DESC = "MEX_ORIENTATION_DESC.TXT"
SPACECRAFT_POINTING_MODE = NADIR
^MEX_POINTING_DESC = "MEX_POINTING_DESC.TXT"
RIGHT_ASCENSION = -1e+32
DECLINATION = -1e+32
OFFSET_ANGLE = -1e+32
SPACECRAFT_SOLAR_DISTANCE = 2.35834e+08
TARGET_NAME = MARS
/* CAMERA DATA ELEMENTS */
DETECTOR_TEMPERATURE = 17.1471
FOCAL_PLANE_TEMPERATURE = 7.7677
INST_CMPRS_NAME = "DISCRETE COSINE TRANSFORMATION (DCT)"
INST_CMPRS_RATIO = 11.0733
INST_CMPRS_QUALITY = 0
INST_CMPRS_QUANTZ_TBL_ID = 0
INSTRUMENT_TEMPERATURE = 11.0301
LENS_TEMPERATURE = 7.9716
MACROPIXEL_SIZE = 2
MISSING_FRAMES = 0
PIXEL_SUBSAMPLING_FLAG = N
SIGNAL_CHAIN_ID = 3
/* RADIOMETRIC DATA ELEMENTS */
BANDWIDTH = 174.0
CENTER_FILTER_WAVELENGTH = 675.0
RADIANCE_OFFSET = 5.20433
RADIANCE_SCALING_FACTOR = 0.0157643
REFLECTANCE_SCALING_FACTOR = 0.000471595
MEX:REFLECTANCE_OFFSET = 0.155689
/* IMAGE OBJECT DEFINITIONS */
OBJECT = IMAGE
  INTERCHANGE_FORMAT = BINARY
  LINES = 9253
  LINE_SAMPLES = 4452
  SAMPLE_TYPE = UNSIGNED_INTEGER
  SAMPLE_BITS = 8
  BANDS = 1
  BAND_STORAGE_TYPE = BAND_SEQUENTIAL
  MAXIMUM = 255
  MEAN = 183.204
  MINIMUM = 29
  STANDARD_DEVIATION = 25.9271
END_OBJECT = IMAGE
/* MAP OBJECT DEFINITIONS */
OBJECT = IMAGE_MAP_PROJECTION
  ^DATA_SET_MAP_PROJECTION_CATALOG= "DSMAP.CAT"
  A_AXIS_RADIUS = 3396.0
  B_AXIS_RADIUS = 3396.0
  C_AXIS_RADIUS = 3396.0
  CENTER_LATITUDE = 0.0
  CENTER_LONGITUDE = 224.0
  COORDINATE_SYSTEM_NAME = PLANETOGRAPHIC
  COORDINATE_SYSTEM_TYPE = "BODY-FIXED ROTATING"
  EASTERNMOST_LONGITUDE = 227.601
  FIRST_STANDARD_PARALLEL = "N/A"
  LINE_FIRST_PIXEL = 1
  LINE_LAST_PIXEL = 9253
  LINE_PROJECTION_OFFSET = 66936.25
  MAP_PROJECTION_ROTATION = 0.0
  MAP_PROJECTION_TYPE = SINUSOIDAL
  MAP_RESOLUTION = 1185.42760773333
  MAP_SCALE = 0.05
  MAXIMUM_LATITUDE = 58.3614
  MINIMUM_LATITUDE = 50.9973
  POSITIVE_LONGITUDE_DIRECTION = EAST
  REFERENCE_LATITUDE = "N/A"
  REFERENCE_LONGITUDE = "N/A"
  SAMPLE_FIRST_PIXEL = 1
  SAMPLE_LAST_PIXEL = 4452
  SAMPLE_PROJECTION_OFFSET = 1828.25
  SECOND_STANDARD_PARALLEL = "N/A"
  WESTERNMOST_LONGITUDE = 220.731
END_OBJECT = IMAGE_MAP_PROJECTION
END
