PDS_VERSION_ID = PDS3
/* FILE DATA ELEMENTS */
RECORD_TYPE = UNDEFINED
/* POINTERS TO DATA OBJECTS */
^IMAGE = ("H3685_0000_S14.TIF")
/* IDENTIFICATION DATA ELEMENTS */
DATA_SET_ID = "MEX-M-HRSC-4-REFDR-MAPPROJECT-EXT1-V4.0"
DATA_SET_NAME = "MARS EXPRESS HRSC MAP PROJECTED REFDR EXTENSION1 V4.0"
DETECTOR_ID = MEX_HRSC_S1
EVENT_TYPE = "MARS-REGIONAL-MAPPING-Gl-Eo-La"
INSTRUMENT_HOST_ID = MEX
INSTRUMENT_HOST_NAME = "MARS EXPRESS"
INSTRUMENT_ID = HRSC
INSTRUMENT_NAME = "HIGH RESOLUTION STEREO CAMERA"
MISSION_NAME = "MARS EXPRESS"
MISSION_PHASE_NAME = ME_Phase_6
PROCESSING_LEVEL_ID = 4
PRODUCT_CREATION_TIME = 2023-02-09T17:15:12.000Z
PRODUCT_ID = "H3685_0000_S14.TIF"
RELEASE_ID = 0004
REVISION_ID = 0000
/* QUALITY DATA ELEMENTS */
DATA_QUALITY_ID = 1
DATA_QUALITY_DESC = "Data calculated based on original SPICE kernels"
/* TIME DATA ELEMENTS */
SPACECRAFT_CLOCK_START_COUNT = "1/0112109169.07286"
SPACECRAFT_CLOCK_STOP_COUNT = "1/0112109447.02535"
START_TIME = 2006-11-20T13:27:41.765Z
STOP_TIME = 2006-11-20T13:30:49.587Z
/* ORBITAL DATA ELEMENTS */
ASCENDING_NODE_LONGITUDE = 151.04
MAXIMUM_RESOLUTION = 0.0415
FOOTPRINT_POINT_LATITUDE = (85.1695,85.4877,85.6944,86.0312,86.246 ,86.4402,86.4514,86.5807,86.389,86.1107 ,85.8229,85.6682,85.5118,85.3541, 85.1948,85.0328,84.7857,84.6202,84.3605 ,84.0929,83.9147,83.7321,83.5507, 83.2769,83.091,82.9047,82.7182,82.5285, 82.3378,82.1473,81.8574,81.663,81.4689, 81.2714,80.9745,80.6739,80.4729,80.2724 ,80.0676,79.8636,79.6633,79.4532, 79.2454,78.9326,78.7224,78.4047,78.1922 ,77.9761,77.6527,77.4341,77.3249, 77.3159,77.2796,77.211,77.1661,77.0878, 76.9844,76.9196,76.7987,76.792,76.7903, 77.0015,77.2117,77.4197,77.6281,77.9356 ,78.1399,78.4424,78.6434,78.8414, 79.0395,79.3337,79.6249,79.9097,80.1945 ,80.4725,80.6579,80.9318,81.1129, 81.3821,81.5581,81.7334,81.9072,82.1625 ,82.3313,82.4977,82.6612,82.9039, 83.1417,83.3756,83.6007,83.745,83.8863, 84.0933,84.3577,84.6668,84.8946,85.1534 ,85.2009,85.1695)
FOOTPRINT_POINT_LONGITUDE = (300.966,303.536,305.452,309.116,311.91 ,314.849,315.032,314.006,317.176, 320.964,324.209,325.704,327.091,328.379 ,329.58,330.717,332.288,333.25,334.612, 335.874,336.643,337.379,338.07,339.036, 339.646,340.223,340.77,341.295,341.795, 342.27,342.947,343.374,343.78,344.173, 344.73,345.255,345.588,345.909,346.218, 346.515,346.804,347.08,347.345,347.731, 347.975,348.329,348.553,348.772,349.086 ,349.288,349.387,349.395,348.414, 346.754,345.788,344.256,342.458,341.43, 339.676,339.585,339.551,339.263,338.967 ,338.662,338.345,337.855,337.515, 336.984,336.615,336.237,335.842,335.223 ,334.574,333.901,333.181,332.432, 331.903,331.075,330.494,329.576,328.94, 328.273,327.579,326.489,325.721,324.922 ,324.091,322.769,321.349,319.831, 318.229,317.121,315.972,314.148,311.492 ,307.864,304.662,300.285,299.361, 300.966)
ORBIT_NUMBER = 3685
ORBITAL_ECCENTRICITY = 0.564
ORBITAL_INCLINATION = 86.68
ORBITAL_SEMIMAJOR_AXIS = 8539.63
PERIAPSIS_ALTITUDE = 345.54
PERIAPSIS_ARGUMENT_ANGLE = 69.61
PERIAPSIS_TIME = 2006-11-20T13:21:00.000Z
SPACECRAFT_ORIENTATION = (0.0,1.0,0.0)
^MEX_ORIENTATION_DESC = "MEX_ORIENTATION_DESC.TXT"
SPACECRAFT_POINTING_MODE = NADIR
^MEX_POINTING_DESC = "MEX_POINTING_DESC.TXT"
RIGHT_ASCENSION = -1e+32
DECLINATION = -1e+32
OFFSET_ANGLE = -1e+32
SPACECRAFT_SOLAR_DISTANCE = 2.34442e+08
TARGET_NAME = MARS
/* CAMERA DATA ELEMENTS */
DETECTOR_TEMPERATURE = 17.1471
FOCAL_PLANE_TEMPERATURE = 7.7677
INST_CMPRS_NAME = "DISCRETE COSINE TRANSFORMATION (DCT)"
INST_CMPRS_RATIO = 11.2582
INST_CMPRS_QUALITY = 0
INST_CMPRS_QUANTZ_TBL_ID = 0
INSTRUMENT_TEMPERATURE = 10.8262
LENS_TEMPERATURE = 8.3794
MACROPIXEL_SIZE = 2
MISSING_FRAMES = 1
PIXEL_SUBSAMPLING_FLAG = N
SIGNAL_CHAIN_ID = 1
/* RADIOMETRIC DATA ELEMENTS */
BANDWIDTH = 180.0
CENTER_FILTER_WAVELENGTH = 677.0
RADIANCE_OFFSET = 2.15434
RADIANCE_SCALING_FACTOR = 0.0228106
REFLECTANCE_SCALING_FACTOR = 0.000654104
MEX:REFLECTANCE_OFFSET = 0.0617765
/* IMAGE OBJECT DEFINITIONS */
OBJECT = IMAGE
  INTERCHANGE_FORMAT = BINARY
  LINES = 23115
  LINE_SAMPLES = 14157
  SAMPLE_TYPE = UNSIGNED_INTEGER
  SAMPLE_BITS = 8
  BANDS = 1
  BAND_STORAGE_TYPE = BAND_SEQUENTIAL
  MAXIMUM = 255
  MEAN = 128.663
  MINIMUM = 1
  STANDARD_DEVIATION = 58.9817
END_OBJECT = IMAGE
/* MAP OBJECT DEFINITIONS */
OBJECT = IMAGE_MAP_PROJECTION
  ^DATA_SET_MAP_PROJECTION_CATALOG= "DSMAP.CAT"
  A_AXIS_RADIUS = 3396.0
  B_AXIS_RADIUS = 3396.0
  C_AXIS_RADIUS = 3396.0
  CENTER_LATITUDE = 0.0
  CENTER_LONGITUDE = 335.0
  COORDINATE_SYSTEM_NAME = PLANETOGRAPHIC
  COORDINATE_SYSTEM_TYPE = "BODY-FIXED ROTATING"
  EASTERNMOST_LONGITUDE = 349.395
  FIRST_STANDARD_PARALLEL = "N/A"
  LINE_FIRST_PIXEL = 1
  LINE_LAST_PIXEL = 23115
  LINE_PROJECTION_OFFSET = 205159.75
  MAP_PROJECTION_ROTATION = 0.0
  MAP_PROJECTION_TYPE = SINUSOIDAL
  MAP_RESOLUTION = 2370.85521546667
  MAP_SCALE = 0.025
  MAXIMUM_LATITUDE = 86.58069999999999
  MINIMUM_LATITUDE = 76.7903
  POSITIVE_LONGITUDE_DIRECTION = EAST
  REFERENCE_LATITUDE = "N/A"
  REFERENCE_LONGITUDE = "N/A"
  SAMPLE_FIRST_PIXEL = 1
  SAMPLE_LAST_PIXEL = 14157
  SAMPLE_PROJECTION_OFFSET = 6937.75
  SECOND_STANDARD_PARALLEL = "N/A"
  WESTERNMOST_LONGITUDE = 299.361
END_OBJECT = IMAGE_MAP_PROJECTION
END
