PDS_VERSION_ID = PDS3
/* FILE DATA ELEMENTS */
RECORD_TYPE = UNDEFINED
/* POINTERS TO DATA OBJECTS */
^IMAGE = ("H3711_0000_BL4.TIF")
/* IDENTIFICATION DATA ELEMENTS */
DATA_SET_ID = "MEX-M-HRSC-4-REFDR-MAPPROJECT-EXT1-V4.0"
DATA_SET_NAME = "MARS EXPRESS HRSC MAP PROJECTED REFDR EXTENSION1 V4.0"
DETECTOR_ID = MEX_HRSC_BLUE
EVENT_TYPE = "MARS-REGIONAL-MAPPING-Pf-Eo-La"
INSTRUMENT_HOST_ID = MEX
INSTRUMENT_HOST_NAME = "MARS EXPRESS"
INSTRUMENT_ID = HRSC
INSTRUMENT_NAME = "HIGH RESOLUTION STEREO CAMERA"
MISSION_NAME = "MARS EXPRESS"
MISSION_PHASE_NAME = ME_Phase_6
PROCESSING_LEVEL_ID = 4
PRODUCT_CREATION_TIME = 2023-02-09T17:15:12.000Z
PRODUCT_ID = "H3711_0000_BL4.TIF"
RELEASE_ID = 0004
REVISION_ID = 0000
/* QUALITY DATA ELEMENTS */
DATA_QUALITY_ID = 1
DATA_QUALITY_DESC = "Data calculated based on original SPICE kernels"
/* TIME DATA ELEMENTS */
SPACECRAFT_CLOCK_START_COUNT = "1/0112738208.08248"
SPACECRAFT_CLOCK_STOP_COUNT = "1/0112738617.57078"
START_TIME = 2006-11-27T20:10:53.990Z
STOP_TIME = 2006-11-27T20:15:02.673Z
/* ORBITAL DATA ELEMENTS */
ASCENDING_NODE_LONGITUDE = 150.51
MAXIMUM_RESOLUTION = 0.0425
FOOTPRINT_POINT_LATITUDE = (82.4451,82.7604,82.9796,83.1902, 83.3918,83.5845,83.7684,83.7795,83.7412 ,83.2722,82.777,82.4688,82.0455,81.828, 81.6077,81.2723,81.0441,80.8134,80.5793 ,80.2257,79.9821,79.619,79.372,79.1243, 78.7469,78.4938,78.2365,77.9786,77.7174 ,77.4548,77.1889,76.9215,76.651,76.3792 ,76.1045,75.8286,75.5492,75.1274, 74.8433,74.5564,74.1229,73.8312,73.5364 ,73.0908,72.6402,72.1844,71.8782, 71.4494,70.8214,70.6632,70.6548,70.5787 ,70.4936,70.3553,70.2474,70.1299, 70.0106,70.0024,70.0002,70.3093,70.7678 ,71.186,71.4845,71.9282,72.3662,72.7991 ,73.0848,73.3674,73.7869,74.0641, 74.3382,74.7445,75.0133,75.2783,75.5419 ,75.8021,76.0605,76.3156,76.5688, 76.8187,77.0668,77.311,77.5547,77.7932, 78.1478,78.3801,78.611,78.949,79.1748, 79.5017,79.7172,79.9277,80.1362,80.6412 ,81.0271,81.3964,81.7486,82.2467,82.325 ,82.4451)
FOOTPRINT_POINT_LONGITUDE = (273.488,275.508,277.06,278.685,280.384 ,282.163,284.025,284.144,284.1,287.526, 290.53,292.15,294.129,295.051,295.927, 297.161,297.939,298.674,299.386,300.389 ,301.033,301.931,302.504,303.049, 303.828,304.32,304.797,305.253,305.693, 306.115,306.523,306.915,307.295,307.66, 308.013,308.354,308.684,309.158,309.461 ,309.755,310.177,310.448,310.711,311.09 ,311.452,311.798,312.02,312.317,312.727 ,312.826,312.831,311.627,310.418, 308.678,307.466,306.252,305.113,305.037 ,305.009,304.761,304.376,304.005, 303.728,303.297,302.845,302.374,302.046 ,301.709,301.185,300.82,300.445,299.859 ,299.452,299.034,298.6,298.153,297.689, 297.212,296.717,296.207,295.677,295.131 ,294.564,293.979,293.058,292.42,291.754 ,290.715,289.975,288.838,288.038, 287.217,286.358,284.072,282.076,279.911 ,277.585,273.77,273.084,273.488)
ORBIT_NUMBER = 3711
ORBITAL_ECCENTRICITY = 0.564
ORBITAL_INCLINATION = 86.68
ORBITAL_SEMIMAJOR_AXIS = 8545.94
PERIAPSIS_ALTITUDE = 343.92
PERIAPSIS_ARGUMENT_ANGLE = 65.05
PERIAPSIS_TIME = 2006-11-27T20:03:13.000Z
SPACECRAFT_ORIENTATION = (0.0,1.0,0.0)
^MEX_ORIENTATION_DESC = "MEX_ORIENTATION_DESC.TXT"
SPACECRAFT_POINTING_MODE = ACROSSTRACK
^MEX_POINTING_DESC = "MEX_POINTING_DESC.TXT"
RIGHT_ASCENSION = -1e+32
DECLINATION = -1e+32
OFFSET_ANGLE = -1.6
SPACECRAFT_SOLAR_DISTANCE = 2.33113e+08
TARGET_NAME = MARS
/* CAMERA DATA ELEMENTS */
DETECTOR_TEMPERATURE = 17.9627
FOCAL_PLANE_TEMPERATURE = 7.3599
INST_CMPRS_NAME = "DISCRETE COSINE TRANSFORMATION (DCT)"
INST_CMPRS_RATIO = 4.68498
INST_CMPRS_QUALITY = 0
INST_CMPRS_QUANTZ_TBL_ID = 0
INSTRUMENT_TEMPERATURE = 10.8262
LENS_TEMPERATURE = 7.9716
MACROPIXEL_SIZE = 2
MISSING_FRAMES = 42
PIXEL_SUBSAMPLING_FLAG = N
SIGNAL_CHAIN_ID = 2
/* RADIOMETRIC DATA ELEMENTS */
BANDWIDTH = 76.0
CENTER_FILTER_WAVELENGTH = 444.0
RADIANCE_OFFSET = 0.404818
RADIANCE_SCALING_FACTOR = 0.00213705
REFLECTANCE_SCALING_FACTOR = 0.000119317
MEX:REFLECTANCE_OFFSET = 0.022602
/* IMAGE OBJECT DEFINITIONS */
OBJECT = IMAGE
  INTERCHANGE_FORMAT = BINARY
  LINES = 16283
  LINE_SAMPLES = 9369
  SAMPLE_TYPE = UNSIGNED_INTEGER
  SAMPLE_BITS = 8
  BANDS = 1
  BAND_STORAGE_TYPE = BAND_SEQUENTIAL
  MAXIMUM = 254
  MEAN = 94.1027
  MINIMUM = 1
  STANDARD_DEVIATION = 23.6372
END_OBJECT = IMAGE
/* MAP OBJECT DEFINITIONS */
OBJECT = IMAGE_MAP_PROJECTION
  ^DATA_SET_MAP_PROJECTION_CATALOG= "DSMAP.CAT"
  A_AXIS_RADIUS = 3396.0
  B_AXIS_RADIUS = 3396.0
  C_AXIS_RADIUS = 3396.0
  CENTER_LATITUDE = 0.0
  CENTER_LONGITUDE = 300.0
  COORDINATE_SYSTEM_NAME = PLANETOGRAPHIC
  COORDINATE_SYSTEM_TYPE = "BODY-FIXED ROTATING"
  EASTERNMOST_LONGITUDE = 312.831
  FIRST_STANDARD_PARALLEL = "N/A"
  LINE_FIRST_PIXEL = 1
  LINE_LAST_PIXEL = 16283
  LINE_PROJECTION_OFFSET = 99270.75
  MAP_PROJECTION_ROTATION = 0.0
  MAP_PROJECTION_TYPE = SINUSOIDAL
  MAP_RESOLUTION = 1185.42760773333
  MAP_SCALE = 0.05
  MAXIMUM_LATITUDE = 83.7795
  MINIMUM_LATITUDE = 70.00020000000001
  POSITIVE_LONGITUDE_DIRECTION = EAST
  REFERENCE_LATITUDE = "N/A"
  REFERENCE_LONGITUDE = "N/A"
  SAMPLE_FIRST_PIXEL = 1
  SAMPLE_LAST_PIXEL = 9369
  SAMPLE_PROJECTION_OFFSET = 4283.25
  SECOND_STANDARD_PARALLEL = "N/A"
  WESTERNMOST_LONGITUDE = 273.084
END_OBJECT = IMAGE_MAP_PROJECTION
END
