PDS_VERSION_ID = PDS3
/* FILE DATA ELEMENTS */
RECORD_TYPE = UNDEFINED
/* POINTERS TO DATA OBJECTS */
^IMAGE = ("H3737_0000_RE4.TIF")
/* IDENTIFICATION DATA ELEMENTS */
DATA_SET_ID = "MEX-M-HRSC-4-REFDR-MAPPROJECT-EXT1-V4.0"
DATA_SET_NAME = "MARS EXPRESS HRSC MAP PROJECTED REFDR EXTENSION1 V4.0"
DETECTOR_ID = MEX_HRSC_RED
EVENT_TYPE = "MARS-REGIONAL-MAPPING-Pf-Eo-La"
INSTRUMENT_HOST_ID = MEX
INSTRUMENT_HOST_NAME = "MARS EXPRESS"
INSTRUMENT_ID = HRSC
INSTRUMENT_NAME = "HIGH RESOLUTION STEREO CAMERA"
MISSION_NAME = "MARS EXPRESS"
MISSION_PHASE_NAME = ME_Phase_6
PROCESSING_LEVEL_ID = 4
PRODUCT_CREATION_TIME = 2023-02-09T17:15:12.000Z
PRODUCT_ID = "H3737_0000_RE4.TIF"
RELEASE_ID = 0004
REVISION_ID = 0000
/* QUALITY DATA ELEMENTS */
DATA_QUALITY_ID = 1
DATA_QUALITY_DESC = "Data calculated based on original SPICE kernels"
/* TIME DATA ELEMENTS */
SPACECRAFT_CLOCK_START_COUNT = "1/0113367236.08233"
SPACECRAFT_CLOCK_STOP_COUNT = "1/0113367622.06413"
START_TIME = 2006-12-05T02:54:09.851Z
STOP_TIME = 2006-12-05T02:57:22.988Z
/* ORBITAL DATA ELEMENTS */
ASCENDING_NODE_LONGITUDE = 149.97
MAXIMUM_RESOLUTION = 0.0473
FOOTPRINT_POINT_LATITUDE = (83.3767,83.5648,83.7571,83.9179, 84.1859,84.3811,84.4897,84.4984,84.4084 ,83.9469,83.5687,83.2787,82.8865, 82.4849,82.0782,81.8728,81.5566,81.3477 ,81.0298,80.8156,80.6023,80.3851, 80.1664,79.9478,79.615,79.3927,79.0546, 78.8287,78.485,78.2554,77.9064,77.6734, 77.4371,77.2006,76.842,76.4808,76.2382, 75.8708,75.6245,75.3763,75.1268,74.7493 ,74.4969,74.2411,73.856,73.5974,73.3368 ,73.2059,73.1536,73.1138,73.0473, 72.9838,72.8737,72.7968,72.7132,72.6301 ,72.6229,72.6212,73.0045,73.2572,73.509 ,73.7588,74.007,74.2528,74.4979,74.7405 ,74.9825,75.2216,75.4601,75.6957, 76.0471,76.2792,76.5104,76.7386,76.9664 ,77.1909,77.4145,77.7461,77.9658,78.291 ,78.5061,78.7195,78.9304,79.2444, 79.4508,79.7581,79.9593,80.1597,80.456, 80.6507,80.8478,81.038,81.2266,81.6884, 82.0461,82.3932,82.6475,83.137,83.2158, 83.3767)
FOOTPRINT_POINT_LONGITUDE = (246.679,248.488,250.53,252.42,256.041, 259.174,261.161,261.331,262.285,264.596 ,266.215,267.317,268.654,269.869, 270.959,271.466,272.203,272.65,273.294, 273.699,274.082,274.455,274.813,275.155 ,275.645,275.954,276.398,276.68,277.085 ,277.342,277.714,277.949,278.178, 278.399,278.717,279.02,279.213,279.494, 279.673,279.847,280.016,280.26,280.416, 280.569,280.789,280.93,281.068,281.136, 281.162,280.118,278.646,277.445,275.657 ,274.561,273.473,272.476,272.394, 272.363,272.055,271.844,271.625,271.401 ,271.17,270.932,270.688,270.437,270.177 ,269.911,269.635,269.353,268.912, 268.607,268.291,267.968,267.631,267.287 ,266.929,266.373,265.985,265.381, 264.959,264.524,264.075,263.368,262.879 ,262.106,261.571,261.013,260.138, 259.527,258.886,258.229,257.543,255.704 ,254.094,252.353,250.945,247.845, 247.292,246.679)
ORBIT_NUMBER = 3737
ORBITAL_ECCENTRICITY = 0.565
ORBITAL_INCLINATION = 86.66
ORBITAL_SEMIMAJOR_AXIS = 8556.95
PERIAPSIS_ALTITUDE = 342.21
PERIAPSIS_ARGUMENT_ANGLE = 60.43
PERIAPSIS_TIME = 2006-12-05T02:45:45.000Z
SPACECRAFT_ORIENTATION = (0.0,1.0,0.0)
^MEX_ORIENTATION_DESC = "MEX_ORIENTATION_DESC.TXT"
SPACECRAFT_POINTING_MODE = ACROSSTRACK
^MEX_POINTING_DESC = "MEX_POINTING_DESC.TXT"
RIGHT_ASCENSION = -1e+32
DECLINATION = -1e+32
OFFSET_ANGLE = -0.2
SPACECRAFT_SOLAR_DISTANCE = 2.31755e+08
TARGET_NAME = MARS
/* CAMERA DATA ELEMENTS */
DETECTOR_TEMPERATURE = 18.9822
FOCAL_PLANE_TEMPERATURE = 9.195
INST_CMPRS_NAME = "DISCRETE COSINE TRANSFORMATION (DCT)"
INST_CMPRS_RATIO = 10.7236
INST_CMPRS_QUALITY = 0
INST_CMPRS_QUANTZ_TBL_ID = 0
INSTRUMENT_TEMPERATURE = 11.6418
LENS_TEMPERATURE = 9.6028
MACROPIXEL_SIZE = 2
MISSING_FRAMES = 0
PIXEL_SUBSAMPLING_FLAG = N
SIGNAL_CHAIN_ID = 3
/* RADIOMETRIC DATA ELEMENTS */
BANDWIDTH = 48.0
CENTER_FILTER_WAVELENGTH = 748.0
RADIANCE_OFFSET = 0.399883
RADIANCE_SCALING_FACTOR = 0.00358936
REFLECTANCE_SCALING_FACTOR = 0.000439943
MEX:REFLECTANCE_OFFSET = 0.0490131
/* IMAGE OBJECT DEFINITIONS */
OBJECT = IMAGE
  INTERCHANGE_FORMAT = BINARY
  LINES = 14009
  LINE_SAMPLES = 7249
  SAMPLE_TYPE = UNSIGNED_INTEGER
  SAMPLE_BITS = 8
  BANDS = 1
  BAND_STORAGE_TYPE = BAND_SEQUENTIAL
  MAXIMUM = 255
  MEAN = 111.589
  MINIMUM = 1
  STANDARD_DEVIATION = 57.1543
END_OBJECT = IMAGE
/* MAP OBJECT DEFINITIONS */
OBJECT = IMAGE_MAP_PROJECTION
  ^DATA_SET_MAP_PROJECTION_CATALOG= "DSMAP.CAT"
  A_AXIS_RADIUS = 3396.0
  B_AXIS_RADIUS = 3396.0
  C_AXIS_RADIUS = 3396.0
  CENTER_LATITUDE = 0.0
  CENTER_LONGITUDE = 270.0
  COORDINATE_SYSTEM_NAME = PLANETOGRAPHIC
  COORDINATE_SYSTEM_TYPE = "BODY-FIXED ROTATING"
  EASTERNMOST_LONGITUDE = 281.162
  FIRST_STANDARD_PARALLEL = "N/A"
  LINE_FIRST_PIXEL = 1
  LINE_LAST_PIXEL = 14009
  LINE_PROJECTION_OFFSET = 100088.75
  MAP_PROJECTION_ROTATION = 0.0
  MAP_PROJECTION_TYPE = SINUSOIDAL
  MAP_RESOLUTION = 1185.42760773333
  MAP_SCALE = 0.05
  MAXIMUM_LATITUDE = 84.4984
  MINIMUM_LATITUDE = 72.6212
  POSITIVE_LONGITUDE_DIRECTION = EAST
  REFERENCE_LATITUDE = "N/A"
  REFERENCE_LONGITUDE = "N/A"
  SAMPLE_FIRST_PIXEL = 1
  SAMPLE_LAST_PIXEL = 7249
  SAMPLE_PROJECTION_OFFSET = 3295.25
  SECOND_STANDARD_PARALLEL = "N/A"
  WESTERNMOST_LONGITUDE = 246.679
END_OBJECT = IMAGE_MAP_PROJECTION
END
